{"text_format":"1","workbook":"xlsx","n_sheets":15,"sheets":["Instrucciones","HE-4 SOLAR","Sombras","C. Primario","Tablas primario","Informe calculo","Acumuladores","Captadores","Disipadores","Localidad Usuario","Posicion solar","Localidades","Datos SOLAR","Datos CTE","Factor K"],"not_rendered":{"charts":8,"images":24,"macros":1,"external_links":1,"defined_names":123,"comments":3,"pivot_tables":0},"unopened":[],"bounds":{"document_bytes":16777216,"sheet_cells":100000,"rows_first":2000,"rows_last":500,"rows_between":2000,"halvings":0,"cell_chars":16384,"cell_head_chars":4096},"cells_cut":0,"cells_raw":0,"read":"whole","date_system":"1900"}

{"sheet":"Instrucciones","index":0,"n_rows":138,"n_cols":10,"rows_kept":138,"cut":false,"hidden":false,"merged":[[7,8,10,10],[3,9,3,11],[1,7,1,11]]}
[]
[null,"1.- INTRODUCCIÓN DE DATOS",null,null,null,null,null,"Autor: Oscar Redondo Rivera.       o.redondo.rivera@gmail.com"]
[]
[null,"Tan solo es necesario introducir datos en las casillas en color blanco.",null,null,null,null,null,null,null,"Versión 3.1    Abril 2017"]
[null,"Las celdas en color azul con letra blanca señalan los datos que deben aportarse para el calculo"]
[null,"Las celdas en color azul claro con letra negra indican los datos que son calculados de forma automática"]
[]
[null,null,null,null,null,null,null,null,"Nota: La presente aplicación se proporciona bajo una licencia Creative Commons \"tal cual\", sin garantías implícitas o explícitas. Bajo ninguna circunstancia el autor se responsabiliza de su uso.  "]
[]
[]
[]
[]
[]
[null,"2.- DATOS DE RADIACIÓN SOLAR"]
[]
[null,"Se ofrecen dos posibilidades:"]
[null,"a) Atlas de radiación solar 2012 de AEMET. Empleado por el CTE-HE4 para establecer las zonas de radiación solar (opción por defecto)"]
[null,"b) Datos de radición solar del Pliego de Instalaciones solares de baja temperatura del IDAE, más conservadoras que las anteriores"]
[]
[null,"3.- ESTABLECER LA DEMANDA DE ACS SEGÚN CTE HE4 2013"]
[]
[null,"En primer lugar se establece como demnada principal la correspondiente a viviendas, "]
[null,"indicando el número de viviendas de que existen y su número de dormitorios"]
[null,"Se complementa la demanda con otros usos del edificio y se indica si el sistema de acumulación será centralizado o individual en cada vivienda"]
[]
[]
[]
[]
[]
[]
[]
[]
[]
[]
[]
[]
[]
[]
[]
[null,"4.- AJUSTE DEL VOLUMEN EL NÚMERO DE PANELES SOLARES"]
[]
[null,"La selección del captador solar  desde el catalogos de la aplicación"]
[null,"Es posible añadir nuevos equipos a la herramienta tan solo introduciendo sus caracteristicas en los listados"]
[null,"El ajuste del nº de paneles se realiza desde el cursor         que actualiza de forma automatica el calculo y la gráfica de aporte solar"]
[]
[]
[]
[]
[]
[]
[]
[]
[]
[]
[]
[]
[]
[]
[]
[]
[]
[]
[null,"5.- AJUSTE DEL VOLUMEN DE ACUMULACIÓN"]
[]
[null,"Selección del volumen de acumulación, para lo que se aportarán datos del volumen óptimo, mínimo y máximo según el número de"]
[null,"paneles solares que se haya selccinado en el apartado anterior"]
[null,"En la parte inferior se selecciona el método de disipación, bien mediante aerotermo (dispador dinámico) o drain back"]
[]
[]
[]
[]
[]
[]
[]
[]
[]
[]
[]
[]
[]
[]
[]
[]
[]
[]
[null,"6.- SOMBRAS"]
[]
[null,"En la pestaña \"Sombras\" se dispone de las herramientas para establecer los perfiles de obstrucción solar sobre la carta solar cilíndrica"]
[null,"La herramienta cuenta con dos perfiles de posición relativa a los paneles (peto de cubierta y obstáculo superior) en los que se pedirán las "]
[null,"distancias relativas entre el obstáculo y los captadores. Adicionalmente se podrán incluir obstáculos genericos según su azimut (angulo respecto "]
[null,"al sur), distancia y altura de cada uno de sus vertices."]
[null,"El programa analizará la obstrucción solar y determinará de forma automática los factores de corrección"]
[]
[]
[]
[]
[]
[]
[]
[]
[]
[]
[]
[]
[]
[]
[]
[]
[]
[]
[]
[]
[null,"7.- CALCULO DEL CIRCUITO PRIMARIO"]
[]
[null,"Permite el calculo del circuito primario, incluido los datos de selección del equipo de bombeo y vaso de expansión si fuera necesario"]
[null,"El dimesionado se realiza en función del caudal de cada tramo que puede indicarse de forma directa (caudal adicional) o asociado a los "]
[null,"paneles solares (nº de captadores a los que da servicio el tramo)"]
[]
[]
[]
[]
[]
[]
[]
[]
[]
[]
[]
[]
[]
[]
[]
[]
[]
[]
[null,"INFORME DE SALIDA"]
[]
[null,"Informe de calculo editable que resume en una página las principales características del ssitema calculado"]

{"sheet":"HE-4 SOLAR","index":1,"n_rows":159,"n_cols":23,"rows_kept":159,"cut":false,"hidden":false,"merged":[[20,7,20,8],[21,7,21,8],[47,4,47,7],[76,4,76,5],[78,4,78,5],[24,3,24,5],[24,7,24,10],[51,6,51,7],[27,7,27,10],[44,3,44,6],[38,8,52,16],[24,11,24,15],[27,3,27,5],[25,7,25,10],[25,11,25,15],[22,7,22,8],[1,1,1,8],[10,3,10,7],[5,3,5,7],[19,3,19,5],[3,9,3,16],[10,9,10,15],[19,7,19,15],[2,9,2,16],[83,3,83,6],[158,3,158,5],[149,4,149,5],[152,4,152,5],[156,3,156,5],[154,3,154,5],[138,4,138,5],[141,3,141,5],[143,3,143,4],[146,4,146,5],[132,3,132,5],[134,3,134,4],[30,3,30,5],[27,11,27,15],[50,6,50,7],[81,8,81,9],[75,3,75,6],[49,5,49,7],[77,3,77,6],[81,10,81,12],[80,8,80,16],[30,7,30,10],[30,11,30,15],[31,7,31,10],[31,11,31,12]]}
[]
[null,"HE4 / 2013: CONTRIBUCION SOLAR MÍNIMA DE AGUA CALIENTE SANITARIA",null,null,null,null,null,null,null,"Actualizaciones y otras herramientas en:"]
[null,null,null,null,null,null,null,null,null,"Autor: Oscar Redondo Rivera.       o.redondo.rivera@gmail.com"]
[null,"DATOS GEOGRAFICOS Y CLIMATOLÓGICOS",null,null,null,null,null,null,null,{"$f":"Instrucciones!J4","v":"Versión 3.1    Abril 2017"}]
[]
[null,"Localidad",null,"Madrid"]
[null,"Zona climática s/ CTE-HE4",null,{"$f":"'Datos CTE'!C63","v":"IV"}]
[null,"Zona Climática s/ CTE-HE1",null,{"$f":"Localidades!C4","v":"D3"}]
[null,"Latitud de cálculo:",null,{"$f":"IF(D11=\"Otra localidad (definida por usuario)\",'Localidad Usuario'!D6,Localidades!C3)","v":40.4}]
[]
[null,"Origen datos de radiación solar",null,"Atlas Radiacion solar 2012 AEMET",null,null,null,null,{"$f":"IF(D11='Datos SOLAR'!B9,1,0)","v":0},{"$f":"IF(I11=1,\"Definir datos en hoja Localidad Usuario\",\"\")","v":""}]
[]
[null,null,null,"Enero","Febrero","Marzo","Abril","Mayo","Junio","Julio","Agosto","Sept.","Oct.","Nov.","Dic.","Anual"]
[null,"Tª. media agua  red [ºC]:",null,{"$f":"IF($I$11=0,Localidades!G4,'Localidad Usuario'!D9)","v":8},{"$f":"IF($I$11=0,Localidades!H4,'Localidad Usuario'!E9)","v":8},{"$f":"IF($I$11=0,Localidades!I4,'Localidad Usuario'!F9)","v":10},{"$f":"IF($I$11=0,Localidades!J4,'Localidad Usuario'!G9)","v":12},{"$f":"IF($I$11=0,Localidades!K4,'Localidad Usuario'!H9)","v":14},{"$f":"IF($I$11=0,Localidades!L4,'Localidad Usuario'!I9)","v":17},{"$f":"IF($I$11=0,Localidades!M4,'Localidad Usuario'!J9)","v":20},{"$f":"IF($I$11=0,Localidades!N4,'Localidad Usuario'!K9)","v":19},{"$f":"IF($I$11=0,Localidades!O4,'Localidad Usuario'!L9)","v":17},{"$f":"IF($I$11=0,Localidades!P4,'Localidad Usuario'!M9)","v":13},{"$f":"IF($I$11=0,Localidades!Q4,'Localidad Usuario'!N9)","v":10},{"$f":"IF($I$11=0,Localidades!R4,'Localidad Usuario'!O9)","v":8},{"$f":"SUM(D14:O14)/12","v":13}]
[null,"Tª. media mensual en horas diurnas  [ºC]:",null,{"$f":"IF($I$11=0,Localidades!G8,'Localidad Usuario'!D10)","v":6},{"$f":"IF($I$11=0,Localidades!H8,'Localidad Usuario'!E10)","v":8},{"$f":"IF($I$11=0,Localidades!I8,'Localidad Usuario'!F10)","v":11},{"$f":"IF($I$11=0,Localidades!J8,'Localidad Usuario'!G10)","v":13},{"$f":"IF($I$11=0,Localidades!K8,'Localidad Usuario'!H10)","v":18},{"$f":"IF($I$11=0,Localidades!L8,'Localidad Usuario'!I10)","v":23},{"$f":"IF($I$11=0,Localidades!M8,'Localidad Usuario'!J10)","v":28},{"$f":"IF($I$11=0,Localidades!N8,'Localidad Usuario'!K10)","v":26},{"$f":"IF($I$11=0,Localidades!O8,'Localidad Usuario'!L10)","v":21},{"$f":"IF($I$11=0,Localidades!P8,'Localidad Usuario'!M10)","v":15},{"$f":"IF($I$11=0,Localidades!Q8,'Localidad Usuario'!N10)","v":11},{"$f":"IF($I$11=0,Localidades!R8,'Localidad Usuario'!O10)","v":7},{"$f":"SUM(D15:O15)/12","v":15.583333333333334}]
[null,"Rad. horiz. [MJ/m2 día]:",null,{"$f":"IF($I$11=0,VLOOKUP($D$11,'Datos SOLAR'!$B$7:$N$9,'Datos SOLAR'!C5,FALSE),'Localidad Usuario'!D11)","v":8.1838040000000003},{"$f":"IF($I$11=0,VLOOKUP($D$11,'Datos SOLAR'!$B$7:$N$9,'Datos SOLAR'!D5,FALSE),'Localidad Usuario'!E11)","v":11.716899999999999},{"$f":"IF($I$11=0,VLOOKUP($D$11,'Datos SOLAR'!$B$7:$N$9,'Datos SOLAR'!E5,FALSE),'Localidad Usuario'!F11)","v":16.76418},{"$f":"IF($I$11=0,VLOOKUP($D$11,'Datos SOLAR'!$B$7:$N$9,'Datos SOLAR'!F5,FALSE),'Localidad Usuario'!G11)","v":20.729900000000001},{"$f":"IF($I$11=0,VLOOKUP($D$11,'Datos SOLAR'!$B$7:$N$9,'Datos SOLAR'!G5,FALSE),'Localidad Usuario'!H11)","v":23.794319999999999},{"$f":"IF($I$11=0,VLOOKUP($D$11,'Datos SOLAR'!$B$7:$N$9,'Datos SOLAR'!H5,FALSE),'Localidad Usuario'!I11)","v":27.904247999999999},{"$f":"IF($I$11=0,VLOOKUP($D$11,'Datos SOLAR'!$B$7:$N$9,'Datos SOLAR'!I5,FALSE),'Localidad Usuario'!J11)","v":28.985807999999995},{"$f":"IF($I$11=0,VLOOKUP($D$11,'Datos SOLAR'!$B$7:$N$9,'Datos SOLAR'!J5,FALSE),'Localidad Usuario'!K11)","v":25.2364},{"$f":"IF($I$11=0,VLOOKUP($D$11,'Datos SOLAR'!$B$7:$N$9,'Datos SOLAR'!K5,FALSE),'Localidad Usuario'!L11)","v":19.720444000000001},{"$f":"IF($I$11=0,VLOOKUP($D$11,'Datos SOLAR'!$B$7:$N$9,'Datos SOLAR'!L5,FALSE),'Localidad Usuario'!M11)","v":12.834512},{"$f":"IF($I$11=0,VLOOKUP($D$11,'Datos SOLAR'!$B$7:$N$9,'Datos SOLAR'!M5,FALSE),'Localidad Usuario'!N11)","v":8.7606359999999999},{"$f":"IF($I$11=0,VLOOKUP($D$11,'Datos SOLAR'!$B$7:$N$9,'Datos SOLAR'!N5,FALSE),'Localidad Usuario'!O11)","v":6.7417240000000005},{"$f":"SUM(D16:O16)/12","v":17.614406333333331}]
[]
[null,"CALCULO DE NECESIDADES DE ACS"]
[]
[null,"Tipo de edificio",null,"Viviendas",null,null,null,"Calculo del nº de ocupantes vivienda"]
[null,"Nº personas",null,{"$f":"J22*J23+K22*K23+L22*L23+M22*M23+N22*N23+O22*O23+P22*P23","v":64},null,null,null,"Nº dormitorios",null,"1D","2D","3D","4D","5D","6D",">6D"]
[null,"Consumo por ocupante",null,{"$f":"VLOOKUP($D$20,'Datos CTE'!$B$5:$D$26,2,FALSE)","v":28},null,null,null,"Nº pers (CTE)",null,1.5,3,4,5,6,6,7,"TOTAL"]
[null,"Factor de centralización",null,{"$f":"IF(L31=\"Acumulación individual\",1,'Datos CTE'!C54)","v":0.9},null,null,null,"Nº viviendas",null,null,null,16,null,null,null,null,{"$f":"SUM(J23:P23)","v":16}]
[null,null,null,null,null,null,null,null,null,{"$f":"IF(J23=0,0,J22)","v":0},{"$f":"IF(K23=0,0,K22)","v":0},4,0,0,0,0]
[null,"Otros usos:",null,"Administrativos",null,null,null,"Demanda de ACS viviendas",null,null,null,{"$f":"D21*D22*D23","v":1612.8}]
[null,"Nº personas",null,0,{"$f":"VLOOKUP(D25,'Datos CTE'!$B$5:$C$26,2,FALSE)","v":2},null,null,"Demanda de ACS otros usos",null,null,null,{"$f":"D26*E26+D29*E29+D32*E32","v":0}]
[]
[null,"Otros usos:",null,"Restaurantes",null,null,null,"Demanda TOTAL de ACS ",null,null,null,{"$f":"L25+L26","v":1612.8}]
[null,"Nº personas",null,0,{"$f":"VLOOKUP(D28,'Datos CTE'!$B$5:$C$26,2,FALSE)","v":8}]
[]
[null,"Otros usos:",null,"Gimnasios",null,null,null,"Tipo de acumulación",null,null,null,"Acumulación centralizada"]
[null,"Nº personas",null,0,{"$f":"VLOOKUP(D31,'Datos CTE'!$B$5:$C$26,2,FALSE)","v":21},null,null,"Volumen acumulacion individual",null,null,null,{"$f":"MAX(J24:P24)*28","v":112}]
[]
[null,null,null,"Enero","Febrero","Marzo","Abril","Mayo","Junio","Julio","Agosto","Sept.","Oct.","Nov.","Dic.","Anual"]
[null,"% Ocupación",null,1,1,1,1,1,1,1,1,1,1,1,1,{"$f":"SUM(D35:O35)/12","v":1}]
[]
[null,"CAPTADORES. GEOMETRÍA Y CARACTERÍSTICAS",null,null,null,null,null,null,null,null,null,null,null,null,null,null,null,null,null,null,{"$f":"D112+E112+F112+G112","v":0},{"$f":"OR(U37=4,U38=4,U39=4,U40=4,U41=4)","v":false},{"$f":"IF(V37=TRUE,1,0)","v":0}]
[null,null,null,null,null,null,null,null,null,null,null,null,null,null,null,null,null,null,null,null,{"$f":"E112+F112+G112+H112","v":0}]
[null,"Ángulo de inclinación ( b )",null,35,"optimo",{"$f":"D9","v":40.4},null,null,null,null,null,null,null,null,null,null,null,null,null,null,{"$f":"F112+G112+H112+I112","v":0}]
[null,"Azimut respecto a Sur ( a )",null,15,"optimo",0,null,null,null,null,null,null,null,null,null,null,null,null,null,null,{"$f":"G112+H112+I112+J112","v":0}]
[null,"Nº Captadores",null,8,null,null,null,null,null,null,null,null,null,null,null,null,null,null,null,null,{"$f":"H112+I112+J112+K112","v":0}]
[null,null,null,null,null,null,null,null,null,null,null,null,null,null,null,null,null,null,null,null,{"$f":"I112+J112+K112+L112","v":0},{"$f":"OR(U42=4,U43=4,U44=4,U45=4,U46=4)","v":false},{"$f":"IF(V42=TRUE,1,0)","v":0}]
[null,"Contribución anual del sistema",null,{"$f":"P120","v":0.54911453485654382},"Min CTE",{"$f":"'Datos CTE'!C32","v":0.5},null,null,null,null,null,null,null,null,null,null,null,null,null,null,{"$f":"J112+K112+L112+M112","v":0}]
[null,null,null,null,null,null,null,null,null,null,null,null,null,null,null,null,null,null,null,null,{"$f":"K112+L112+M112+N112","v":0}]
[null,"Marca / Modelo",null,"Saunier Duval  SCV 2.3 (cub. Incli./panel vert)",null,null,null,null,null,null,null,null,null,null,null,null,null,null,null,null,{"$f":"L112+M112+N112+O112","v":0}]
[null,null,null,null,null,null,null,null,null,null,null,null,null,null,null,null,null,null,null,null,{"$f":"M112+N112+O112+D112","v":0}]
[null,"Número de grupos",null,2]
[{"$f":"IF(MOD(D48,1)>0,1,0)","v":0},"Numero de paneles por grupo",null,{"$f":"D41/D47","v":4},{"$f":"IF(D48>10,\"numero de paneles por grupo excesivo\",IF(A48=1,\"grupos con distinto número de paneles\",\"\"))","v":""}]
[]
[null,"Superficie de captación del panel (m²)",null,{"$f":"VLOOKUP(D45,Captadores!$B$8:$F$58,2,FALSE)","v":2.35},null,"EXCESO CONTRIBUCIÓN SOLAR",null,null,null,null,null,null,null,null,null,null,null,null,null,null,{"$f":"N112+O112+D112+E112","v":0},{"$f":"OR(U50=4,U51=4)","v":false},{"$f":"IF(V50=TRUE,1,0)","v":0}]
[null,"Longitud del panel en max. pendiente (m)",null,{"$f":"VLOOKUP(D45,Captadores!$B$8:$F$58,3,FALSE)","v":2.0329999999999999},null,null,">100% max 3 meses",null,null,null,null,null,null,null,null,null,null,null,null,null,{"$f":"O112+D112+E112+F112","v":0}]
[null,"Factor de eficiencia del colector:",null,{"$f":"VLOOKUP(D45,Captadores!$B$8:$F$58,4,FALSE)","v":0.753},null,null,">110% no permitido"]
[null,"Coeficiente global de pérdida W/(m2·ºC)",null,{"$f":"VLOOKUP(D45,Captadores!$B$8:$H$58,7,FALSE)","v":4.5140000000000002}]
[null,"Area total de captación proyectada",null,{"$f":"D50*D41","v":18.8},null,"Enero","Febrero","Marzo","Abril","Mayo","Junio","Julio","Agosto","Sept.","Oct.","Nov.","Dic."]
[null,null,null,null,null,{"$f":"D129","v":0.15941806860212163},{"$f":"E129","v":0.40309962456076159},0.55406254124323795,0.62992907551607957,0.68621907302383989,0.79914538188531936,0.88597685797022196,0.83725732879247561,0.73481499620109791,0.52790643711169427,0.19676941254167832,0.12886976812254008]
[null,"Factor de modificación del ángulo de incidencia",null,0.96,null,{"$f":"IF(O77<>0,\"« Se precisa sistema de disipación de calor\",\"\")","v":""},null,null,null,null,null,null,null,null,null,null,null,0.94]
[null,"Factor de corrección captador - intercambiador",null,0.95,null,null,null,null,null,null,null,null,null,null,null,null,null,0.96]
[null,"Factor de eficacia corregida del colector",null,{"$f":"D52*D56*D57","v":0.6867359999999999},null,null,null,null,null,null,null,null,null,null,null,null,null,1.1499999999999999]
[null,"Coeficiente global de pérdida corregido (KW/m²ºC)",null,{"$f":"D53*D57/1000","v":4.2883000000000001E-3}]
[]
[null,"Altura del captador (H)",null,{"$f":"D51*SIN(D39*PI()/180)","v":1.1660808951016766}]
[null,"Distancia mínima entre captadores o peto (D)",null,{"$f":"D61/(TAN(PI()/180*(61-D9)))","v":3.1023079452136151}]
[]
[null,"VOLUMEN DE ACUMULACION Y PERDIDAS DE CIRCUITO"]
[]
[null,"Temperatura de acumulación ACS",null,60]
[null,"Demanda de ACS corregida",null,{"$f":"IF(D66=60,L28,L28*((60-MIN($D$14:$O$14))/(D66-MIN($D$14:$O$14))))","v":1612.8}]
[null,"Estimación de perdidas térmicas del circuito",null,0.15]
[]
[null,"Consumo de agua a máxima ocupación",null,{"$f":"D67","v":1612.8},"V/A=",{"$f":"D70/D54","v":85.78723404255318}]
[null,"Volumen de acumulación maximo",null,{"$f":"180*D50*D41","v":3384},"Valor en función del nº de paneles relación V/A=180",null,null,null,null,null,null,null,{"$f":"IF(D72>D71,\"« Dato incorrecto. Incrementar nº de paneles\",\"\")","v":""}]
[null,"Volumen de acumulación mínimo",null,{"$f":"50*D50*D41","v":940},"Valor en función del nº de paneles relación V/A=50"]
[null,"Volumen de acumulación individual",null,{"$f":"IF(L31='Tablas primario'!B13,\"\",'HE-4 SOLAR'!L32)","v":""},{"$f":"IF(L31='Tablas primario'!B13,\"\",\"total viviendas\")","v":""},null,{"$f":"IF(L31='Tablas primario'!B13,\"\",Q23)","v":""}]
[null,"Volumen de acumulación óptimo",null,{"$f":"75*D50*D41","v":1410},"Valor en función del nº de paneles relación V/A=75"]
[]
[null,"Acumulador 1",null,"Lapesa acumulador MVV 1500 RB",null,null,null,{"$f":"IF(D76=\"\",\"\",VLOOKUP(D76,Acumuladores!$B$8:$T$116,4,FALSE))","v":"NO"},{"$f":"IF(H76=\"NO\",\"\",\"Acumulador con Sistema Drain Back\")","v":""},null,null,null,{"$f":"IF(H76=\"NO\",1,0)","v":1}]
[null,"nº acumuladores tipo 1",null,1,{"$f":"IF(D76=\"\",\"\",VLOOKUP(D76,Acumuladores!B8:C75,2,FALSE))*D77","v":1500},null,null,null,null,null,null,null,{"$f":"M76*M78","v":1},{"$f":"P113","v":0},{"$f":"M77*N77","v":0}]
[null,"Acumulador 2",null,null,null,null,null,{"$f":"IF(D78=\"\",\"NO\",VLOOKUP(D78,Acumuladores!$B$8:$T$116,4,FALSE))","v":"NO"},{"$f":"IF(H78=\"NO\",\"\",\"Acumulador  con Sistema Drain Back\")","v":""},null,null,null,{"$f":"IF(H78=\"NO\",1,0)","v":1}]
[null,"nº acumuladores tipo 2",null,null,{"$f":"IF(D78=\"\",0,VLOOKUP(D78,Acumuladores!B8:C75,2,FALSE))*D79","v":0},null,null,{"$f":"IF(D79=\"NO CUMPLE\",\"« El volumen de acumulación debe estar entre el máximo y mínimo marcados\",\"\")","v":""},{"$f":"IF(E79=\"NO CUMPLE\",\"« El volumen de acumulación debe estar entre el máximo y mínimo marcados\",\"\")","v":""},{"$f":"IF(F79=\"NO CUMPLE\",\"« El volumen de acumulación debe estar entre el máximo y mínimo marcados\",\"\")","v":""},{"$f":"IF(G79=\"NO CUMPLE\",\"« El volumen de acumulación debe estar entre el máximo y mínimo marcados\",\"\")","v":""},{"$f":"IF(H79=\"NO CUMPLE\",\"« El volumen de acumulación debe estar entre el máximo y mínimo marcados\",\"\")","v":""},{"$f":"IF(I79=\"NO CUMPLE\",\"« El volumen de acumulación debe estar entre el máximo y mínimo marcados\",\"\")","v":""}]
[null,null,null,null,null,null,null,"","","","","",""]
[null,"Volumen de acumulación proyectado",null,{"$f":"E77+E79","v":1500},{"$f":"IF(D81>D71,1,IF(D81<D72,1,0))","v":0},null,null,"",{"$f":"IF(E81=1,\"NO CUMPLE, El volumen de acumulación debe estar entre el máx. y min  \",\"\")","v":""}]
[null,"Relación Volumen / Area de captación",null,{"$f":"D81/(D41*D50)","v":79.787234042553195},"Valor entre 50 y 180",null,null,null,{"$f":"IF(D82>=50,IF(D82<=180,\"CUMPLE\",\"NO CUMPLE\"),\"NO CUMPLE\")","v":"CUMPLE"},null,"CTE-HE4 2013/2.2.5,2"]
[]
[null,"Sistema de disipación de calor",null,"Disipador dinámico"]
[null,"Potencia mínima dispador",null,{"$f":"Disipadores!C32","v":16},null,"PC (m.c.a):",{"$f":"IF(D84=\"Disipador dinámico\",Disipadores!C34,0)","v":0.27},null,"Caudal (l/h)",{"$f":"Disipadores!C33","v":1200}]
[]
[null,"CALCULO DE DEMANDA ENERGÉTICA"]
[]
[null,"Calculo de la Instalación por el método de curvas f (F-Chart). "]
[null,"Ecuación de la fracción de carga calorífica mensual aportada:  f = 1,029D1 - 0,065D2 - 0,245D1² + 0,0018D2² + 0,215D1³"]
[]
["1.-","DEMANDA POR CONSUMO A.C.S"]
[null,null,null,"Enero","Febrero","Marzo","Abril","Mayo","Junio","Julio","Agosto","Sept.","Oct.","Nov.","Dic.","Anual"]
[null,"Días computables",null,31,28,31,30,31,30,31,31,30,31,30,31,{"$f":"SUM(D94:O94)/12","v":30.416666666666668},"días/mes"]
[null,"Consumo mensual de agua a 60º",null,{"$f":"$D$70*D35*D94","v":49996.799999999996},45158.400000000001,49996.799999999996,48384,49996.799999999996,48384,49996.799999999996,49996.799999999996,48384,49996.799999999996,48384,49996.799999999996,{"$f":"SUM(D95:O95)/12","v":49056},"litros ACS/mes"]
[null,"Consumo mensual corregido s/ Tª acumulación",null,{"$f":"IF($D$66=60,D95,D95*((60-D14)/($D$66-D14)))","v":49996.799999999996},45158.400000000001,49996.799999999996,48384,49996.799999999996,48384,49996.799999999996,49996.799999999996,48384,49996.799999999996,48384,49996.799999999996,{"$f":"SUM(D96:O96)/12","v":49056},"litros ACS/mes"]
[null,"Incremento Ta. [ºC]:",null,{"$f":"$D$66-D14","v":52},52,50,48,46,43,40,41,43,47,50,52,47,"ºC"]
[null,"Energía necesaria  consumo de ACS (kWh)",null,{"$f":"D95*D97*0.00116","v":3015.8069759999994},{"$f":"E95*E97*0.00116","v":2723.9546880000003},2899.8144000000002,2694.0211199999999,2667.829248,2413.39392,2319.8515199999997,2377.847808,2413.39392,2725.8255359999994,2806.2719999999999,3015.8069759999994,{"$f":"SUM(D98:O98)/12","v":2672.8181759999998},"kWh/mes"]
[null,"Mayoración  pérdidas de Intercambio y Circulación",null,{"$f":"D98*(1+$D$68)","v":3468.178022399999},3132.5478911999999,3334.78656,3098.1242879999995,3068.0036351999997,2775.4030079999998,2667.8292479999996,2734.5249792,2775.4030079999998,3134.6993663999992,3227.2127999999998,3468.178022399999,{"$f":"SUM(D99:O99)/12","v":3073.7409023999994},"kWh/mes"]
[null,null,null,null,null,null,null,null,null,null,null,null,null,null,null,{"$f":"SUM(D99:O99)","v":36884.890828799995},"kWh/año"]
["2.-","ENERGIA ABSORBIDA POR CAPTADORES",null,1,2,3,4,5,6,7,8,9,10,11,12]
[null,null,null,"Enero","Febrero","Marzo","Abril","Mayo","Junio","Julio","Agosto","Sept.","Oct.","Nov.","Dic.","Anual"]
[null,"Días computables",null,31,28,31,30,31,30,31,31,30,31,30,31,{"$f":"SUM(D103:O103)/12","v":30.416666666666668},"días"]
[null,"Rad. horiz. [kJ/m2/día]:",null,{"$f":"D16","v":8.1838040000000003},11.716899999999999,16.76418,20.729900000000001,23.794319999999999,27.904247999999999,28.985807999999995,25.2364,19.720444000000001,12.834512,8.7606359999999999,6.7417240000000005,{"$f":"SUM(D104:O104)/12","v":17.614406333333331},"MJ/m² día"]
[null,"Factor de corrección por inclinación (k)",null,{"$f":"'Factor K'!F10","v":1.37},{"$f":"'Factor K'!G10","v":1.28},{"$f":"'Factor K'!H10","v":1.17},{"$f":"'Factor K'!I10","v":1.06},{"$f":"'Factor K'!J10","v":0.98},{"$f":"'Factor K'!K10","v":0.95},{"$f":"'Factor K'!L10","v":0.98},{"$f":"'Factor K'!M10","v":1.07},{"$f":"'Factor K'!N10","v":1.21},{"$f":"'Factor K'!O10","v":1.37},{"$f":"'Factor K'!P10","v":1.47},{"$f":"'Factor K'!Q10","v":1.45},{"$f":"SUM(D105:O105)/12","v":1.1966666666666668}]
[null,"Factor de corrección por orientación",null,{"$f":"1-(0.000035*$D$40*$D$40)","v":0.99212500000000003},{"$f":"1-(0.000035*$D$40*$D$40)","v":0.99212500000000003},0.99212500000000003,0.99212500000000003,0.99212500000000003,0.99212500000000003,0.99212500000000003,0.99212500000000003,0.99212500000000003,0.99212500000000003,0.99212500000000003,0.99212500000000003,{"$f":"SUM(D106:O106)/12","v":0.99212499999999981}]
[null,"Factor de corrección por sombras ",null,{"$f":"1-Sombras!H30","v":0.49801141364197044},{"$f":"1-Sombras!I30","v":0.95028724398333908},{"$f":"1-Sombras!J30","v":0.99883388266169093},{"$f":"1-Sombras!K30","v":0.99784022521136584},{"$f":"1-Sombras!L30","v":1},{"$f":"1-Sombras!M30","v":1},{"$f":"1-Sombras!N30","v":1},{"$f":"1-Sombras!O30","v":0.99751631225700665},{"$f":"1-Sombras!P30","v":0.99855371892175193},{"$f":"1-Sombras!Q30","v":0.99364561615911562},{"$f":"1-Sombras!R30","v":0.51068624449811317},{"$f":"1-Sombras!S30","v":0.46669871332282065},{"$f":"'Posicion solar'!C864","v":0.92807256703545038}]
[null,"Factor de corección total",null,{"$f":"D105*D106*D107","v":0.67690271605056984},1.2067887768793222,1.1594326370278041,1.049381167444096,0.97228250000000005,0.94251874999999996,0.97228250000000005,1.0589371322888417,1.1987350311461442,1.3505742999966519,0.74479694777435512,0.6713840183853349,1.0003347064160935]
[null,"Radiación solar incidente (KWh/m² mes)",null,{"$f":"D103*D104*D108/3.6","v":47.702448281108623},109.976404376357,167.37362782646443,181.27972219166139,199.21634138816668,219.16897453874998,242.68172496376661,230.12127566781049,196.99655877129828,149.26467329615485,54.374124611351121,38.976349513586243,153.09435211887299,"KWh/m² mes"]
[null,"Radiación solar absorvida (KWh/mes)",null,{"$f":"D109*$D$54*$D$58","v":615.86898422817762},1419.8654134730755,2160.9001187658555,2340.4366524214402,2572.0098282874274,2829.6110280982484,3133.1756090046833,2971.0122100997783,2543.3510211460862,1927.1019839973139,702.0045741750954,503.20949235976855,1976.5455763380789,"KWh/mes"]
[null,null,null,null,null,null,null,null,null,null,null,null,null,null,null,{"$f":"SUM(D110:O110)","v":23718.546916056948},"kWh/año"]
[null,null,null,{"$f":"IF(D120<=1,0,1)","v":0},{"$f":"IF(E120<=1,0,1)","v":0},0,0,0,0,0,0,0,0,0,0]
["3.-","CALCULO DE ENERGIA APORTADA",null,{"$f":"IF(D120<=1.1,0,1)","v":0},{"$f":"IF(E120<=1.1,0,1)","v":0},0,0,0,0,0,0,0,0,0,0,{"$f":"SUM(D113:O113)","v":0}]
[null,null,null,"Enero","Febrero","Marzo","Abril","Mayo","Junio","Julio","Agosto","Sept.","Oct.","Nov.","Dic.","Anual"]
[null,"Relación  radiación absorvida y ener. demandada",null,{"$f":"D110/D99","v":0.17757709674948946},{"$f":"E110/E99","v":0.45326215680908905},0.64798753380062069,0.75543665613632105,0.83833337052736601,1.0195315851218709,1.1744288399842462,1.086482015230654,0.91638980494543243,0.61476453042145052,0.2175265833647832,0.14509332828640228,0.64304235103055618,"valor D1"]
[null,"Factor de corrección por almacenamiento",null,{"$f":"($D$81/75/$D$54)^-0.25","v":0.98465017721181858},0.98465017721181858,0.98465017721181858,0.98465017721181858,0.98465017721181858,0.98465017721181858,0.98465017721181858,0.98465017721181858,0.98465017721181858,0.98465017721181858,0.98465017721181858,0.98465017721181858,0.98465017721181869,"valor K1"]
[null,"Factor de corrección para acs según su temperatura",null,{"$f":"(11.6+1.18*$D$66+3.86*D14-2.32*D15)/(100-D15)","v":1.0570212765957445},1.0295652173913041,1.0728089887640451,1.1328735632183908,1.1546341463414636,1.2293506493506492,1.3144444444444445,1.2894594594594597,1.2569620253164555,1.1503529411764704,1.0728089887640451,1.0434408602150538,1.1503102134197938,"valor K2"]
[null,"Energia mensual perdida por el captador",null,{"$f":"$D$50*$D$59*(100-D15)*(24*D103)*D116*D117","v":733.53274247449588},631.60556538658977,704.88834794147408,704.1548533026172,698.98228721301598,676.29158293045589,698.68698417659311,704.4453933868399,709.44173024502697,721.86827253579099,682.15001413691061,716.4051663619673,698.53774500764814,"KWh/mes"]
[null,"Relación entre energía perdida y demanda mensual",null,{"$f":"D118/D98","v":0.2432293407078106},0.23187080466831528,0.24308050471832751,0.26137688679390059,0.26200413228733593,0.28022428387092974,0.30117745819206276,0.29625335608814535,0.29396018791869127,0.26482555945054848,0.24308050471832759,0.237550072688063,0.26321942434187151,"valor D2"]
[null,"Porcentaje de energía aportado por el sistema solar",null,{"$f":"IF($D$41=0,0,(1.029*D115)-(0.065*D119)-(0.245*D115^2)+(0.0018*D119^2)+(0.0215*D115^3))","v":0.15941806860212163},{"$f":"IF($D$41=0,0,(1.029*E115)-(0.065*E119)-(0.245*E115^2)+(0.0018*E119^2)+(0.0215*E115^3))","v":0.40309962456076159},0.55406254124323795,0.62992907551607957,0.68621907302383989,0.79914538188531936,0.88597685797022196,0.83725732879247561,0.73481499620109791,0.52790643711169427,0.19676941254167832,0.12886976812254008,{"$f":"IF($D$41=0,0,(1.029*P115)-(0.065*P119)-(0.245*P115^2)+(0.0018*P119^2)+(0.0215*P115^3))","v":0.54911453485654382},"valor f en %"]
[]
[null,"Energía necesaria por consumo de ACS (kWh)",null,{"$f":"D99","v":3468.178022399999},{"$f":"E99","v":3132.5478911999999},3334.78656,3098.1242879999995,3068.0036351999997,2775.4030079999998,2667.8292479999996,2734.5249792,2775.4030079999998,3134.6993663999992,3227.2127999999998,3468.178022399999,{"$f":"P100/12","v":3073.7409023999994},"kWh/mes"]
[null,"Energía aportada por el sistema solar",null,{"$f":"D120*D99","v":552.89024189933355},{"$f":"E120*E99","v":1262.7288788613255},1847.6803159373956,1951.5985685737519,2105.3226105807148,2217.9504967138237,2363.6349747440995,2289.5010796012921,2039.4077507800355,1654.8279739325092,635.01676680298476,446.94329755437752,{"$f":"P111/12","v":1976.5455763380789},"kWh/mes"]
[null,"Energia aportada por sistema de apoyo",null,{"$f":"IF(D99-D123>0,1,0)*(D99-D123)","v":2915.2877805006656},{"$f":"IF(E99-E123>0,1,0)*(E99-E123)","v":1869.8190123386744},1487.1062440626044,1146.5257194262476,962.68102461928493,557.4525112861761,304.19427325590004,445.02389959870789,735.99525721996429,1479.8713924674901,2592.1960331970149,3021.2347248456217,{"$f":"SUM(D124:O124)/12","v":1459.7823227348626},"kWh/mes"]
[]
[null,"Energia anual aportada por sistema de apoyo",null,{"$f":"SUM(D124:O124)","v":17517.387872818352},"kWh/año"]
[]
[null,null,null,"Enero","Febrero","Marzo","Abril","Mayo","Junio","Julio","Agosto","Sept.","Oct.","Nov.","Dic.","Anual"]
[null,null,null,{"$f":"D120","v":0.15941806860212163},{"$f":"E120","v":0.40309962456076159},0.55406254124323795,0.62992907551607957,0.68621907302383989,0.79914538188531936,0.88597685797022196,0.83725732879247561,0.73481499620109791,0.52790643711169427,0.19676941254167832,0.12886976812254008,0.54911453485654382]
[]
[null,"CUMPLIMIENTO CTE DB-HE4 / 2013"]
[]
["1.-","CONTRIBUCIÓN SOLAR MÍNIMA",null,"CTE-HE4 Tabla 2.1"]
[]
[null,"Capital de Provincia",null,{"$f":"D6","v":"Madrid"}]
[null,"Zona climática",null,{"$f":"D7","v":"IV"}]
[{"$f":"IF(D137<5000,1,IF(D137<6000,2,IF(D137<7000,3,IF(D137<8000,4,IF(D137<9000,5,IF(D137<10000,6,IF(D137<12500,7,IF(D137<15000,8,9))))))))","v":1},"Demanda total de agua caliente sanitaria",null,{"$f":"D70","v":1612.8}]
[null,"Contribución solar anual mínima (%)",null,{"$f":"F43","v":0.5}]
[null,"Contribución solar anual calculada (%)",null,{"$f":"P120","v":0.54911453485654382},{"$f":"IF(D139>=D138,\"CUMPLE\",\"NO CUMPLE\")","v":"CUMPLE"},null,{"$f":"IF(E139=\"NO CUMPLE\",\"« Aumentar captadores o su eficiencia\",\"\")","v":""}]
[]
[]
["2.-","PERDIDAS LÍMITE",null,"CTE-HE4 Tabla 2.4"]
[]
[{"$f":"IF(D144=\"General\",1,IF(D144=\"Superposición\",2,3))","v":1},"Disposición de los paneles",null,"General"]
[]
[null,"Perdida límite por orientación e inclinación",null,{"$f":"VLOOKUP(D144,'Datos CTE'!B41:F43,3,FALSE)","v":0.1}]
[null,"Perdida calculada por orientación e inclinación",null,{"$f":"IF(D39<=15,((D39-D9)^2*1.2/10000),(((D39-D9)^2*1.2/10000)+(3.5/100000*D40^2)))","v":1.1374199999999998E-2},{"$f":"IF(D147<=D146,\"CUMPLE\",\"NO CUMPLE\")","v":"CUMPLE"}]
[]
[null,"Perdida límite por sombras",null,{"$f":"VLOOKUP(D144,'Datos CTE'!B41:F43,4,FALSE)","v":0.1}]
[null,"Perdida calculada por sombras",null,{"$f":"1-P107","v":7.192743296454962E-2},{"$f":"IF(D150<=D149,\"CUMPLE\",\"NO CUMPLE\")","v":"CUMPLE"}]
[]
[null,"Perdida límite TOTAL",null,{"$f":"VLOOKUP(D144,'Datos CTE'!B41:F43,5,FALSE)","v":0.15}]
[null,"Perdida calculada TOTAL",null,{"$f":"D147+D150","v":8.3301632964549621E-2},{"$f":"IF(D153<=D152,\"CUMPLE\",\"NO CUMPLE\")","v":"CUMPLE"}]
[]
["3.-","EXCESO DE CONTRIBUCIÓN SOLAR",null,"CTE-HE4   2.1.4"]
[]
[null,"Ningún mes supera una contribucion del 110%",null,{"$f":"IF(P113<1,\"CUMPLE\",\"PRECISA DISIPACIÓN\")","v":"CUMPLE"},null,null,{"$f":"IF(D157=\"CUMPLE\",0,1)","v":0}]
[null,"No se supera el 100% de contribución "]
[null,"en más de 3 meses seguidos",null,{"$f":"IF((W37+W42+W50)>0,\"PRECISA DISIPACIÓN\",\"CUMPLE\")","v":"CUMPLE"},null,null,{"$f":"IF(D159=\"CUMPLE\",0,1)","v":0}]

{"sheet":"Sombras","index":2,"n_rows":84,"n_cols":40,"rows_kept":84,"cut":false,"hidden":false,"merged":[[1,1,1,2],[1,3,1,5],[1,20,1,24],[2,1,2,2],[2,3,2,5],[2,20,2,24],[26,1,26,5],[3,1,3,2],[3,3,3,5],[4,20,4,21],[4,23,4,24],[5,1,5,4],[5,20,5,21],[5,23,5,24],[8,2,19,4],[22,1,22,5],[23,1,25,5],[25,20,25,22],[25,23,25,24],[28,20,28,22],[29,1,29,5],[29,20,29,22],[42,1,42,2],[42,4,42,5],[33,20,40,24],[31,13,31,14],[31,16,31,17],[51,1,51,5],[51,7,51,11],[43,4,43,5],[33,7,49,11],[28,1,28,5]]}
[]
[null,"Localidad",null,{"$f":"IF('HE-4 SOLAR'!D11=\"Otra localidad (definida por usuario)\",'Localidad Usuario'!D5,'HE-4 SOLAR'!D6)","v":"Madrid"},null,null,null,null,null,null,null,null,null,null,null,null,null,null,null,null,"PERFILES ADICIONALES DE OBSTRUCCION SOLAR"]
[null,"Latitud",null,{"$f":"'HE-4 SOLAR'!D9","v":40.4},null,null,null,null,null,null,null,null,null,null,null,null,null,null,null,null,"(No referenciados a la posición del panel)",null,null,null,null,{"$f":"SIN(RADIANS(C22))*10","v":-2.5881904510252078},0,null,"Perfil edificio"]
[null,"Datos Radiación",null,{"$f":"'HE-4 SOLAR'!D11","v":"Atlas Radiacion solar 2012 AEMET"}]
[null,null,null,null,null,null,null,null,null,null,null,null,null,null,null,null,null,null,null,null,"Grupo 1",null,null,"Grupo 2",null,{"$f":"COS(RADIANS(C22))*10","v":-9.6592582628906829},0,null,"Proteccion solar"]
[null,"Orientación de los captadores (Azimut)",null,null,null,{"$f":"'HE-4 SOLAR'!D40","v":15},null,null,null,null,null,null,null,null,null,null,null,null,null,null,"Perfil edificio",null,null,"Perfil edificio"]
[null,null,null,null,null,null,null,null,null,null,null,null,null,null,null,null,null,null,null,null,null,null,null,null,null,{"$f":"F6+90","v":105},{"$f":"IF(X26<15,0,90)","v":90},null,true,null,null,true,null,null,null,false,{"$f":"IF(AJ7=TRUE,1,0)","v":0},null,false,{"$f":"IF(AM7=TRUE,1,0)","v":0}]
[null,null,null,null,null,null,null,null,null,null,null,null,null,null,null,null,null,null,null,null,"azimut","altura",null,"azimut","altura",{"$f":"Z7","v":105},0,null,null,null,null,null,null,null,null,"azimut","altura",null,"azimut","altura"]
[null,null,null,null,null,null,null,null,null,null,null,null,null,null,null,null,null,null,null,null,90,50,null,-90,45,null,null,null,{"$f":"IF($AC$7=FALSE,0,U9)","v":90},{"$f":"IF($AC$7=FALSE,0,V9)","v":50},null,{"$f":"IF($AF$7=FALSE,0,X9)","v":-90},{"$f":"IF($AF$7=FALSE,0,Y9)","v":45},null,null,{"$f":"U9*$AK$7","v":0},{"$f":"V9*$AK$7","v":0},null,{"$f":"X9*$AN$7","v":0},{"$f":"Y9*$AN$7","v":0}]
[null,null,null,null,null,null,null,null,null,null,null,null,null,null,null,null,null,null,null,null,115,60,null,-50,40,{"$f":"F6-90","v":-75},{"$f":"IF(X26<15,0,90)","v":90},null,{"$f":"IF($AC$7=FALSE,0,U10)","v":115},60,null,{"$f":"IF($AF$7=FALSE,0,X10)","v":-50},40,null,null,{"$f":"U10*$AK$7","v":0},0,null,{"$f":"X10*$AN$7","v":0},0]
[null,null,null,null,null,null,null,null,null,null,null,null,null,null,null,null,null,null,null,null,{"$f":"U10","v":115},{"$f":"IF($U$6=$AC$3,0,90)","v":0},null,{"$f":"X10","v":-50},{"$f":"IF($X$6=$AC$3,0,90)","v":0},{"$f":"Z10","v":-75},0,null,115,0,null,-50,0,null,null,0,0,null,0,0]
[null,null,null,null,null,null,null,null,null,null,null,null,null,null,null,null,null,null,null,null,{"$f":"U9","v":90},{"$f":"IF($U$6=$AC$3,0,90)","v":0},null,{"$f":"X9","v":-90},{"$f":"IF($X$6=$AC$3,0,90)","v":0},null,null,null,90,0,null,-90,0,null,null,0,0,null,0,0]
[null,null,null,null,null,null,null,null,null,null,null,null,null,null,null,null,null,null,null,null,{"$f":"U9","v":90},{"$f":"V9","v":50},null,{"$f":"X9","v":-90},{"$f":"Y9","v":45},null,null,null,null,null,null,null,null,null,null,0,0,null,0,0]
[null,null,null,null,null,null,null,null,null,null,null,null,null,null,null,null,null,null,null,null,"azimut","altura",null,"azimut","altura",{"$f":"SIN(RADIANS(C22+90))*10","v":-9.6592582628906847},0,null,null,null,null,null,null,null,null,{"$f":"U14","v":"azimut"},"altura",null,{"$f":"X14","v":"azimut"},"altura"]
[null,null,null,null,null,null,null,null,null,null,null,null,null,null,null,null,null,null,null,null,115,60,null,-90,45,{"$f":"COS(RADIANS(C22+90))*10","v":2.588190451025203},0,null,{"$f":"IF($AC$7=FALSE,0,U15)","v":115},60,null,{"$f":"IF($AF$7=FALSE,0,X15)","v":-90},45,null,null,{"$f":"U15*$AK$7","v":0},0,null,{"$f":"X15*$AN$7","v":0},0]
[null,null,null,null,null,null,null,null,null,null,null,null,null,null,null,null,null,null,null,null,120,55,null,-120,65,null,null,null,120,55,null,-120,65,null,null,0,0,null,0,0]
[null,null,null,null,null,null,null,null,null,null,null,null,null,null,null,null,null,null,null,null,{"$f":"U16","v":120},{"$f":"IF($U$6=$AC$3,0,90)","v":0},null,{"$f":"X16","v":-120},{"$f":"IF($X$6=$AC$3,0,90)","v":0},{"$f":"SIN(RADIANS(C22-90))*10","v":9.6592582628906829},0,null,120,0,null,-120,0,null,null,0,0,null,0,0]
[null,null,null,null,null,null,null,null,null,null,null,null,null,null,null,null,null,null,null,null,{"$f":"U15","v":115},{"$f":"IF($U$6=$AC$3,0,90)","v":0},null,{"$f":"X15","v":-90},{"$f":"IF($X$6=$AC$3,0,90)","v":0},{"$f":"COS(RADIANS(C22-9090))*10","v":-2.5881904510252292},0,null,115,0,null,-90,0,null,null,0,0,null,0,0]
[null,null,null,null,null,null,null,null,null,null,null,null,null,null,null,null,null,null,null,null,{"$f":"U15","v":115},{"$f":"V15","v":60},null,{"$f":"X15","v":-90},{"$f":"Y15","v":45},null,null,null,null,null,null,null,null,null,null,0,0,null,0,0]
[null,null,null,null,null,null,null,null,null,null,null,null,null,null,null,null,null,null,null,null,"azimut","altura",null,"azimut","altura",{"$f":"Z7+105","v":210},90,null,null,null,null,null,null,null,null,"azimut","altura",null,"azimut","altura"]
[null,null,null,null,null,null,null,null,null,null,null,null,null,null,null,null,null,null,null,null,90,50,null,-120,65,{"$f":"Z20","v":210},{"$f":"AA8","v":0},null,{"$f":"IF($AC$7=FALSE,0,U21)","v":90},50,null,{"$f":"IF($AF$7=FALSE,0,X21)","v":-120},65,null,null,{"$f":"U21*$AK$7","v":0},0,null,{"$f":"X21*$AN$7","v":0},0]
[null,null,{"$f":"180+F6","v":195},null,null,null,null,null,null,null,null,null,null,null,null,null,null,null,null,null,25,50,null,-180,60,{"$f":"Z10-105","v":-180},{"$f":"AA20","v":90},null,25,50,null,-180,60,null,null,0,0,null,0,0]
[null,"Actualizaciones y otras herramientas en:",null,null,null,null,null,null,null,null,null,null,null,null,null,null,null,null,null,null,{"$f":"U22","v":25},{"$f":"IF($U$6=$AC$3,0,90)","v":0},null,{"$f":"X22","v":-180},{"$f":"IF($X$6=$AC$3,0,90)","v":0},{"$f":"Z22","v":-180},{"$f":"AA21","v":0},null,25,0,null,-180,0,null,null,0,0,null,0,0]
[null,null,null,null,null,null,null,null,null,null,null,null,null,null,null,null,null,null,null,null,{"$f":"U21","v":90},{"$f":"IF($U$6=$AC$3,0,90)","v":0},null,{"$f":"X21","v":-120},{"$f":"IF($X$6=$AC$3,0,90)","v":0},null,null,null,90,0,null,-120,0,null,null,0,0,null,0,0]
[null,null,null,null,null,null,null,null,null,null,null,null,null,null,null,null,null,null,null,null,{"$f":"U21","v":90},{"$f":"V21","v":50},null,{"$f":"X21","v":-120},{"$f":"Y21","v":65},null,null,null,null,null,null,null,null,null,null,0,0,null,0,0]
[null,null,null,null,null,null,null,null,null,null,null,null,null,null,null,null,null,null,null,null,"Inclinación de los captadores",null,null,{"$f":"'HE-4 SOLAR'!D39","v":35},null,{"$f":"'Posicion solar'!C234","v":8647.1875977694381}]
[null,"Autor: Oscar Redondo Rivera.       o.redondo.rivera@gmail.com"]
[null,null,null,null,null,null,null,"Ene","Feb","Mar","Abr","May","Jun","Jul","Ago","Sep","Oct","Nov","Dic",null,null,null,null,"directa","global"]
[null,"% Obstruccion sobre radiación DIRECTA",null,null,null,null,null,{"$f":"'Posicion solar'!C851","v":0.62238557538963635},{"$f":"'Posicion solar'!D851","v":6.3431351287746462E-2},{"$f":"'Posicion solar'!E851","v":1.578648265063376E-3},{"$f":"'Posicion solar'!F851","v":3.2311334871274466E-3},{"$f":"'Posicion solar'!G851","v":0},{"$f":"'Posicion solar'!H851","v":0},{"$f":"'Posicion solar'!I851","v":0},{"$f":"'Posicion solar'!J851","v":3.5910730879601394E-3},{"$f":"'Posicion solar'!K851","v":1.984468054870514E-3},{"$f":"'Posicion solar'!L851","v":8.4246514481365331E-3},{"$f":"'Posicion solar'!M851","v":0.61391417042874652},{"$f":"'Posicion solar'!N851","v":0.65775815393562898},null,"% Obstruccion solar INVIERNO",null,null,{"$f":"'Posicion solar'!C857","v":0.1813708452312639},{"$f":"'Posicion solar'!C860","v":0.13176121688106257}]
[null,"% Obstruccion sobre radiación GLOBAL",null,null,null,null,null,{"$f":"'Posicion solar'!C854","v":0.50198858635802956},{"$f":"'Posicion solar'!D854","v":4.9712756016660919E-2},{"$f":"'Posicion solar'!E854","v":1.1661173383090695E-3},{"$f":"'Posicion solar'!F854","v":2.1597747886341612E-3},{"$f":"'Posicion solar'!G854","v":0},{"$f":"'Posicion solar'!H854","v":0},{"$f":"'Posicion solar'!I854","v":0},{"$f":"'Posicion solar'!J854","v":2.4836877429933457E-3},{"$f":"'Posicion solar'!K854","v":1.4462810782480684E-3},{"$f":"'Posicion solar'!L854","v":6.3543838408843811E-3},{"$f":"'Posicion solar'!M854","v":0.48931375550188683},{"$f":"'Posicion solar'!N854","v":0.53330128667717935},null,"% Obstruccion solar VERANO",null,null,{"$f":"'Posicion solar'!C858","v":1.3573457133045919E-3},{"$f":"'Posicion solar'!C861","v":9.2116925548924034E-4},null,{"$f":"IF(AC31=TRUE,1,0)","v":1},null,null,null,false,{"$f":"IF(AE30=TRUE,1,0)","v":0},null,null,null,null,true,{"$f":"IF(AK30=TRUE,1,0)","v":1},false,{"$f":"IF(Y45=0,0,IF(V45+V46=0,0,IF(AM30=TRUE,1,0)))","v":0}]
[null,null,null,null,null,null,null,null,null,null,null,null,null,null,null,null,null,null,null,null,null,null,null,null,null,null,null,null,true]
[null,null,"PETO DE CUBIERTA PLANA",null,null,null,null,null,"OBSTACULOS EN CUBIERTA",null,null,null,null,"Obstáculo 1",null,null,"Obstáculo 2",null,null,null,null,"OBSTACULO SUPERIOR"]
[null,null,null,null,null,null,null,null,null,null,null,null,null,null,null,null,null,null,null,null,null,null,null,null,null,true,{"$f":"IF(Z33=TRUE,1,0)","v":1},null,true,{"$f":"IF(AC33=TRUE,1,0)","v":1},null,true,{"$f":"IF(AF33=TRUE,1,0)","v":1},false,{"$f":"IF(AH33=TRUE,1,0)","v":0},true]
[null,null,null,null,null,null,null,null,null,null,null,null,null,"Alfa 1",0,null,"Alfa 1",25]
[null,null,null,null,null,null,null,null,null,null,null,null,null,"dist 1",4,null,"dist 1",5]
[]
[null,null,null,null,null,null,null,null,null,null,null,null,null,"Alfa 2",25,null,"Alfa 2",50]
[null,null,null,null,null,null,null,null,null,null,null,null,null,"dist 2",5,null,"dist 2",10]
[]
[null,null,null,null,null,null,null,null,null,null,null,null,null,"Alfa 3",-25,null,"Alfa 3",0]
[null,null,null,null,null,null,null,null,null,null,null,null,null,"dist 3",5,null,"dist 3",10]
[]
[null,"Geometría ",null,null,"Incluir laterales"]
[null,null,null,null,"SI",null,null,null,null,null,null,null,null,"Altura ",3,null,"Altura ",5]
[null,"a",5,"m",null,null,null,null,null,null,null,null,null,null,null,null,null,null,null,null,"a",3,null,"c",1,null,"SI"]
[null,"b",5,"m",null,null,null,null,null,null,null,null,null,null,null,null,null,null,null,null,"b",3,null,"h",2,null,"NO"]
[null,"c",10,"m"]
[]
[null,"h",0.55000000000000004,"m"]
[]
[null,"β",15,"º",null,null,null,null,null,null,null,null,null,null,null,null,null,null,{"$f":"IF(AJ33=TRUE,1,0)","v":1}]
[null,{"$f":"IF(C46>C47,\" b no puede ser mayor que c\",0)","v":0}]
[null,null,null,null,"azimut","altura","d",null,null,"azimut","altura","d",null,null,null,"azimut","altura","d",null,null,null,null,"azimut","altura"]
[null,null,"Frontal 1",1,{"$f":"$AC$31*IF(AA30*(DEGREES(ATAN(C46*COS(C51*PI()/180)/(C45-C46*SIN(C51*PI()/180))))+F6)<1,Z7,AA30*(DEGREES(ATAN(C46*COS(C51*PI()/180)/(C45-C46*SIN(C51*PI()/180))))+F6))","v":67.5},{"$f":"$AC$31*DEGREES(ATAN($C$49/G54))*AA30","v":5.1625074159076352},{"$f":"(C45-C46*(SIN(C51*PI()/180)))/(COS((E54-F6)*PI()/180))","v":6.0876142900872061},"Saliente 1",1,{"$f":"IF(I45=0,0,IF(I46=0,F6,AF30*AA33*(90-DEGREES(ATAN(I45/I46))+$F$6)))","v":0},{"$f":"IF(I45=0,0,DEGREES(ATAN($I$49/L54))*AF30*AA33)","v":0},{"$f":"(I45^2+I46^2)^0.5","v":0},null,"Obtáculo 1",1,{"$f":"$AK$30*$AF$33*O34","v":0},{"$f":"$AK$30*$AF$33*DEGREES(ATAN($O$44/R54))","v":36.86989764584402},{"$f":"O35","v":4},null,null,"Alero a",1,{"$f":"IF(Y45=0,0,AN30*(DEGREES(ATAN(V45/Y45))+$F$6))","v":0},{"$f":"DEGREES(ATAN(Y46/Y54))*AN30","v":0},{"$f":"((Y45^2)+(V45)^2)^0.5","v":3.1622776601683795}]
[null,null,"Der",2,{"$f":"$AC$31*$F$6*AA30","v":15},{"$f":"$AC$31*DEGREES(ATAN($C$49/G55))*AA30","v":6.2772984895975554},{"$f":"C45","v":5},null,2,{"$f":"IF(I45=0,0,AF30*AA33*($F$6+90))","v":0},{"$f":"IF(I45=0,0,IF(I46=0,90,DEGREES(ATAN($I$49/L55)))*AF30*AA33)","v":0},{"$f":"I46","v":0},null,null,2,{"$f":"$AK$30*$AF$33*O37","v":25},{"$f":"$AK$30*$AF$33*DEGREES(ATAN($O$44/R55))","v":30.963756532073521},{"$f":"O38","v":5},null,null,null,2,{"$f":"F6*AN30","v":0},{"$f":"IF(Y45=0,0,DEGREES(ATAN(Y46/Y45))*AN30)","v":0}]
[null,null,null,3,{"$f":"E55","v":15},0,null,null,3,{"$f":"J55","v":0},0,null,null,null,3,{"$f":"P55","v":25},0,null,null,null,null,3,{"$f":"W55","v":0},{"$f":"IF(AN30=0,0,90)","v":0}]
[null,null,null,4,{"$f":"E54","v":67.5},0,null,null,4,{"$f":"J54","v":0},0,null,null,null,4,{"$f":"P54","v":0},0,null,null,null,null,4,{"$f":"W54","v":0},{"$f":"IF(AN30=0,0,90)","v":0}]
[null,null,null,null,{"$f":"E54","v":67.5},{"$f":"F54","v":5.1625074159076352},null,null,null,{"$f":"J54","v":0},{"$f":"K54","v":0},null,null,null,null,{"$f":"P54","v":0},{"$f":"Q54","v":36.86989764584402},null,null,null,null,null,{"$f":"W54","v":0},{"$f":"X54","v":0}]
[null,null,"Frontal 2",1,{"$f":"$AC$31*IF(AA30*(F6-DEGREES(ATAN(C46*COS(C51*PI()/180)/(C45-C46*SIN(C51*PI()/180)))))>1,Z10,AA30*(F6-DEGREES(ATAN(C46*COS(C51*PI()/180)/(C45-C46*SIN(C51*PI()/180))))))","v":-37.500000000000007},{"$f":"$AC$31*AA30*DEGREES(ATAN($C$49/G59))","v":5.1625074159076352},{"$f":"(C45-C46*(SIN(C51*PI()/180)))/(COS((E59-F6)*PI()/180))","v":6.0876142900872061},"Saliente 2",1,{"$f":"IF(L45=0,0,IF(L46=0,F6,AF30*AD33*($F$6-(90-DEGREES(ATAN(L45/L46))))))","v":0},{"$f":"IF(L45=0,0,DEGREES(ATAN($L$49/L59))*AF30*AD33)","v":0},{"$f":"(L46^2+L45^2)^0.5","v":0},null,"Obtáculo 1",1,{"$f":"$AK$30*$AF$33*P54","v":0},{"$f":"$AK$30*$AF$33*Q54","v":36.86989764584402},null,null,null,"Alero b",1,{"$f":"AN30*($F$6-(DEGREES(ATAN(V46/Y45))))","v":0},{"$f":"DEGREES(ATAN(Y46/Y59))*AN30","v":0},{"$f":"((Y45^2)+(V46)^2)^0.5","v":3.1622776601683795}]
[null,null,"Izq",2,{"$f":"$AC$31*E55","v":15},{"$f":"$AC$31*F55","v":6.2772984895975554},null,null,2,{"$f":"IF(L45=0,0,AF30*AD33*($F$6-90))","v":0},{"$f":"IF(L45=0,0,IF(L46=0,90,DEGREES(ATAN($L$49/L60)))*AF30*AD33)","v":0},{"$f":"L46","v":0},null,null,2,{"$f":"$AK$30*$AF$33*O40","v":-25},{"$f":"$AK$30*$AF$33*DEGREES(ATAN($O$44/R60))","v":30.963756532073521},{"$f":"O41","v":5},null,null,null,2,{"$f":"W55","v":0},{"$f":"X55","v":0}]
[null,null,null,3,{"$f":"E60","v":15},0,null,null,3,{"$f":"J60","v":0},0,null,null,null,3,{"$f":"P60","v":-25},0,null,null,null,null,3,{"$f":"W60","v":0},{"$f":"IF(AN30=0,0,90)","v":0}]
[null,null,null,4,{"$f":"E59","v":-37.500000000000007},0,null,null,4,{"$f":"J59","v":0},0,null,null,null,4,{"$f":"P59","v":0},0,null,null,null,null,4,{"$f":"W59","v":0},{"$f":"IF(AN30=0,0,90)","v":0}]
[null,null,null,null,{"$f":"E59","v":-37.500000000000007},{"$f":"F59","v":5.1625074159076352},null,null,null,{"$f":"J59","v":0},{"$f":"K59","v":0},null,null,null,null,{"$f":"P59","v":0},{"$f":"Q59","v":36.86989764584402},null,null,null,null,null,{"$f":"W59","v":0},{"$f":"X59","v":0}]
[null,null,"Lateral Der",1,{"$f":"$AC$31*F74*E54","v":67.5},{"$f":"$AC$31*F74*F54","v":5.1625074159076352},null,null,null,null,null,null,null,"Obtáculo 2",1,{"$f":"$AK$30*$AH$33*R34","v":0},{"$f":"$AK$30*$AH$33*DEGREES(ATAN($O$44/R64))","v":0},{"$f":"R35","v":5},null,null,"Lateral a",1,{"$f":"W54","v":0},{"$f":"X54","v":0}]
[null,null,null,2,{"$f":"$AC$31*F74*AA30*(F6+90)","v":105},{"$f":"$AC$31*F74*IF(C46=C47,90,AA30*DEGREES(ATAN($C$49/G65)))","v":8.7350263878307288},{"$f":"(G54*SIN((E54-F6-C51)*PI()/180)*COS(C51*PI()/180))","v":3.5796291314453415},null,null,null,null,null,null,null,2,{"$f":"$AK$30*$AH$33*R37","v":0},{"$f":"$AK$30*$AH$33*DEGREES(ATAN($R$44/R65))","v":0},{"$f":"R38","v":10},null,null,null,2,{"$f":"AN30*(90+F6)","v":0},{"$f":"IF(V45=0,90*AN30,DEGREES(ATAN(Y46/V45))*AN30)","v":0}]
[null,null,null,3,{"$f":"E65","v":105},0,null,null,null,null,null,null,null,null,3,{"$f":"P65","v":0},0,null,null,null,null,3,{"$f":"W65","v":0},{"$f":"IF(AN30=0,0,90)","v":0}]
[null,null,null,4,{"$f":"E64","v":67.5},0,null,null,null,null,null,null,null,null,4,{"$f":"P64","v":0},0,null,null,null,null,4,{"$f":"W64","v":0},{"$f":"IF(AN30=0,0,90)","v":0}]
[null,null,null,null,{"$f":"E64","v":67.5},{"$f":"F64","v":5.1625074159076352},null,null,null,null,null,null,null,null,null,{"$f":"P64","v":0},{"$f":"Q64","v":0},null,null,null,null,null,{"$f":"W64","v":0},{"$f":"X64","v":0}]
[null,null,"Lateral Izq",1,{"$f":"$AC$31*F74*E59","v":-37.500000000000007},{"$f":"$AC$31*F74*F59","v":5.1625074159076352},null,null,null,null,null,null,null,"Obtáculo 2",1,{"$f":"$AK$30*$AH$33*P64","v":0},{"$f":"$AK$30*$AH$33*DEGREES(ATAN($O$44/R69))","v":0},{"$f":"R35","v":5},null,null,"Lateral b",1,{"$f":"W59","v":0},{"$f":"X59","v":0}]
[null,null,null,2,{"$f":"$AC$31*F74*AA30*($F$6-90)","v":-75},{"$f":"$AC$31*F74*IF(C46=C47,90,AA30*DEGREES(ATAN($C$49/G70)))","v":5.7809846657836941},{"$f":"(G59*SIN((-E59+F6+C51)*PI()/180)*COS(C51*PI()/180))","v":5.4325815186890392},null,null,null,null,null,null,null,2,{"$f":"$AK$30*$AH$33*R40","v":0},{"$f":"$AK$30*$AH$33*DEGREES(ATAN($R$44/R70))","v":0},{"$f":"R41","v":10},null,null,null,2,{"$f":"(-90+F6)*AN30","v":0},{"$f":"IF(V46=0,90*AN30,DEGREES(ATAN(Y46/V46))*AN30)","v":0}]
[null,null,null,3,{"$f":"E70","v":-75},0,null,null,null,null,null,null,null,null,3,{"$f":"P70","v":0},0,null,null,null,null,3,{"$f":"W70","v":0},{"$f":"IF(AN30=0,0,90)","v":0}]
[null,null,null,4,{"$f":"E69","v":-37.500000000000007},0,null,null,null,null,null,null,null,null,4,{"$f":"P69","v":0},0,null,null,null,null,4,{"$f":"W69","v":0},{"$f":"IF(AN30=0,0,90)","v":0}]
[null,null,null,null,{"$f":"E69","v":-37.500000000000007},{"$f":"F69","v":5.1625074159076352},null,null,null,null,null,null,null,null,null,{"$f":"P69","v":0},{"$f":"Q69","v":0},null,null,null,null,null,{"$f":"W69","v":0},{"$f":"X69","v":0}]
[null,null,null,null,null,{"$f":"IF(E44=\"SI\",1,0)","v":1},null,null,null,null,null,null,null,"Obtáculo 3",1,{"$f":"IF(R49=0,0,AL30*S51*($F$6-DEGREES(ATAN((O47)/O49))))","v":0},{"$f":"IF(R49=0,0,AL30*S51*DEGREES(ATAN($R$48/R69)))","v":0},{"$f":"R69","v":5}]
[null,null,null,"x","y",null,null,null,null,null,null,null,null,"Frontal ",2,{"$f":"IF(R49=0,0,AL30*S51*($F$6-(DEGREES(ATAN((O47+R49)/O49)))))","v":0},{"$f":"IF(R49=0,0,DEGREES(ATAN($R$48/R75))*AL30*S51)","v":0},{"$f":"((O49^2)+(R49+O47)^2)^0.5","v":0}]
[null,null,"fachada",0,{"$f":"C45","v":5},null,null,null,null,null,null,null,null,null,3,{"$f":"P75","v":0},0]
[null,null,null,{"$f":"C47","v":10},{"$f":"C45","v":5},null,null,null,null,null,null,null,null,null,4,{"$f":"P74","v":0},0]
[null,null,"lat der",{"$f":"D77","v":10},{"$f":"E77","v":5},null,null,null,null,null,null,null,null,null,null,{"$f":"P74","v":0},{"$f":"Q74","v":0}]
[null,null,null,{"$f":"D78","v":10},0,null,null,null,null,null,null,null,null,"Obtáculo 3",1,{"$f":"P74","v":0},{"$f":"Q74","v":0}]
[null,null,"lat izq",0,{"$f":"E76","v":5},null,null,null,null,null,null,null,null,"Lateral",2,{"$f":"IF(R49=0,0,AL30*S51*($F$6-((DEGREES(ATAN((O47)/(O49+R50)))))))","v":0},{"$f":"IF(R49=0,0,DEGREES(ATAN($R$48/R80))*AL30*S51)","v":0},{"$f":"((O47^2)+(O49+R50)^2)^0.5","v":0}]
[null,null,null,0,0,null,null,null,null,null,null,null,null,null,3,{"$f":"P80","v":0},0]
[null,null,"Frontal",0,0,null,null,null,null,null,null,null,null,null,4,{"$f":"P79","v":0},0]
[null,null,null,{"$f":"C47","v":10},0,null,null,null,null,null,null,null,null,null,null,{"$f":"P79","v":0},{"$f":"Q79","v":0}]
[null,null,"Ref",{"$f":"C46","v":5},{"$f":"C45","v":5}]

{"sheet":"C. Primario","index":3,"n_rows":25,"n_cols":37,"rows_kept":25,"cut":false,"hidden":false,"merged":[[10,8,10,9],[9,14,9,15],[4,8,4,9],[7,8,7,9],[4,14,4,15],[3,11,3,15],[3,5,3,9],[9,11,9,13],[5,14,5,15],[6,14,6,15],[5,8,5,9],[6,8,6,9],[7,14,7,15],[9,8,9,9],[8,8,8,9]]}
[]
[null,"CIRCUITO PRIMARIO SOLAR   (conexión captador con intercambiador o drainback)",null,null,null,null,null,null,null,null,null,null,null,null,null,null,null,null,null,null,null,null,null,null,null,null,"http://productfinder.wilo.com/es/es/c00000049000165be00020023/product.html#tab=1"]
[null,null,null,null,null,null,null,null,null,null,null,null,null,null,null,null,null,null,null,null,null,null,"Volumen captador",{"$f":"VLOOKUP('HE-4 SOLAR'!$D$45,Captadores!$B$8:$I$58,8,FALSE)","v":1.85},null,null,"http://ebara.generadordeprecios.info/obra_nueva/calculaprecio.asp?Valor=2.82|0|1|ICS020|ics_020:_0_90_180_0_1c16_0"]
[null,"Número total de captadores",{"$f":"'HE-4 SOLAR'!D41","v":8},{"$f":"MAX(AC:AC)","v":8},null,"Datos selección bomba",null,null,null,null,null,"Datos Vaso de expansión o Drain Back",null,null,null,null,null,null,null,null,null,null,"Volumen total captadores",{"$f":"X3*C4","v":14.8},null,null,null,null,null,null,null,null,null,null,"Primario","Wilo Yonos","General"]
[null,"Superficie de captación",{"$f":"'HE-4 SOLAR'!D54","v":18.8},null,null,"Perdida de carga lineal",null,null,{"$f":"SUM(AD:AD)","v":0.79417526796438775},null,null,"Coeficiente exp. fluido",null,null,8.5000000000000006E-2,null,null,null,null,null,null,null,"Serpentin 1",{"$f":"IF(VLOOKUP('HE-4 SOLAR'!D76,Acumuladores!$B$8:$I$55,8,FALSE)=\"---\",0,(VLOOKUP('HE-4 SOLAR'!D76,Acumuladores!$B$8:$I$55,8,FALSE)))","v":0},"num 1",{"$f":"'HE-4 SOLAR'!D77","v":1},null,null,null,null,null,null,null,null,null,"Wilo Maxo","Gran caudal"]
[null,"Caudal por captador",{"$f":"VLOOKUP('HE-4 SOLAR'!$D$45,Captadores!$B$8:$J$58,9,FALSE)","v":50},null,null,"Perdida intercambiador",null,null,2,null,null,"Tarado valvula seguridad",null,null,10,null,null,null,null,null,null,null,"Serpentin 2",{"$f":"IF('HE-4 SOLAR'!D78=\"\",\"0\",VLOOKUP('HE-4 SOLAR'!D78:G78,Acumuladores!$B$8:$I$55,8,FALSE))","v":"0"},"num 1",{"$f":"'HE-4 SOLAR'!D78","v":0},null,null,null,null,null,null,null,null,null,"Stratos"]
[null,"Caudal total",{"$f":"C5*C6","v":940},{"$f":"C7/3600","v":0.26111111111111113},null,"Perdida captadores",null,null,0.03,null,null,"Columna encima del vaso",null,null,15,null,null,null,null,null,null,null,"Serpentin ?¿?",{"$f":"IF(X5+X6<>0,\"SI\",\"NO\")","v":"NO"},null,null,null,null,null,null,null,null,null,null,"ACS","Stratos Z","Recirculacion"]
[null,"Fluido caloportador","agua glicolada",{"$f":"IF(C8=\"agua\",1,1.3)","v":1.3},null,"Montaje de captadores",null,null,"paralelo",null,null,"Volumen interc. placas",null,null,4,null,null,null,null,null,null,null,"Volumen intercambiador",{"$f":"IF(X7=\"SI\",(X5*Z5)+(X6*Z6),O8)","v":4}]
[null,"Velocidad del fluido",1.5,{"$f":"IF('HE-4 SOLAR'!D84=\"Disipador dinámico\",1,0)","v":1},{"$f":"IF('HE-4 SOLAR'!D84=\"Disipador dinámico\",'HE-4 SOLAR'!G85&\">>>\",0)","v":"0,27>>>"},"Perdida carga adicional",null,null,0.27,null,null,null,null,null,null,null,null,null,null,null,null,null,"Volumen en equipos (litros)",{"$f":"X4+X8","v":18.8}]
[null,"Tipo de tubería","cobre",{"$f":"IF(C10=\"cobre\",1,1.25)","v":1},null,"Caudal de la bomba",null,null,{"$f":"C7*0.001","v":0.94000000000000006},null,null,"Volumen min del vaso",null,null,{"$f":"X11*O11*X13","v":50.048293627763719},null,null,null,null,null,null,null,"Presion absoluta final (Kg/cm2)",{"$f":"MIN((O6*0.9)+1,0.65*O6)","v":6.5}]
[null,"Perdida de carga maxima (mmca /m)",40,null,null,"Perdida de carga TOTAL",null,null,{"$f":"IF(I8=\"paralelo\",I5+(('HE-4 SOLAR'!D77+'HE-4 SOLAR'!D79)*I6)+I7+I9,(I5+(('HE-4 SOLAR'!D77+'HE-4 SOLAR'!D79)*I6)+I9+('HE-4 SOLAR'!D48*I7)))","v":3.0941752679643875},null,null,"Coeficiente de presión",null,null,{"$f":"X10/(X10-X12)","v":1.8571428571428572},null,null,null,null,null,null,null,"Volumen util",{"$f":"O13+O14+O15","v":22.457567653483721}]
[{"$f":"IF('HE-4 SOLAR'!L31='Tablas primario'!B14,1,0)","v":0},"Caudal por acumulador ind.",{"$f":"C7/'HE-4 SOLAR'!Q23","v":58.75},null,null,null,null,null,null,null,null,"Volumen en circuito (litros)",null,null,{"$f":"SUM(AE:AE)+X9","v":37.383148864514347},null,null,null,null,null,null,null,"Presion absoluta inicial (Kg/cm2)",{"$f":"0.5+1+(O7/10)","v":3}]
[null,null,null,null,null,"Nota: se considera un sistema cerrado (presurizado) ",null,null,null,null,null,"Volumen dilatado (litros)",null,null,{"$f":"O12*O5","v":3.1775676534837198},null,null,null,null,null,null,null,"coeficiente seguridad",1.2]
[null,null,null,null,null,"no se considera la perdida de carga por altura geometrica",null,null,null,null,null,"Volumen de reserva (litros)",null,null,{"$f":"MAX(3,0.029*O12)","v":3}]
[null,null,null,null,null,null,null,null,null,null,null,"Volumen vaporizado (litros)",null,null,{"$f":"X4*1.1","v":16.28}]
[null,null,null,null,null,null,null,null,null,null,null,null,null,null,null,null,null,null,null,"( en rojo los diámetros que superan la velocidad o perdida de carga máxima)"]
[null,"Tramo","Núm. Captadores","Caudal ","Longitud ","Parte del ","Caudal ","Velocidad","Diámetro","Serie","Serie","Diámetro","Velocidad","Pérdida","+25%","Pérdida","Pérdida","Volumen",null,"D ext","15/13","18/16","22/20","28/26","35/33","42/40","54/52",{"$f":"INDEX(U17:AA17,1,MAX(MATCH(AB20,U17:AA17,0),MATCH(AB19,U17:AA17,0)))","v":"28/26"}]
[null,"Descripcion","a los que da ","adicional","del tramo","tramo mas","TOTAL","Máxima","Teórico Int","nominal","nominal","Nom. Int.","Cálculo","Tubería","Accesorios","Total","TOTAL","fluido",null,"D int",13,16,20,25.6,32.6,39.6,51.6]
[null,null,"servicio el tramo","l/h","(m)","desfavorable","(l/s)","(m/s)","(mm)","CALCULO","SELEC.","(mm)","(m/s)","(mca /m)","(mca)","(mca)","(KPa)","(litros)",null,"v (m/s)",{"$f":"4000*G20/(PI()*U18*U18)","v":1.9672011374935126},{"$f":"4000*G20/(PI()*V18*V18)","v":1.2986601259234518},{"$f":"4000*G20/(PI()*W18*W18)","v":0.83114248059100904},{"$f":"4000*G20/(PI()*X18*X18)","v":0.50728911168884827},{"$f":"4000*G20/(PI()*Y18*Y18)","v":0.31282414866611802},{"$f":"4000*G20/(PI()*Z18*Z18)","v":0.21200450989465591},{"$f":"4000*G20/(PI()*AA18*AA18)","v":0.12486366212832899},{"$f":"IF(U19<2,U17,INDEX(U17:AA17,1,MATCH(H20,U19:AA19,-1)+1))","v":"15/13"}]
[null,"General   / 8 captadores",8,0,30,"SI",{"$f":"($C$6*($C$5/$C$4)*C20 + D20)/3600","v":0.26111111111111113},{"$f":"$C$9","v":1.5},{"$f":"(4000*G20/(PI()*$H$20))^0.5","v":14.887511371087818},{"$f":"AB17","v":"28/26"},{"$f":"J20","v":"28/26"},{"$f":"VLOOKUP(K20,'Tablas primario'!$B$5:$C$11,2,FALSE)","v":25.6},{"$f":"4000*G20/(PI()*L20*L20)","v":0.50728911168884827},{"$f":"$D$10*$D$8*(378*((G20*3600)^1.75)*(L20^-4.75)/1000)","v":1.6042389653654367E-2},{"$f":"N20*0.25","v":4.0105974134135918E-3},{"$f":"(N20+O20)*E20","v":0.60158961201203875},{"$f":"P20*9.8","v":5.8955781977179802},{"$f":"E20*VLOOKUP(K20,'Tablas primario'!$B$5:$E$11,4,FALSE)","v":15.441556210924553},null,"mca /m",{"$f":"$D$10*$D$8*(378*((G20*3600)^1.75)*(U18^-4.75)/1000)","v":0.40103102518681005},{"$f":"$D$10*$D$8*(378*((G20*3600)^1.75)*(V18^-4.75)/1000)","v":0.14956810054619643},{"$f":"$D$10*$D$8*(378*((G20*3600)^1.75)*(W18^-4.75)/1000)","v":5.1822268070277032E-2},{"$f":"$D$10*$D$8*(378*((G20*3600)^1.75)*(X18^-4.75)/1000)","v":1.6042389653654367E-2},{"$f":"$D$10*$D$8*(378*((G20*3600)^1.75)*(Y18^-4.75)/1000)","v":5.0889161564759058E-3},{"$f":"$D$10*$D$8*(378*((G20*3600)^1.75)*(Z18^-4.75)/1000)","v":2.0200250858267246E-3},{"$f":"$D$10*$D$8*(378*((G20*3600)^1.75)*(AA18^-4.75)/1000)","v":5.7454336442359845E-4},{"$f":"IF(U20<($C$11/1000),U17,INDEX(U17:AA17,1,MATCH(($C$11/1000),U20:AA20,-1)+1))","v":"28/26"},{"$f":"C20","v":8},{"$f":"IF(F20=\"SI\",P20,0)","v":0.60158961201203875},{"$f":"R20","v":15.441556210924553}]
[]
[null,"Tramo","Núm. Captadores","Caudal ","Longitud ","Parte del ","Caudal ","Velocidad","Diámetro","Serie","Serie","Diámetro","Velocidad","Pérdida","+25%","Pérdida","Pérdida","Volumen",null,"D ext","15/13","18/16","22/20","28/26","35/33","42/40","54/52",{"$f":"INDEX(U22:AA22,1,MAX(MATCH(AB25,U22:AA22,0),MATCH(AB24,U22:AA22,0)))","v":"22/20"}]
[null,"Descripcion","a los que da ","adicional","del tramo","tramo mas","TOTAL","Máxima","Teórico Int","nominal","nominal","Nom. Int.","Cálculo","Tubería","Accesorios","Total","TOTAL","fluido",null,"D int",13,16,20,25.6,32.6,39.6,51.6]
[null,null,"servicio el tramo","l/h","(m)","desfavorable","(l/s)","(m/s)","(mm)","CALCULO","SELEC.","(mm)","(m/s)","(mca /m)","(mca)","(mca)","(KPa)","(litros)",null,"v (m/s)",{"$f":"4000*G25/(PI()*U23*U23)","v":0.98360056874675628},{"$f":"4000*G25/(PI()*V23*V23)","v":0.64933006296172591},{"$f":"4000*G25/(PI()*W23*W23)","v":0.41557124029550452},{"$f":"4000*G25/(PI()*X23*X23)","v":0.25364455584442414},{"$f":"4000*G25/(PI()*Y23*Y23)","v":0.15641207433305901},{"$f":"4000*G25/(PI()*Z23*Z23)","v":0.10600225494732796},{"$f":"4000*G25/(PI()*AA23*AA23)","v":6.2431831064164493E-2},{"$f":"IF(U24<2,U22,INDEX(U22:AA22,1,MATCH(H25,U24:AA24,-1)+1))","v":"15/13"}]
[null,"General   / 8 captadores",4,0,10,"SI",{"$f":"($C$6*($C$5/$C$4)*C25 + D25)/3600","v":0.13055555555555556},{"$f":"$C$9","v":1.5},{"$f":"(4000*G25/(PI()*$H$20))^0.5","v":10.527060245488032},{"$f":"AB22","v":"22/20"},{"$f":"J25","v":"22/20"},{"$f":"VLOOKUP(K25,'Tablas primario'!$B$5:$C$11,2,FALSE)","v":20},{"$f":"4000*G25/(PI()*L25*L25)","v":0.41557124029550452},{"$f":"$D$10*$D$8*(378*((G25*3600)^1.75)*(L25^-4.75)/1000)","v":1.5406852476187921E-2},{"$f":"N25*0.25","v":3.8517131190469803E-3},{"$f":"(N25+O25)*E25","v":0.192585655952349},{"$f":"P25*9.8","v":1.8873394283330203},{"$f":"E25*VLOOKUP(K25,'Tablas primario'!$B$5:$E$11,4,FALSE)","v":3.1415926535897931},null,"mca /m",{"$f":"$D$10*$D$8*(378*((G25*3600)^1.75)*(U23^-4.75)/1000)","v":0.1192272371222473},{"$f":"$D$10*$D$8*(378*((G25*3600)^1.75)*(V23^-4.75)/1000)","v":4.4466862336744725E-2},{"$f":"$D$10*$D$8*(378*((G25*3600)^1.75)*(W23^-4.75)/1000)","v":1.5406852476187921E-2},{"$f":"$D$10*$D$8*(378*((G25*3600)^1.75)*(X23^-4.75)/1000)","v":4.769430979442945E-3},{"$f":"$D$10*$D$8*(378*((G25*3600)^1.75)*(Y23^-4.75)/1000)","v":1.5129438252333594E-3},{"$f":"$D$10*$D$8*(378*((G25*3600)^1.75)*(Z23^-4.75)/1000)","v":6.0055705113727978E-4},{"$f":"$D$10*$D$8*(378*((G25*3600)^1.75)*(AA23^-4.75)/1000)","v":1.7081276421253584E-4},{"$f":"IF(U25<($C$11/1000),U22,INDEX(U22:AA22,1,MATCH(($C$11/1000),U25:AA25,-1)+1))","v":"22/20"},{"$f":"C25","v":4},{"$f":"IF(F25=\"SI\",P25,0)","v":0.192585655952349},{"$f":"R25","v":3.1415926535897931}]

{"sheet":"Tablas primario","index":4,"n_rows":14,"n_cols":10,"rows_kept":14,"cut":false,"hidden":true,"merged":[]}
[]
[null,"Tuberia de cobre sanitario"]
[null,"Dim. Ext","Dim int.","espesor","Volumen"]
[null,"(mm)","(mm)","(mm)","(litros/ml)",null,"cobre",560,null,"paralelo"]
[1,"15/13",13,1,{"$f":"(PI()*(C5/2)*(C5/2)/10000)*10","v":0.13273228961416877},null,"acero inox.",700,null,"serie"]
[{"$f":"A5+1","v":2},"18/16",16,1,{"$f":"(PI()*(C6/2)*(C6/2)/10000)*10","v":0.20106192982974674}]
[{"$f":"A6+1","v":3},"22/20",20,1,0.31415926535897931,null,"agua",1]
[4,"28/26",25.6,1.2,0.51471854036415177,null,"agua glicolada",1.3]
[5,"35/33",32.6,1.2,0.83468975213227226]
[6,"42/40",39.6,1.2,1.2316299839133424]
[7,"54/52",51.6,1.2,2.09116973393551]
[]
[null,"Acumulación centralizada"]
[null,"Acumulación individual"]

{"sheet":"Informe calculo","index":5,"n_rows":129,"n_cols":18,"rows_kept":129,"cut":false,"hidden":false,"merged":[[58,3,58,6],[6,3,6,16],[1,1,1,16],[71,1,71,16],[50,1,50,16],[29,1,29,16],[15,1,15,16],[2,1,2,16],[11,3,11,16],[12,3,12,16],[13,3,13,16],[56,5,56,6],[61,5,61,6],[62,5,62,6],[45,6,45,7],[40,3,40,5],[63,5,63,6],[65,5,65,6],[66,5,66,6],[73,5,73,15],[101,8,101,16],[120,8,120,10],[121,8,121,10],[118,11,118,12],[119,11,119,12],[120,11,120,12],[121,11,121,12],[4,3,4,13],[4,14,4,15],[118,8,118,10],[119,8,119,10],[116,8,116,10],[116,11,116,12],[110,8,110,10],[111,8,111,10],[110,11,110,12],[111,11,111,12],[115,8,115,10],[115,11,115,12],[105,8,105,10],[106,8,106,10],[105,11,105,12],[106,11,106,12]]}
[]
[null,"INSTALACIÓN SOLAR TÉRMICA"]
[null,"Informe de calculo de cumplimiento del CTE-HE4"]
[]
[null,"PROYECTO",null,"Ejemplo",null,null,null,null,null,null,null,null,null,null,"Cumple CTE",null,{"$f":"IF(R5=1,\"CUMPLE\",\"NO CUMPLE\")","v":"CUMPLE"},{"$f":"I46*H57*H62*H63*H64*H66*H67","v":1}]
[]
[null,"Localidad",null,{"$f":"IF('HE-4 SOLAR'!D11=\"Otra localidad (definida por usuario)\",'Localidad Usuario'!D5,'HE-4 SOLAR'!D6)","v":"Madrid"}]
[null,"Zona climática s/ CTE-HE4",null,{"$f":"IF('HE-4 SOLAR'!D11=\"Otra localidad (definida por usuario)\",\"---\",'HE-4 SOLAR'!D7)","v":"IV"}]
[null,"Zona Climática s/ CTE-HE1",null,{"$f":"IF('HE-4 SOLAR'!D11=\"Otra localidad (definida por usuario)\",\"---\",'HE-4 SOLAR'!D8)","v":"D3"}]
[null,"Latitud de cálculo:",null,{"$f":"'HE-4 SOLAR'!D9","v":40.4}]
[]
[null,"Método de calculo",null,"Método f-chart recogido en el Pliego de Condiciones Térmicas para Instalaciones de Baja Temperatura del IDAE"]
[null,"Datos de radiación solar",null,{"$f":"'HE-4 SOLAR'!$D$11","v":"Atlas Radiacion solar 2012 AEMET"}]
[null,"Datos de Tª del agua",null,"Anexo B del CTE-HE4 2013 para la localidad del edificio"]
[]
[null,"CALCULO DE NECESIDADES DE ACS"]
[]
[null,"Demanda de ACS viviendas",null,{"$f":"'HE-4 SOLAR'!L25","v":1612.8},"litros/dia"]
[null,"Demanda de ACS otros usos",null,{"$f":"'HE-4 SOLAR'!L26","v":0},"litros/dia"]
[]
[null,"Demanda TOTAL de ACS a 60ºC",null,{"$f":"'HE-4 SOLAR'!L28","v":1612.8},"litros/dia"]
[]
[null,"Temperatura de agua en calculo",null,{"$f":"'HE-4 SOLAR'!D66","v":60},"ºC"]
[null,"Demanda TOTAL de ACS a 60ºC",null,{"$f":"'HE-4 SOLAR'!D67","v":1612.8},"litros/dia"]
[]
[null,null,null,"Ene","Feb","Mar","Abr","May","Jun","Jul","Ago","Sep","Oct","Nov","Dic","Anual"]
[null,"% ocupación prevista",null,1,1,1,1,1,1,1,1,1,1,1,1,{"$f":"SUM(D27:O27)/12","v":1}]
[null,"Consumo mensual de agua  (l/mes)",null,{"$f":"'HE-4 SOLAR'!D95","v":49996.799999999996},{"$f":"'HE-4 SOLAR'!E95","v":45158.400000000001},{"$f":"'HE-4 SOLAR'!F95","v":49996.799999999996},{"$f":"'HE-4 SOLAR'!G95","v":48384},{"$f":"'HE-4 SOLAR'!H95","v":49996.799999999996},{"$f":"'HE-4 SOLAR'!I95","v":48384},{"$f":"'HE-4 SOLAR'!J95","v":49996.799999999996},{"$f":"'HE-4 SOLAR'!K95","v":49996.799999999996},{"$f":"'HE-4 SOLAR'!L95","v":48384},{"$f":"'HE-4 SOLAR'!M95","v":49996.799999999996},{"$f":"'HE-4 SOLAR'!N95","v":48384},{"$f":"'HE-4 SOLAR'!O95","v":49996.799999999996},{"$f":"'HE-4 SOLAR'!P95","v":49056}]
[]
[null,"EQUIPOS SELECCIONADOS"]
[]
[null,"Volumen de acumulación proyectado",null,{"$f":"'HE-4 SOLAR'!D81","v":1500},"litros"]
[null,"Nº de depositos",null,{"$f":"'HE-4 SOLAR'!D77","v":1},{"$f":"'HE-4 SOLAR'!D76","v":"Lapesa acumulador MVV 1500 RB"}]
[null,null,null,{"$f":"IF('HE-4 SOLAR'!D79=0,\"\",'HE-4 SOLAR'!D79)","v":""},{"$f":"IF('HE-4 SOLAR'!D79=0,\"\",'HE-4 SOLAR'!D78)","v":""}]
[]
[null,"Panel solar proyectado",null,{"$f":"'HE-4 SOLAR'!D41","v":8},{"$f":"'HE-4 SOLAR'!D45","v":"Saunier Duval  SCV 2.3 (cub. Incli./panel vert)"}]
[null,"Factores de rendimiento del panel",null,"K0",{"$f":"VLOOKUP($E$36,Captadores!$B$8:$G$58,4,FALSE)","v":0.753},"K1",{"$f":"VLOOKUP($E$36,Captadores!$B$8:$G$58,5,FALSE)","v":2.8340000000000001},"K2",{"$f":"VLOOKUP($E$36,Captadores!$B$8:$G$58,6,FALSE)","v":5.6000000000000001E-2}]
[null,"Número de grupos",null,{"$f":"'HE-4 SOLAR'!D47","v":2}]
[null,"Nüemro de paneles por grupo",null,{"$f":"'HE-4 SOLAR'!D48","v":4}]
[]
[null,"Sistema de disipación de calor",null,{"$f":"'HE-4 SOLAR'!D84:G84","v":"Disipador dinámico"},null,null,null,"Potencia",{"$f":"'HE-4 SOLAR'!D85","v":16}]
[]
[null,"Superficie de captación del panel (m²)",null,{"$f":"'HE-4 SOLAR'!D50","v":2.35},"m2"]
[]
[null,"Area total de captación proyectada (m2)",null,{"$f":"'HE-4 SOLAR'!D54","v":18.8},"m2"]
[null,"Relación Volumen/área captación",null,{"$f":"'HE-4 SOLAR'!D82","v":79.787234042553195},"Valor entre 50 y 180",null,{"$f":"'HE-4 SOLAR'!I82","v":"CUMPLE"},null,{"$f":"IF(G46=\"CUMPLE\",1,0)","v":1}]
[]
[null,"Orientación de los captadores",null,{"$f":"'HE-4 SOLAR'!D40","v":15},"grados respecto al Sur"]
[null,"Inclinación de los captadores",null,{"$f":"'HE-4 SOLAR'!D39","v":35},"grados de inclinación"]
[]
[null,"CUMPLIMIENTO DEL CTE HE4"]
[]
[null,null,null,"Ene","Feb","Mar","Abr","May","Jun","Jul","Ago","Sep","Oct","Nov","Dic","Anual"]
[null,"% energía aportado por el sistema solar",null,{"$f":"'HE-4 SOLAR'!F55","v":0.15941806860212163},{"$f":"'HE-4 SOLAR'!G55","v":0.40309962456076159},{"$f":"'HE-4 SOLAR'!H55","v":0.55406254124323795},{"$f":"'HE-4 SOLAR'!I55","v":0.62992907551607957},{"$f":"'HE-4 SOLAR'!J55","v":0.68621907302383989},{"$f":"'HE-4 SOLAR'!K55","v":0.79914538188531936},{"$f":"'HE-4 SOLAR'!L55","v":0.88597685797022196},{"$f":"'HE-4 SOLAR'!M55","v":0.83725732879247561},{"$f":"'HE-4 SOLAR'!N55","v":0.73481499620109791},{"$f":"'HE-4 SOLAR'!O55","v":0.52790643711169427},{"$f":"'HE-4 SOLAR'!P55","v":0.19676941254167832},{"$f":"'HE-4 SOLAR'!Q55","v":0.12886976812254008},{"$f":"'HE-4 SOLAR'!D43","v":0.54911453485654382}]
[]
[null,null,null,"Mínimo","Proyectado"]
[null,"Contribución anual del sistema",null,{"$f":"'HE-4 SOLAR'!F43","v":0.5},{"$f":"P54","v":0.54911453485654382},{"$f":"'HE-4 SOLAR'!E139","v":"CUMPLE"},null,{"$f":"IF(F57=\"CUMPLE\",1,0)","v":1}]
[]
[null,"Disposición del modulo solar",null,{"$f":"'HE-4 SOLAR'!D144:E144","v":"General"}]
[]
[null,null,null,"Maximo","Proyectado"]
[null,"Perdidas por orientación e inclinación",null,{"$f":"'HE-4 SOLAR'!D146","v":0.1},{"$f":"'HE-4 SOLAR'!D147","v":1.1374199999999998E-2},{"$f":"'HE-4 SOLAR'!E147","v":"CUMPLE"},null,{"$f":"IF(F62=\"CUMPLE\",1,0)","v":1}]
[null,"Perdida límite por sombras",null,{"$f":"'HE-4 SOLAR'!D149","v":0.1},{"$f":"'HE-4 SOLAR'!D150","v":7.192743296454962E-2},{"$f":"'HE-4 SOLAR'!E150","v":"CUMPLE"},null,{"$f":"IF(F63=\"CUMPLE\",1,0)","v":1}]
[null,"Perdida límite TOTAL",null,{"$f":"'HE-4 SOLAR'!D152","v":0.15},{"$f":"'HE-4 SOLAR'!D153","v":8.3301632964549621E-2},{"$f":"'HE-4 SOLAR'!E153","v":"CUMPLE"},null,{"$f":"IF(F64=\"CUMPLE\",1,0)","v":1}]
[]
[null,"Ningún mes supera una contribucion del 110%",null,"max",{"$f":"MAX(D54:O54)","v":0.88597685797022196},{"$f":"'HE-4 SOLAR'!D157","v":"CUMPLE"},null,{"$f":"IF(F66=\"CUMPLE\",1,0)","v":1}]
[null,"< 100% de contribución en más de 3 meses seguidos",null,null,null,{"$f":"'HE-4 SOLAR'!D159","v":"CUMPLE"},null,{"$f":"IF(F67=\"CUMPLE\",1,0)","v":1}]
[]
[null,"Consumo de enrgía convencional",null,{"$f":"'HE-4 SOLAR'!D126","v":17517.387872818352},"kWh/año"]
[null,"Porcentaje de uso de energía convencional",null,{"$f":"1-E57","v":0.45088546514345618}]
[]
[null,"CALCULO DE LA APORTACIÓN POR EL MÉTODO F-CHART"]
[]
[null,"Estimación perdidas térmicas del circuito",null,{"$f":"'HE-4 SOLAR'!D68","v":0.15},null,"Ecuación de la fracción de carga calorífica mensual aportada:  f = 1,029D1 - 0,065D2 - 0,245D1² + 0,0018D2² + 0,215D1³"]
[]
[null,{"$f":"'HE-4 SOLAR'!B92","v":"DEMANDA POR CONSUMO A.C.S"},null,"Ene","Feb","Mar","Abr","May","Jun","Jul","Ago","Sep","Oct","Nov","Dic","Anual"]
[null,"Energía necesaria por consumo de ACS (kWh)",null,{"$f":"'HE-4 SOLAR'!D98","v":3015.8069759999994},{"$f":"'HE-4 SOLAR'!E98","v":2723.9546880000003},{"$f":"'HE-4 SOLAR'!F98","v":2899.8144000000002},{"$f":"'HE-4 SOLAR'!G98","v":2694.0211199999999},{"$f":"'HE-4 SOLAR'!H98","v":2667.829248},{"$f":"'HE-4 SOLAR'!I98","v":2413.39392},{"$f":"'HE-4 SOLAR'!J98","v":2319.8515199999997},{"$f":"'HE-4 SOLAR'!K98","v":2377.847808},{"$f":"'HE-4 SOLAR'!L98","v":2413.39392},{"$f":"'HE-4 SOLAR'!M98","v":2725.8255359999994},{"$f":"'HE-4 SOLAR'!N98","v":2806.2719999999999},{"$f":"'HE-4 SOLAR'!O98","v":3015.8069759999994},{"$f":"'HE-4 SOLAR'!P98","v":2672.8181759999998},"kWh/mes"]
[null,{"$f":"'HE-4 SOLAR'!B99","v":"Mayoración  pérdidas de Intercambio y Circulación"},null,{"$f":"'HE-4 SOLAR'!D99","v":3468.178022399999},{"$f":"'HE-4 SOLAR'!E99","v":3132.5478911999999},{"$f":"'HE-4 SOLAR'!F99","v":3334.78656},{"$f":"'HE-4 SOLAR'!G99","v":3098.1242879999995},{"$f":"'HE-4 SOLAR'!H99","v":3068.0036351999997},{"$f":"'HE-4 SOLAR'!I99","v":2775.4030079999998},{"$f":"'HE-4 SOLAR'!J99","v":2667.8292479999996},{"$f":"'HE-4 SOLAR'!K99","v":2734.5249792},{"$f":"'HE-4 SOLAR'!L99","v":2775.4030079999998},{"$f":"'HE-4 SOLAR'!M99","v":3134.6993663999992},{"$f":"'HE-4 SOLAR'!N99","v":3227.2127999999998},{"$f":"'HE-4 SOLAR'!O99","v":3468.178022399999},{"$f":"'HE-4 SOLAR'!P99","v":3073.7409023999994},"kWh/mes"]
[]
[null,{"$f":"'HE-4 SOLAR'!B101","v":"ENERGIA ABSORBIDA POR CAPTADORES"},null,"Ene","Feb","Mar","Abr","May","Jun","Jul","Ago","Sep","Oct","Nov","Dic","Anual"]
[null,{"$f":"'HE-4 SOLAR'!B105","v":"Factor de corrección por inclinación (k)"},null,{"$f":"'HE-4 SOLAR'!D105","v":1.37},{"$f":"'HE-4 SOLAR'!E105","v":1.28},{"$f":"'HE-4 SOLAR'!F105","v":1.17},{"$f":"'HE-4 SOLAR'!G105","v":1.06},{"$f":"'HE-4 SOLAR'!H105","v":0.98},{"$f":"'HE-4 SOLAR'!I105","v":0.95},{"$f":"'HE-4 SOLAR'!J105","v":0.98},{"$f":"'HE-4 SOLAR'!K105","v":1.07},{"$f":"'HE-4 SOLAR'!L105","v":1.21},{"$f":"'HE-4 SOLAR'!M105","v":1.37},{"$f":"'HE-4 SOLAR'!N105","v":1.47},{"$f":"'HE-4 SOLAR'!O105","v":1.45},{"$f":"'HE-4 SOLAR'!P105","v":1.1966666666666668}]
[null,{"$f":"'HE-4 SOLAR'!B106","v":"Factor de corrección por orientación"},null,{"$f":"'HE-4 SOLAR'!D106","v":0.99212500000000003},{"$f":"'HE-4 SOLAR'!E106","v":0.99212500000000003},{"$f":"'HE-4 SOLAR'!F106","v":0.99212500000000003},{"$f":"'HE-4 SOLAR'!G106","v":0.99212500000000003},{"$f":"'HE-4 SOLAR'!H106","v":0.99212500000000003},{"$f":"'HE-4 SOLAR'!I106","v":0.99212500000000003},{"$f":"'HE-4 SOLAR'!J106","v":0.99212500000000003},{"$f":"'HE-4 SOLAR'!K106","v":0.99212500000000003},{"$f":"'HE-4 SOLAR'!L106","v":0.99212500000000003},{"$f":"'HE-4 SOLAR'!M106","v":0.99212500000000003},{"$f":"'HE-4 SOLAR'!N106","v":0.99212500000000003},{"$f":"'HE-4 SOLAR'!O106","v":0.99212500000000003},{"$f":"'HE-4 SOLAR'!P106","v":0.99212499999999981}]
[null,{"$f":"'HE-4 SOLAR'!B107","v":"Factor de corrección por sombras "},null,{"$f":"'HE-4 SOLAR'!D107","v":0.49801141364197044},{"$f":"'HE-4 SOLAR'!E107","v":0.95028724398333908},{"$f":"'HE-4 SOLAR'!F107","v":0.99883388266169093},{"$f":"'HE-4 SOLAR'!G107","v":0.99784022521136584},{"$f":"'HE-4 SOLAR'!H107","v":1},{"$f":"'HE-4 SOLAR'!I107","v":1},{"$f":"'HE-4 SOLAR'!J107","v":1},{"$f":"'HE-4 SOLAR'!K107","v":0.99751631225700665},{"$f":"'HE-4 SOLAR'!L107","v":0.99855371892175193},{"$f":"'HE-4 SOLAR'!M107","v":0.99364561615911562},{"$f":"'HE-4 SOLAR'!N107","v":0.51068624449811317},{"$f":"'HE-4 SOLAR'!O107","v":0.46669871332282065},{"$f":"'HE-4 SOLAR'!P107","v":0.92807256703545038}]
[null,{"$f":"'HE-4 SOLAR'!B108","v":"Factor de corección total"},null,{"$f":"'HE-4 SOLAR'!D108","v":0.67690271605056984},{"$f":"'HE-4 SOLAR'!E108","v":1.2067887768793222},{"$f":"'HE-4 SOLAR'!F108","v":1.1594326370278041},{"$f":"'HE-4 SOLAR'!G108","v":1.049381167444096},{"$f":"'HE-4 SOLAR'!H108","v":0.97228250000000005},{"$f":"'HE-4 SOLAR'!I108","v":0.94251874999999996},{"$f":"'HE-4 SOLAR'!J108","v":0.97228250000000005},{"$f":"'HE-4 SOLAR'!K108","v":1.0589371322888417},{"$f":"'HE-4 SOLAR'!L108","v":1.1987350311461442},{"$f":"'HE-4 SOLAR'!M108","v":1.3505742999966519},{"$f":"'HE-4 SOLAR'!N108","v":0.74479694777435512},{"$f":"'HE-4 SOLAR'!O108","v":0.6713840183853349},{"$f":"'HE-4 SOLAR'!P108","v":1.0003347064160935}]
[null,{"$f":"'HE-4 SOLAR'!B109","v":"Radiación solar incidente (KWh/m² mes)"},null,{"$f":"'HE-4 SOLAR'!D109","v":47.702448281108623},{"$f":"'HE-4 SOLAR'!E109","v":109.976404376357},{"$f":"'HE-4 SOLAR'!F109","v":167.37362782646443},{"$f":"'HE-4 SOLAR'!G109","v":181.27972219166139},{"$f":"'HE-4 SOLAR'!H109","v":199.21634138816668},{"$f":"'HE-4 SOLAR'!I109","v":219.16897453874998},{"$f":"'HE-4 SOLAR'!J109","v":242.68172496376661},{"$f":"'HE-4 SOLAR'!K109","v":230.12127566781049},{"$f":"'HE-4 SOLAR'!L109","v":196.99655877129828},{"$f":"'HE-4 SOLAR'!M109","v":149.26467329615485},{"$f":"'HE-4 SOLAR'!N109","v":54.374124611351121},{"$f":"'HE-4 SOLAR'!O109","v":38.976349513586243},{"$f":"'HE-4 SOLAR'!P109","v":153.09435211887299},"KWh/m² mes"]
[null,{"$f":"'HE-4 SOLAR'!B110","v":"Radiación solar absorvida (KWh/mes)"},null,{"$f":"'HE-4 SOLAR'!D110","v":615.86898422817762},{"$f":"'HE-4 SOLAR'!E110","v":1419.8654134730755},{"$f":"'HE-4 SOLAR'!F110","v":2160.9001187658555},{"$f":"'HE-4 SOLAR'!G110","v":2340.4366524214402},{"$f":"'HE-4 SOLAR'!H110","v":2572.0098282874274},{"$f":"'HE-4 SOLAR'!I110","v":2829.6110280982484},{"$f":"'HE-4 SOLAR'!J110","v":3133.1756090046833},{"$f":"'HE-4 SOLAR'!K110","v":2971.0122100997783},{"$f":"'HE-4 SOLAR'!L110","v":2543.3510211460862},{"$f":"'HE-4 SOLAR'!M110","v":1927.1019839973139},{"$f":"'HE-4 SOLAR'!N110","v":702.0045741750954},{"$f":"'HE-4 SOLAR'!O110","v":503.20949235976855},{"$f":"'HE-4 SOLAR'!P110","v":1976.5455763380789},"KWh/mes"]
[]
[null,{"$f":"'HE-4 SOLAR'!B113","v":"CALCULO DE ENERGIA APORTADA"},null,"Ene","Feb","Mar","Abr","May","Jun","Jul","Ago","Sep","Oct","Nov","Dic","Anual"]
[null,{"$f":"'HE-4 SOLAR'!B115","v":"Relación  radiación absorvida y ener. demandada"},null,{"$f":"'HE-4 SOLAR'!D115","v":0.17757709674948946},{"$f":"'HE-4 SOLAR'!E115","v":0.45326215680908905},{"$f":"'HE-4 SOLAR'!F115","v":0.64798753380062069},{"$f":"'HE-4 SOLAR'!G115","v":0.75543665613632105},{"$f":"'HE-4 SOLAR'!H115","v":0.83833337052736601},{"$f":"'HE-4 SOLAR'!I115","v":1.0195315851218709},{"$f":"'HE-4 SOLAR'!J115","v":1.1744288399842462},{"$f":"'HE-4 SOLAR'!K115","v":1.086482015230654},{"$f":"'HE-4 SOLAR'!L115","v":0.91638980494543243},{"$f":"'HE-4 SOLAR'!M115","v":0.61476453042145052},{"$f":"'HE-4 SOLAR'!N115","v":0.2175265833647832},{"$f":"'HE-4 SOLAR'!O115","v":0.14509332828640228},{"$f":"'HE-4 SOLAR'!P115","v":0.64304235103055618},"valor D1"]
[null,{"$f":"'HE-4 SOLAR'!B116","v":"Factor de corrección por almacenamiento"},null,{"$f":"'HE-4 SOLAR'!D116","v":0.98465017721181858},{"$f":"'HE-4 SOLAR'!E116","v":0.98465017721181858},{"$f":"'HE-4 SOLAR'!F116","v":0.98465017721181858},{"$f":"'HE-4 SOLAR'!G116","v":0.98465017721181858},{"$f":"'HE-4 SOLAR'!H116","v":0.98465017721181858},{"$f":"'HE-4 SOLAR'!I116","v":0.98465017721181858},{"$f":"'HE-4 SOLAR'!J116","v":0.98465017721181858},{"$f":"'HE-4 SOLAR'!K116","v":0.98465017721181858},{"$f":"'HE-4 SOLAR'!L116","v":0.98465017721181858},{"$f":"'HE-4 SOLAR'!M116","v":0.98465017721181858},{"$f":"'HE-4 SOLAR'!N116","v":0.98465017721181858},{"$f":"'HE-4 SOLAR'!O116","v":0.98465017721181858},{"$f":"'HE-4 SOLAR'!P116","v":0.98465017721181869},"valor K1"]
[null,{"$f":"'HE-4 SOLAR'!B117","v":"Factor de corrección para acs según su temperatura"},null,{"$f":"'HE-4 SOLAR'!D117","v":1.0570212765957445},{"$f":"'HE-4 SOLAR'!E117","v":1.0295652173913041},{"$f":"'HE-4 SOLAR'!F117","v":1.0728089887640451},{"$f":"'HE-4 SOLAR'!G117","v":1.1328735632183908},{"$f":"'HE-4 SOLAR'!H117","v":1.1546341463414636},{"$f":"'HE-4 SOLAR'!I117","v":1.2293506493506492},{"$f":"'HE-4 SOLAR'!J117","v":1.3144444444444445},{"$f":"'HE-4 SOLAR'!K117","v":1.2894594594594597},{"$f":"'HE-4 SOLAR'!L117","v":1.2569620253164555},{"$f":"'HE-4 SOLAR'!M117","v":1.1503529411764704},{"$f":"'HE-4 SOLAR'!N117","v":1.0728089887640451},{"$f":"'HE-4 SOLAR'!O117","v":1.0434408602150538},{"$f":"'HE-4 SOLAR'!P117","v":1.1503102134197938},"valor K2"]
[null,{"$f":"'HE-4 SOLAR'!B118","v":"Energia mensual perdida por el captador"},null,{"$f":"'HE-4 SOLAR'!D118","v":733.53274247449588},{"$f":"'HE-4 SOLAR'!E118","v":631.60556538658977},{"$f":"'HE-4 SOLAR'!F118","v":704.88834794147408},{"$f":"'HE-4 SOLAR'!G118","v":704.1548533026172},{"$f":"'HE-4 SOLAR'!H118","v":698.98228721301598},{"$f":"'HE-4 SOLAR'!I118","v":676.29158293045589},{"$f":"'HE-4 SOLAR'!J118","v":698.68698417659311},{"$f":"'HE-4 SOLAR'!K118","v":704.4453933868399},{"$f":"'HE-4 SOLAR'!L118","v":709.44173024502697},{"$f":"'HE-4 SOLAR'!M118","v":721.86827253579099},{"$f":"'HE-4 SOLAR'!N118","v":682.15001413691061},{"$f":"'HE-4 SOLAR'!O118","v":716.4051663619673},{"$f":"'HE-4 SOLAR'!P118","v":698.53774500764814},"KWh/mes"]
[null,{"$f":"'HE-4 SOLAR'!B119","v":"Relación entre energía perdida y demanda mensual"},null,{"$f":"'HE-4 SOLAR'!D119","v":0.2432293407078106},{"$f":"'HE-4 SOLAR'!E119","v":0.23187080466831528},{"$f":"'HE-4 SOLAR'!F119","v":0.24308050471832751},{"$f":"'HE-4 SOLAR'!G119","v":0.26137688679390059},{"$f":"'HE-4 SOLAR'!H119","v":0.26200413228733593},{"$f":"'HE-4 SOLAR'!I119","v":0.28022428387092974},{"$f":"'HE-4 SOLAR'!J119","v":0.30117745819206276},{"$f":"'HE-4 SOLAR'!K119","v":0.29625335608814535},{"$f":"'HE-4 SOLAR'!L119","v":0.29396018791869127},{"$f":"'HE-4 SOLAR'!M119","v":0.26482555945054848},{"$f":"'HE-4 SOLAR'!N119","v":0.24308050471832759},{"$f":"'HE-4 SOLAR'!O119","v":0.237550072688063},{"$f":"'HE-4 SOLAR'!P119","v":0.26321942434187151},"valor D2"]
[null,{"$f":"'HE-4 SOLAR'!B120","v":"Porcentaje de energía aportado por el sistema solar"},null,{"$f":"'HE-4 SOLAR'!D120","v":0.15941806860212163},{"$f":"'HE-4 SOLAR'!E120","v":0.40309962456076159},{"$f":"'HE-4 SOLAR'!F120","v":0.55406254124323795},{"$f":"'HE-4 SOLAR'!G120","v":0.62992907551607957},{"$f":"'HE-4 SOLAR'!H120","v":0.68621907302383989},{"$f":"'HE-4 SOLAR'!I120","v":0.79914538188531936},{"$f":"'HE-4 SOLAR'!J120","v":0.88597685797022196},{"$f":"'HE-4 SOLAR'!K120","v":0.83725732879247561},{"$f":"'HE-4 SOLAR'!L120","v":0.73481499620109791},{"$f":"'HE-4 SOLAR'!M120","v":0.52790643711169427},{"$f":"'HE-4 SOLAR'!N120","v":0.19676941254167832},{"$f":"'HE-4 SOLAR'!O120","v":0.12886976812254008},{"$f":"'HE-4 SOLAR'!P120","v":0.54911453485654382},"valor f en %"]
[]
[null,{"$f":"'HE-4 SOLAR'!B122","v":"Energía necesaria por consumo de ACS (kWh)"},null,{"$f":"'HE-4 SOLAR'!D122","v":3468.178022399999},{"$f":"'HE-4 SOLAR'!E122","v":3132.5478911999999},{"$f":"'HE-4 SOLAR'!F122","v":3334.78656},{"$f":"'HE-4 SOLAR'!G122","v":3098.1242879999995},{"$f":"'HE-4 SOLAR'!H122","v":3068.0036351999997},{"$f":"'HE-4 SOLAR'!I122","v":2775.4030079999998},{"$f":"'HE-4 SOLAR'!J122","v":2667.8292479999996},{"$f":"'HE-4 SOLAR'!K122","v":2734.5249792},{"$f":"'HE-4 SOLAR'!L122","v":2775.4030079999998},{"$f":"'HE-4 SOLAR'!M122","v":3134.6993663999992},{"$f":"'HE-4 SOLAR'!N122","v":3227.2127999999998},{"$f":"'HE-4 SOLAR'!O122","v":3468.178022399999},{"$f":"'HE-4 SOLAR'!P122","v":3073.7409023999994},"kWh/mes"]
[null,{"$f":"'HE-4 SOLAR'!B123","v":"Energía aportada por el sistema solar"},null,{"$f":"'HE-4 SOLAR'!D123","v":552.89024189933355},{"$f":"'HE-4 SOLAR'!E123","v":1262.7288788613255},{"$f":"'HE-4 SOLAR'!F123","v":1847.6803159373956},{"$f":"'HE-4 SOLAR'!G123","v":1951.5985685737519},{"$f":"'HE-4 SOLAR'!H123","v":2105.3226105807148},{"$f":"'HE-4 SOLAR'!I123","v":2217.9504967138237},{"$f":"'HE-4 SOLAR'!J123","v":2363.6349747440995},{"$f":"'HE-4 SOLAR'!K123","v":2289.5010796012921},{"$f":"'HE-4 SOLAR'!L123","v":2039.4077507800355},{"$f":"'HE-4 SOLAR'!M123","v":1654.8279739325092},{"$f":"'HE-4 SOLAR'!N123","v":635.01676680298476},{"$f":"'HE-4 SOLAR'!O123","v":446.94329755437752},{"$f":"'HE-4 SOLAR'!P123","v":1976.5455763380789},"kWh/mes"]
[null,{"$f":"'HE-4 SOLAR'!B124","v":"Energia aportada por sistema de apoyo"},null,{"$f":"'HE-4 SOLAR'!D124","v":2915.2877805006656},{"$f":"'HE-4 SOLAR'!E124","v":1869.8190123386744},{"$f":"'HE-4 SOLAR'!F124","v":1487.1062440626044},{"$f":"'HE-4 SOLAR'!G124","v":1146.5257194262476},{"$f":"'HE-4 SOLAR'!H124","v":962.68102461928493},{"$f":"'HE-4 SOLAR'!I124","v":557.4525112861761},{"$f":"'HE-4 SOLAR'!J124","v":304.19427325590004},{"$f":"'HE-4 SOLAR'!K124","v":445.02389959870789},{"$f":"'HE-4 SOLAR'!L124","v":735.99525721996429},{"$f":"'HE-4 SOLAR'!M124","v":1479.8713924674901},{"$f":"'HE-4 SOLAR'!N124","v":2592.1960331970149},{"$f":"'HE-4 SOLAR'!O124","v":3021.2347248456217},{"$f":"'HE-4 SOLAR'!P124","v":1459.7823227348626},"kWh/mes"]
[]
[null,{"$f":"'HE-4 SOLAR'!B126","v":"Energia anual aportada por sistema de apoyo"},null,{"$f":"'HE-4 SOLAR'!D126","v":17517.387872818352},{"$f":"'HE-4 SOLAR'!E126","v":"kWh/año"}]
[]
[null,"ESTUDIO DE SOMBRAS SOBRE CARTA SOLAR CILINDRICA",null,null,null,null,null,null,"CIRCUITO PRIMARIO"]
[]
[null,"% Obstrucción solar global en Invierno",null,{"$f":"Sombras!Y29","v":0.13176121688106257},null,null,null,null,"DATOS DE SELECCIÓN DEL EQUIPO DE BOMBEO"]
[null,"% Obstruccion solar global en Verano",null,{"$f":"Sombras!Y30","v":9.2116925548924034E-4}]
[null,null,null,null,null,null,null,null,"Caudal",null,null,{"$f":"'C. Primario'!I10","v":0.94000000000000006}]
[null,"% Obstruccion solar global Anual",null,{"$f":"P129","v":7.192743296454962E-2},null,null,null,null,"Perdida de carga",null,null,{"$f":"'C. Primario'!I11","v":3.0941752679643875}]
[]
[null,null,null,null,null,null,null,null,"DATOS DE SELECCIÓN PARA EL INTERCAMBIADOR"]
[]
[null,null,null,null,null,null,null,null,"Superficie min. de intercambio",null,null,{"$f":"0.15*'HE-4 SOLAR'!D54","v":2.82},null,"(aplicable a serpentines)"]
[null,null,null,null,null,null,null,null,"Potencia min.  Intercambiador",null,null,{"$f":"MAX(0.6*'HE-4 SOLAR'!D54,500*'HE-4 SOLAR'!D54/1000)","v":11.28},null,"(aplicable a intercambiadores de placas)"]
[]
[null,null,null,null,null,null,null,null,"DATOS DE SELECCIÓN DEL ",null,null,{"$f":"IF('C. Primario'!D9=0,\"DRAIN BACK\",\"VASO DE EXPANSIÓN\")","v":"VASO DE EXPANSIÓN"}]
[]
[null,null,null,null,null,null,null,null,"Volumen mínimo",null,null,{"$f":"'C. Primario'!O10","v":50.048293627763719}]
[null,null,null,null,null,null,null,null,"Presion valvula seguridad",null,null,{"$f":"'C. Primario'!O6","v":10}]
[]
[null,null,null,null,null,null,null,null,"Volumen en circuito (litros)",null,null,{"$f":"'C. Primario'!O12","v":37.383148864514347}]
[null,null,null,null,null,null,null,null,"Volumen dilatado (litros)",null,null,{"$f":"'C. Primario'!O13","v":3.1775676534837198}]
[null,null,null,null,null,null,null,null,"Volumen de reserva (litros)",null,null,{"$f":"'C. Primario'!O14","v":3}]
[null,null,null,null,null,null,null,null,"Volumen vaporizado (litros)",null,null,{"$f":"'C. Primario'!O15","v":16.28}]
[]
[]
[]
[]
[null,null,null,"Ene","Feb","Mar","Abr","May","Jun","Jul","Ago","Sep","Oct","Nov","Dic","Anual"]
[null,"% Obstruccion sobre radiación DIRECTA",null,{"$f":"Sombras!H29","v":0.62238557538963635},{"$f":"Sombras!I29","v":6.3431351287746462E-2},{"$f":"Sombras!J29","v":1.578648265063376E-3},{"$f":"Sombras!K29","v":3.2311334871274466E-3},{"$f":"Sombras!L29","v":0},{"$f":"Sombras!M29","v":0},{"$f":"Sombras!N29","v":0},{"$f":"Sombras!O29","v":3.5910730879601394E-3},{"$f":"Sombras!P29","v":1.984468054870514E-3},{"$f":"Sombras!Q29","v":8.4246514481365331E-3},{"$f":"Sombras!R29","v":0.61391417042874652},{"$f":"Sombras!S29","v":0.65775815393562898},{"$f":"1-'Posicion solar'!C863","v":0.1020817610449154}]
[null,"% Obstruccion sobre radiación GLOBAL",null,{"$f":"Sombras!H30","v":0.50198858635802956},{"$f":"Sombras!I30","v":4.9712756016660919E-2},{"$f":"Sombras!J30","v":1.1661173383090695E-3},{"$f":"Sombras!K30","v":2.1597747886341612E-3},{"$f":"Sombras!L30","v":0},{"$f":"Sombras!M30","v":0},{"$f":"Sombras!N30","v":0},{"$f":"Sombras!O30","v":2.4836877429933457E-3},{"$f":"Sombras!P30","v":1.4462810782480684E-3},{"$f":"Sombras!Q30","v":6.3543838408843811E-3},{"$f":"Sombras!R30","v":0.48931375550188683},{"$f":"Sombras!S30","v":0.53330128667717935},{"$f":"1-'Posicion solar'!C864","v":7.192743296454962E-2}]

{"sheet":"Acumuladores","index":6,"n_rows":54,"n_cols":23,"rows_kept":54,"cut":false,"hidden":false,"merged":[[4,8,6,8],[4,15,6,15],[4,17,6,17],[1,1,2,2],[4,1,6,1],[4,2,6,2],[4,6,6,6],[4,12,6,12],[4,7,6,7],[4,21,6,21],[4,14,6,14],[3,14,3,19],[4,10,6,10],[4,11,6,11],[4,16,6,16],[4,19,6,19],[4,18,6,18]]}
[]
[null,"VOLVER A HOJA SOLAR"]
[]
[null,null,null,null,null,null,null,null,null,null,null,null,null,null,"Datos conjuntos solares"]
[null,"FABRICANTE Y MODELO","Volumen de acumulación         (litros)",null,null,null,"Capacidad Drain Back (litros)","Área intercambio serpentin (m2)","Volumen max en serpentin (litros)",null,"Altura deposito (mm)","Diámetro deposito (mm)","Peso en vacio",null,"Modulo solar asociado","Bombeo primario","Potencia max. bomba (W)","Altura máxima (metros)","Longitud máx. tuberia (metros)","Dim primario entrada /  salida",null,"Actualizado"]
[null,null,null,null,"DRAIN BACK"]
[]
[null,"SD WE 75",75,null,"NO",null,"---",0.53,5,null,799,549,40,null,null,"---","---","---","---","---",null,"2017-06-01"]
[null,"SD WE 100",100,null,"NO",null,"---",0.7,7,null,947,697,50,null,null,"---","---","---","---","---",null,"2017-06-01"]
[null,"SD WE 150",150,null,"NO",null,"---",0.85,8,null,1318,1068,69,null,null,"---","---","---","---","---",null,"2017-06-01"]
[null,"SD Helioset 150 (FES 150)",150,null,"SI",null,8,1.3,8,null,1064,600,69,null,{"$f":"Captadores!B13","v":"Saunier Duval  SRH 2.3 (cub. Incli./panel hor.)"},"2x GSHD 8",75,12,20,"DN 10/10",null,"2017-04-01"]
[null,"SD Helioset 250 (FES 250)",250,null,"SI",null,8,1.5,9,null,1539,600,89,null,{"$f":"Captadores!B14","v":"Saunier Duval  SRV 2.3 (cub. Plana/panel vert)"},"2x GSHD 8",75,12,20,"DN 10/10",null,"2017-04-01"]
[null,"SD Helioset 350 (FES 350)",355,null,"SI",null,10,1.6,10,null,1680,796,125,null,{"$f":"Captadores!B14","v":"Saunier Duval  SRV 2.3 (cub. Plana/panel vert)"},"2x GSHD 8",75,12,20,"DN 10/10",null,"2017-04-01"]
[null,"SD Interacumulador BDLE S/ 750S",750,null,"NO",null,"---",2.7,16,null,1890,950,195,null,null,"---","---","---","---","---",null,"2017-04-01"]
[null,"SD Interacumulador BDLE S/ 1000S",1000,null,"NO",null,"---",3.3,20,null,2250,950,230,null,null,"---","---","---","---","---",null,"2017-04-01"]
[null,"SD Interacumulador BDLE S/ 1500S",1500,null,"NO",null,"---",2.8,17,null,1830,1360,415,null,null,"---","---","---","---","---",null,"2017-04-01"]
[null,"SD Interacumulador BDLE S/ 2000S",2000,null,"NO",null,"---",3.4,20,null,2280,1360,475,null,null,"---","---","---","---","---",null,"2017-04-01"]
[null,"SD Interacumulador BDLE S/ 2500S",2500,null,"NO",null,"---",4.2,25,null,2015,1660,690,null,null,"---","---","---","---","---",null,"2017-04-01"]
[null,"SD Acumulador BDLE 750",750,null,"NO",null,"---","---","---",null,1840,950,170,null,null,"---","---","---","---","---",null,"2017-04-01"]
[null,"SD Acumulador BDLE 1000",1000,null,"NO",null,"---","---","---",null,2250,950,200,null,null,"---","---","---","---","---",null,"2017-04-01"]
[null,"SD Acumulador BDLE 1500",1500,null,"NO",null,"---","---","---",null,1830,1360,390,null,null,"---","---","---","---","---",null,"2017-04-01"]
[null,"SD Acumulador BDLE 2000",2000,null,"NO",null,"---","---","---",null,2280,1360,450,null,null,"---","---","---","---","---",null,"2017-04-01"]
[null,"SD Acumulador BDLE 2500",2500,null,"NO",null,"---","---","---",null,2015,1660,630,null,null,"---","---","---","---","---",null,"2017-04-01"]
[null,"SD Acumulador BDLE 3000",3000,null,"NO",null,"---","---","---",null,2305,1660,690,null,null,"---","---","---","---","---",null,"2017-04-01"]
[null,"SD Acumulador BDLE 3500",3500,null,"NO",null,"---","---","---",null,2580,1660,755,null,null,"---","---","---","---","---",null,"2017-04-01"]
[null,"SD Acumulador BDLE 4000",4000,null,"NO",null,"---","---","---",null,2310,1910,880,null,null,"---","---","---","---","---",null,"2017-04-01"]
[]
[null,"Vaillant auroSTEP Plus 150 (VIH SN 150)",150,null,"SI",null,8,1.3,"---",null,1082,605,110,null,{"$f":"Captadores!B16","v":"Vaillant  auroTHERM VFK 135 VD (vert)"},"2x GSHD 8",86,12,20,"DN 10/10",null,"2017-04-01"]
[null,"Vaillant auroSTEP Plus 250  (VIH SN 250)",253,null,"SI",null,8,1.3,"---",null,1692,605,130,null,{"$f":"Captadores!B16","v":"Vaillant  auroTHERM VFK 135 VD (vert)"},"2x GSHD 8",86,12,20,"DN 10/10",null,"2017-04-01"]
[null,"Vaillant auroSTEP Plus 350 (VIH SN 350)",395,null,"SI",null,10,1.6,"---",null,1592,814,140,null,{"$f":"Captadores!B16","v":"Vaillant  auroTHERM VFK 135 VD (vert)"},"2x GSHD 8",86,12,20,"DN 10/10",null,"2017-04-01"]
[null,"Vaillant allSTORE VPS 300",303,null,"NO",null,"---","---","---",null,1735,780,70]
[null,"Vaillant allSTORE VPS 500",491,null,"NO",null,"---","---","---",null,1715,930,90]
[null,"Vaillant allSTORE VPS 800",778,null,"NO",null,"---","---","---",null,1846,1070,130]
[null,"Vaillant allSTORE VPS 1000",962,null,"NO",null,"---","---","---",null,2226,1070,145]
[null,"Vaillant allSTORE VPS 1500",1505,null,"NO",null,"---","---","---",null,2205,1400,210]
[null,"Vaillant allSTORE VPS 2000",1917,null,"NO",null,"---","---","---",null,2330,1500,240]
[]
[null,"ACV Drain Back 200",200,null,"SI",null,10,1.4,9,null,1515,560,54,null,{"$f":"Captadores!B26","v":"ACS Helioplan 2,5 DB"},"Wilo-Yonos PICO-STG 15/13",85,13,20,"DN 10/10",null,"2017-04-01","http://productfinder.wilo.com/com/es/Wilo/c0000002a0003a36300010023/c0000002a0003a4a200010023/c00000049000165be00020023/product.html"]
[null,"ACV Drain Back 300",300,null,"SI",null,11,1.6,10,null,1755,640,68,null,{"$f":"Captadores!B26","v":"ACS Helioplan 2,5 DB"},"Wilo-Yonos PICO-STG 15/13",85,13,20,"DN 10/10",null,{"$f":"V38","v":"2017-04-01"},"http://productfinder.wilo.com/com/es/Wilo/c0000002a0003a36300010023/c0000002a0003a4a200010023/c00000049000165be00020023/product.html"]
[]
[null,"GrennHeiss  GH 200 DB",212,null,"SI",null,8.6,1.4,9,null,1520,560,65,null,{"$f":"Captadores!B27","v":"GREENHEISS  GH Class 25V"},"Wilo STG 15-11",75,11,20,"DN 10/10",null,"2017-04-01","http://productfinder.wilo.com/com/es/c0000000e0001b19500020023/_00000000000179d40001003a/product.html#tab=product_datasheet"]
[]
[null,"Lapesa Interacumulador MVV 1500 SB",1500,null,"NO",null,"---",2.8,17,null,1830,1360,430,null,null,"---","---","---","---","---",null,"2017-04-01"]
[null,"Lapesa Interacumulador MVV 2000 SB",2000,null,"NO",null,"---",3.4,19,null,2280,1360,495,null,null,"---","---","---","---","---",null,"2017-04-01"]
[null,"Lapesa Interacumulador MVV 2500 SB",2500,null,"NO",null,"---",4.8,28,null,2015,1660,675,null,null,"---","---","---","---","---",null,"2017-04-01"]
[null,"Lapesa Interacumulador MVV 3000 SB",3000,null,"NO",null,"---",5,29,null,2305,1660,740,null,null,"---","---","---","---","---",null,"2017-04-01"]
[]
[null,"Lapesa acumulador MVV 1500 RB",1500,null,"NO",null,"---","---","---",null,1830,1360,400,null,null,"---","---","---","---","---",null,"2017-04-01"]
[null,"Lapesa acumulador MVV 2000 RB",2000,null,"NO",null,"---","---","---",null,2280,1360,460,null,null,"---","---","---","---","---",null,"2017-04-01"]
[null,"Lapesa acumulador MVV 2500 RB",2500,null,"NO",null,"---","---","---",null,2015,1660,635,null,null,"---","---","---","---","---",null,"2017-04-01"]
[null,"Lapesa acumulador MVV 3000 RB",3000,null,"NO",null,"---","---","---",null,2305,1660,705,null,null,"---","---","---","---","---",null,"2017-04-01"]
[null,"Lapesa acumulador MVV 3500 RB",3500,null,"NO",null,"---","---","---",null,2580,1660,755,null,null,"---","---","---","---","---"]
[null,"Lapesa acumulador MVV 4000 RB",4000,null,"NO",null,"---","---","---",null,2310,1910,915,null,null,"---","---","---","---","---"]
[null,"TERMOSIFÓN JUNKERS 150l",150,null,"NO",null,"---","---","---",null,1120,580,71,null,"JUNKERS Smart FCC-2S","---","---","---","---","---",null,"2017-06-01"]

{"sheet":"Captadores","index":7,"n_rows":58,"n_cols":13,"rows_kept":58,"cut":false,"hidden":false,"merged":[[1,1,2,10],[4,1,6,1],[4,2,6,2],[4,12,6,12]]}
[]
[null,"VOLVER A HOJA SOLAR"]
[]
[]
[null,"FABRICANTE Y MODELO","Superficie apertura (m2)","Longitud","Factor de eficacia","Coeficiente lineal","Coeficiente cuadratico","Coeficiente global","Volumen contenido","Caudal",null,null,"Actualizado"]
[null,null,null,"en maxima","(Rendimiento)","de perdidas (k1)","de perdidas (k2)","de perdidas",null,null,"Transmisión"]
[null,null,null,"pendiente",null,"(W/m².ºC)","(W/m².ºC)","(W/m².ºC)","litros","l / h m2","%"]
[{"$f":"IF(B8=\"\",0,1)","v":1},"Fagor Solaria-2.4 G AL",2.17,{"$f":"C8/1.2","v":1.8083333333333333},0.69299999999999995,4.3899999999999997,1.7999999999999999E-2,{"$f":"IF(F8=\"\",0,F8+30*G8)","v":4.93},1.3,50,0.92,null,"2015-03-01"]
[{"$f":"IF(B9=\"\",0,1)","v":1},"Fagor Solaria-2.8 G AL",2.58,{"$f":"C9/1.2","v":2.1500000000000004},0.69299999999999995,4.3899999999999997,1.7999999999999999E-2,4.93,1.5,50,0.92,null,"2015-03-01"]
[1,"Fagor Solaria-2.4 AL AL",2.17,{"$f":"C10/1.2","v":1.8083333333333333},0.72199999999999998,3.39,1.4E-2,3.81,1.3,50,0.92,null,"2015-03-01"]
[1,"Fagor Solaria-2.8 AL AL",2.58,{"$f":"C11/1.2","v":2.1500000000000004},0.72199999999999998,3.39,1.4E-2,3.81,1.5,50,0.92,null,"2015-03-01"]
[1,"Saunier Duval  SCV 2.3 (cub. Incli./panel vert)",2.35,2.0329999999999999,0.753,2.8340000000000001,5.6000000000000001E-2,4.5140000000000002,1.85,50,0.91,null,"2017-04-01"]
[1,"Saunier Duval  SRH 2.3 (cub. Incli./panel hor.)",2.35,1.2330000000000001,0.81,3.355,2.4E-2,4.0750000000000002,2.16,50,0.91,null,"2017-04-01"]
[1,"Saunier Duval  SRV 2.3 (cub. Plana/panel vert)",2.35,2.0329999999999999,0.79,2.44,0.05,3.94,1.85,50,0.91,null,"2017-04-01"]
[1,"Vaillant  auroTHERM VFK 125 (vert)",2.3519999999999999,2.0329999999999999,0.753,3.9359999999999999,1.7000000000000001E-2,4.4459999999999997,1.85,45,0.89,null,"2017-04-01"]
[1,"Vaillant  auroTHERM VFK 135 VD (vert)",2.3519999999999999,2.0329999999999999,0.81399999999999995,2.645,2.5000000000000001E-2,3.395,1.46,45,0.91,null,"2017-04-01"]
[1,"Vaillant  auroTHERM VFK 135 HD (hor.)",2.3519999999999999,1.2330000000000001,0.80100000000000005,3.7610000000000001,1.2E-2,4.1210000000000004,1.35,45,0.91,null,"2017-04-01"]
[null,"Vaillant  auroTHERM VFK 145 H (hor.)",2.3519999999999999,1.2330000000000001,0.80100000000000005,3.32,2.3E-2,4.01,2.16,45,0.91,null,"2017-04-01"]
[1,"Vaillant  auroTHERM VFK 145 V (vert)",2.3519999999999999,2.0329999999999999,0.79,2.4140000000000001,4.9000000000000002E-2,3.8840000000000003,1.85,45,0.91,null,"2017-04-01"]
[1,"Viessman Vitosol 100-F SVA (vert)",2.3239999999999998,2.38,0.76,4.13,1.8200000000000001E-2,4.6760000000000002,1.48,50,0.91,null,"2017-04-01"]
[1,"Viessman Vitosol 100-F SVB (vert)",2.3239999999999998,2.38,0.754,4.0107999999999997,1.14E-2,4.3527999999999993,1.67,50,0.91,null,"2017-04-01"]
[1,"Viessman Vitosol 100-F SHA (hor)",2.3239999999999998,1.056,0.76,4.13,1.14E-2,4.4719999999999995,2.33,50,0.91,null,"2017-04-01"]
[1,"Viessman Vitosol 100-F SHB (hor)",2.3239999999999998,1.056,0.754,4.0107999999999997,1.14E-2,4.3527999999999993,2.33,50,0.91,null,"2017-04-01"]
[1,"Viessman Vitosol 200-F SV2A (vert)",2.3239999999999998,2.38,0.79200000000000004,4.04,1.8200000000000001E-2,{"$f":"IF(G23=\"\",0,G23+30*G24)","v":0.55740000000000001},1.83,50,0.91,null,"2017-04-01"]
[1,"Viessman Vitosol 200-F SH2A (hor)",2.3239999999999998,1.056,0.79200000000000004,4.04,1.8200000000000001E-2,{"$f":"IF(G24=\"\",0,G24+30*G25)","v":0.56420000000000003},2.48,50,0.91,null,"2017-04-01"]
[1,"ACS Helioplan 2,5 DB",2.4039999999999999,2.15,0.78800000000000003,3.26,1.4999999999999999E-2,{"$f":"IF(F26=\"\",0,F26+30*G26)","v":3.71},1.7,50,0.91,null,"2017-04-01"]
[1,"GREENHEISS  GH Class 25V",2.3199999999999998,2.15,0.77,3.4420000000000002,1.6E-2,3.9220000000000002,1.34,50,0.91,null,"2017-04-01"]
[1,"JUNKERS  TERMOSIFON Smart FCC-2S",1.9359999999999999,2.0259999999999998,0.76100000000000001,4.0830000000000002,1.2E-2,4.4430000000000005,1.92,50,0.91,null,"2017-06-01"]
[0,null,null,null,null,null,null,0]
[0,null,null,null,null,null,null,0]
[0,null,null,null,null,null,null,0]
[0,null,null,null,null,null,null,0]
[0,null,null,null,null,null,null,0]
[0,null,null,null,null,null,null,0]
[0,null,null,null,null,null,null,0]
[0,null,null,null,null,null,null,0]
[0,null,null,null,null,null,null,0]
[0,null,null,null,null,null,null,0]
[0,null,null,null,null,null,null,0]
[0,null,null,null,null,null,null,0]
[0,null,null,null,null,null,null,0]
[0,null,null,null,null,null,null,0]
[0,null,null,null,null,null,null,0]
[0,null,null,null,null,null,null,0]
[0,null,null,null,null,null,null,0]
[0,null,null,null,null,null,null,0]
[0,null,null,null,null,null,null,0]
[0,null,null,null,null,null,null,0]
[0,null,null,null,null,null,null,0]
[0,null,null,null,null,null,null,0]
[0,null,null,null,null,null,null,0]
[0,null,null,null,null,null,null,0]
[0,null,null,null,null,null,null,0]
[0,null,null,null,null,null,null,0]
[0,null,null,null,null,null,null,0]
[0,null,null,null,null,null,null,0]
[0,null,null,null,null,null,null,0]
[{"$f":"SUM(A8:A57)","v":20},"COLECTOR PROMEDIO",{"$f":"SUM(C8:C57)/$A$58","v":2.4456999999999995},1.9207333333333332,0.80364999999999986,3.7705800000000012,2.2590000000000006E-2,4.0457599999999996,1.8605,51.25,0.95649999999999991]

{"sheet":"Disipadores","index":8,"n_rows":34,"n_cols":18,"rows_kept":34,"cut":false,"hidden":true,"merged":[]}
[]
[]
[null,"Disipadores de calor dinámicos",null,null,"Disipador dinámico",null,null,null,null,null,null,null,"https://www.youtube.com/watch?v=vQLtdR8R_bM"]
[null,null,null,null,"Sistema Drain-Back"]
[null,"Salvador Scoda"]
[null,null,null,null,null,null,null,null,null,null,null,null,null,null,null,null,"Wilo Stratos STG"]
[null,"Modelo","m2 colector","Potencia Kw","Caudal l/h","Tª salida","m.c.a",null,null,null,null,null,null,null,null,null,"Wilo Star-STG"]
[null,"BD 08",10,8,600,76.760000000000005,0.13,null,null,null,null,null,null,null,null,null,"Wilo Top-STG"]
[null,"BD 16",20,16,1200,77.19,0.27]
[null,"BD 24",30,24,1800,77.33,0.74,null,null,null,null,null,null,null,null,null,"rendimiento ",0.25]
[null,"BD 32",40,32,2400,77.38,0.72]
[null,"BD 40",50,40,3000,77.599999999999994,1.19,null,null,null,null,null,null,null,null,null,"parelelo"]
[null,"BD 48",60,48,3600,77.7,1.83]
[null,"BD 56",70,56,4200,77.47,0.95]
[null,"BD 64",80,64,4800,77.540000000000006,1.45]
[null,"BD 72",90,72,5400,77.180000000000007,1.37]
[null,"BD 80",100,80,6000,76.959999999999994,1.23]
[null,"BD 96",120,96,7200,78.19,1.32]
[null,"BD 112",140,112,8400,77.790000000000006,0.72]
[null,"BD 120",150,120,9000,76.86,0.87]
[null,"BD 144",180,144,10800,78,1.04]
[null,"BD 160",200,160,12000,77.44,1.17]
[null,"BD 184",230,184,13800,77.959999999999994,1.41]
[null,"BD 200",250,200,15000,77.23,1.54]
[null,"BD 224",280,224,16800,77.55,1.79]
[null,"BD 240",300,240,18000,77.11,1.92]
[null,"BD 264",330,264,19800,77.290000000000006,2.13]
[]
[]
[null,"m2 paneles",{"$f":"'HE-4 SOLAR'!D54","v":18.8}]
[null,"Modelo",{"$f":"IF(C30<10,\"BD 08\",INDEX($B$8:$G$27,MATCH(C30,$C$8:$C$27,1)+1,1))","v":"BD 16"}]
[null,"Potencia",{"$f":"IF(C30<10,D8,INDEX($B$8:$G$27,MATCH(C30,$C$8:$C$27,1)+1,3))","v":16},null,null,null,null,null,null,null,null,null,null,null,null,null,"valvula de 3 vias en serie"]
[null,"Caudal",{"$f":"IF(C30<10,E8,INDEX($B$8:$G$27,MATCH(C30,$C$8:$C$27,1)+1,4))","v":1200}]
[null,"mca",{"$f":"IF(C30<10,G8,INDEX($B$8:$G$27,MATCH(C30,$C$8:$C$27,1)+1,6))","v":0.27}]

{"sheet":"Localidad Usuario","index":9,"n_rows":11,"n_cols":15,"rows_kept":11,"cut":false,"hidden":false,"merged":[[1,1,2,14],[4,3,4,14]]}
[]
[null,"LOCALIDAD DEFINIDA POR EL USUARIO"]
[]
[]
[null,"Nombre de la localidad",null,"definida por usuario"]
[null,"Latitud",null,40,"grados norte"]
[]
[null,null,null,"Enero","Febrero","Marzo","Abril","Mayo","Junio","Julio","Agosto","Sept.","Oct.","Nov.","Dic."]
[null,"Tª. media agua  red [ºC]:",null,"-","-","-","-","-","-","-","-","-","-","-","-"]
[null,"Tª. media mensual en horas diurnas  [ºC]:",null,"-","-","-","-","-","-","-","-","-","-","-","-"]
[null,"Rad. horiz. [MJ/m2 día]:",null,"-","-","-","-","-","-","-","-","-","-","-","-"]

{"sheet":"Posicion solar","index":10,"n_rows":893,"n_cols":75,"rows_kept":893,"cut":false,"hidden":true,"merged":[]}
[]
[null,"DATOS GENERALES"]
[null,"Localidad",{"$f":"Sombras!D2","v":"Madrid"},null,"radianes",null,"inclinacion",null,{"$f":"Sombras!X26","v":35},null,"reflexion",null,0.2]
[null,"Latitud",{"$f":"Sombras!D3","v":40.4},null,{"$f":"C4*PI()/180","v":0.70511301780570912},null,"azimut",null,{"$f":"Sombras!F6","v":15},null,"cte solar",null,1367]
[null,null,"ENERO ","FEBRERO","MARZO","ABRIL","MAYO","JUNIO","JULIO","AGOSTO","SEPTIEMBRE","OCTUBRE","NOVIEMBRE","DICIEMBRE",null,"fila",{"$f":"IF(Sombras!$D$4='Datos SOLAR'!$B$7,1,2)+1","v":2}]
[null,"Radiacion horizontal (W/m2 dia)",{"$f":"'HE-4 SOLAR'!D16*1000/3.6","v":2273.278888888889},{"$f":"'HE-4 SOLAR'!E16*1000/3.6","v":3254.6944444444443},{"$f":"'HE-4 SOLAR'!F16*1000/3.6","v":4656.7166666666662},{"$f":"'HE-4 SOLAR'!G16*1000/3.6","v":5758.3055555555557},{"$f":"'HE-4 SOLAR'!H16*1000/3.6","v":6609.5333333333328},{"$f":"'HE-4 SOLAR'!I16*1000/3.6","v":7751.1799999999994},{"$f":"'HE-4 SOLAR'!J16*1000/3.6","v":8051.613333333331},{"$f":"'HE-4 SOLAR'!K16*1000/3.6","v":7010.1111111111113},{"$f":"'HE-4 SOLAR'!L16*1000/3.6","v":5477.9011111111113},{"$f":"'HE-4 SOLAR'!M16*1000/3.6","v":3565.1422222222222},{"$f":"'HE-4 SOLAR'!N16*1000/3.6","v":2433.5100000000002},{"$f":"'HE-4 SOLAR'!O16*1000/3.6","v":1872.701111111111}]
[null,"COORDENADA SOLAR"]
[null,null,null,null,null,0,1,{"$f":"G8+1","v":2},3,4,5,6,7,8,9,10,11,12,13,14,15,16,17,18,19,20,21,22,23,24,"hora solar"]
[null,"mes","dia","n","declinación",{"$f":"(12-F8)*15*PI()/180","v":3.1415926535897931},{"$f":"(12-G8)*15*PI()/180","v":2.8797932657906435},2.6179938779914944,2.3561944901923448,2.0943951023931953,1.8325957145940461,1.5707963267948966,1.3089969389957472,1.0471975511965976,0.78539816339744828,0.52359877559829882,0.26179938779914941,0,-0.26179938779914941,-0.52359877559829882,-0.78539816339744828,-1.0471975511965976,-1.3089969389957472,-1.5707963267948966,-1.8325957145940461,-2.0943951023931953,-2.3561944901923448,-2.6179938779914944,-2.8797932657906435,-3.1415926535897931,"ang. Horario"]
[null,"Enero",21,{"$f":"C10","v":21},{"$f":"23.45*SIN(2*PI()*((284+D10)/365.25))","v":-20.181062877065269},{"$f":"IF(DEGREES(ASIN((COS($E$4)*COS($E$10*PI()/180)*COS(F9))+(SIN($E$4)*SIN($E$10*PI()/180))))<0,0,DEGREES(ASIN((COS($E$4)*COS($E$10*PI()/180)*COS(F9))+(SIN($E$4)*SIN($E$10*PI()/180)))))","v":0},0,0,0,0,0,0,0,7.6891802679155923,16.369808778808171,23.292708015204685,27.829107016673376,29.418937122934746,27.829107016673376,23.292708015204685,16.369808778808171,7.6891802679155923,0,0,0,0,0,0,0,0,"altura solar"]
[null,null,null,null,null,{"$f":"-DEGREES(ACOS((SIN(F10*PI()/180)*SIN($E$4)-SIN($E$10*PI()/180))/(COS(F10*PI()/180)*COS($E$4))))","v":-63.062735436993691},{"$f":"-DEGREES(ACOS((SIN(G10*PI()/180)*SIN($E$4)-SIN($E$10*PI()/180))/(COS(G10*PI()/180)*COS($E$4))))","v":-63.062735436993691},-63.062735436993691,-63.062735436993691,-63.062735436993691,-63.062735436993691,-63.062735436993691,-63.062735436993691,-55.108097360639526,-43.767736389885521,-30.726959154671984,-15.944144678690344,0,{"$f":"DEGREES(ACOS((SIN(S10*PI()/180)*SIN($E$4)-SIN($E$10*PI()/180))/(COS(S10*PI()/180)*COS($E$4))))","v":15.944144678690344},30.726959154671984,43.767736389885521,55.108097360639526,63.062735436993691,63.062735436993691,63.062735436993691,63.062735436993691,63.062735436993691,63.062735436993691,63.062735436993691,63.062735436993691,"azimut"]
[]
[null,"Febrero",21,{"$f":"31+C13","v":52},{"$f":"23.45*SIN(2*PI()*((284+D13)/365.25))","v":-11.307727133169488},{"$f":"IF(DEGREES(ASIN((COS($E$4)*COS($E$13*PI()/180)*COS(F9))+(SIN($E$4)*SIN($E$13*PI()/180))))<0,0,DEGREES(ASIN((COS($E$4)*COS($E$13*PI()/180)*COS(F9))+(SIN($E$4)*SIN($E$13*PI()/180)))))","v":0},0,0,0,0,0,0,3.7953107019381496,14.258403133608859,23.637804112323938,31.30722949535156,36.457625470780073,38.292272866830523,36.457625470780073,31.30722949535156,23.637804112323938,14.258403133608859,3.7953107019381496,0,0,0,0,0,0,0,"altura solar"]
[null,null,null,null,null,{"$f":"-DEGREES(ACOS((SIN(F13*PI()/180)*SIN($E$4)-SIN($E$13*PI()/180))/(COS(F13*PI()/180)*COS($E$4))))","v":-75.079607346211574},-75.079607346211574,-75.079607346211574,-75.079607346211574,-75.079607346211574,-75.079607346211574,-75.079607346211574,-71.669339634620528,-61.188030091876705,-49.190299136450783,-35.019180364351726,-18.393954600090225,0,{"$f":"DEGREES(ACOS((SIN(S13*PI()/180)*SIN($E$4)-SIN($E$13*PI()/180))/(COS(S13*PI()/180)*COS($E$4))))","v":18.393954600090225},35.019180364351726,49.190299136450783,61.188030091876705,71.669339634620528,75.079607346211574,75.079607346211574,75.079607346211574,75.079607346211574,75.079607346211574,75.079607346211574,75.079607346211574,"azimut"]
[]
[null,"Marzo",21,{"$f":"(28+31)+C16","v":80},{"$f":"23.45*SIN(2*PI()*((284+D16)/365.25))","v":-0.50420719077208342},{"$f":"IF(DEGREES(ASIN((COS($E$4)*COS($E$13*PI()/180)*COS(F9))+(SIN($E$4)*SIN($E$13*PI()/180))))<0,0,DEGREES(ASIN((COS($E$4)*COS($E$13*PI()/180)*COS(F9))+(SIN($E$4)*SIN($E$13*PI()/180)))))","v":0},0,0,0,0,0,0,3.7953107019381496,14.258403133608859,23.637804112323938,31.30722949535156,36.457625470780073,38.292272866830523,36.457625470780073,31.30722949535156,23.637804112323938,14.258403133608859,3.7953107019381496,0,0,0,0,0,0,0,"altura solar"]
[null,null,null,null,null,{"$f":"-DEGREES(ACOS((SIN(F16*PI()/180)*SIN($E$4)-SIN($E$16*PI()/180))/(COS(F16*PI()/180)*COS($E$4))))","v":-89.337903425603059},-89.337903425603059,-89.337903425603059,-89.337903425603059,-89.337903425603059,-89.337903425603059,-89.337903425603059,-86.09865371715405,-76.808933007945711,-67.349763063347055,-57.918260008115482,-49.972895387064476,0,{"$f":"DEGREES(ACOS((SIN(S16*PI()/180)*SIN($E$4)-SIN($E$16*PI()/180))/(COS(S16*PI()/180)*COS($E$4))))","v":49.972895387064476},57.918260008115482,67.349763063347055,76.808933007945711,86.09865371715405,89.337903425603059,89.337903425603059,89.337903425603059,89.337903425603059,89.337903425603059,89.337903425603059,89.337903425603059,"azimut"]
[]
[null,"Abril",21,{"$f":"(31+28+31)+C19","v":111},{"$f":"23.45*SIN(2*PI()*((284+D19)/365.25))","v":11.484006182005333},{"$f":"IF(DEGREES(ASIN((COS($E$4)*COS($E$19*PI()/180)*COS(F9))+(SIN($E$4)*SIN($E$19*PI()/180))))<0,0,DEGREES(ASIN((COS($E$4)*COS($E$19*PI()/180)*COS(F9))+(SIN($E$4)*SIN($E$19*PI()/180)))))","v":0},0,0,0,0,0,7.4139497271878367,18.795525123650169,30.144552082534624,41.05214037399994,50.836353114488944,58.20082549049846,61.084006182005353,58.20082549049846,50.836353114488944,41.05214037399994,30.144552082534624,18.795525123650169,7.4139497271878367,0,0,0,0,0,0,"altura solar"]
[null,null,null,null,null,{"$f":"-DEGREES(ACOS((SIN(F19*PI()/180)*SIN($E$4)-SIN($E$19*PI()/180))/(COS(F19*PI()/180)*COS($E$4))))","v":-105.1553531601881},-105.1553531601881,-105.1553531601881,-105.1553531601881,-105.1553531601881,-105.1553531601881,-98.794805895859668,-89.227122017472595,-78.935860913823063,-66.765216130534313,-50.883856994199867,-28.772777736003881,0,{"$f":"DEGREES(ACOS((SIN(S19*PI()/180)*SIN($E$4)-SIN($E$19*PI()/180))/(COS(S19*PI()/180)*COS($E$4))))","v":28.772777736003881},50.883856994199867,66.765216130534313,78.935860913823063,89.227122017472595,98.794805895859668,105.1553531601881,105.1553531601881,105.1553531601881,105.1553531601881,105.1553531601881,105.1553531601881,"azimut"]
[]
[null,"Mayo",21,{"$f":"(31+28+31+30)+C22","v":141},{"$f":"23.45*SIN(2*PI()*((284+D22)/365.25))","v":20.07759626624517},{"$f":"IF(DEGREES(ASIN((COS($E$4)*COS($E$22*PI()/180)*COS(F9))+(SIN($E$4)*SIN($E$22*PI()/180))))<0,0,DEGREES(ASIN((COS($E$4)*COS($E$22*PI()/180)*COS(F9))+(SIN($E$4)*SIN($E$22*PI()/180)))))","v":0},0,0,0,0,2.1417651939675744,12.855599834351715,24.055239108196673,35.459260487697335,46.740623758147954,57.344140556617873,65.976894691717106,69.677596266245175,65.976894691717106,57.344140556617873,46.740623758147954,35.459260487697335,24.055239108196673,12.855599834351715,2.1417651939675744,0,0,0,0,0,"altura solar"]
[null,null,null,null,null,{"$f":"-DEGREES(ACOS((SIN(F22*PI()/180)*SIN($E$4)-SIN($E$22*PI()/180))/(COS(F22*PI()/180)*COS($E$4))))","v":-116.79426376398496},-116.79426376398496,-116.79426376398496,-116.79426376398496,-116.79426376398496,-114.78881622840041,-105.55432268822727,-96.532012153128377,-86.978383210192987,-75.722456621315729,-60.495133133025497,-36.663856599721832,0,{"$f":"DEGREES(ACOS((SIN(S22*PI()/180)*SIN($E$4)-SIN($E$22*PI()/180))/(COS(S22*PI()/180)*COS($E$4))))","v":36.663856599721832},60.495133133025497,75.722456621315729,86.978383210192987,96.532012153128377,105.55432268822727,114.78881622840041,116.79426376398496,116.79426376398496,116.79426376398496,116.79426376398496,116.79426376398496,"azimut"]
[]
[null,"Junio",21,{"$f":"(31+28+31+30+31)+C25","v":172},{"$f":"23.45*SIN(2*PI()*((284+D25)/365.25))","v":23.448902173262475},{"$f":"IF(DEGREES(ASIN((COS($E$4)*COS($E$25*PI()/180)*COS(F9))+(SIN($E$4)*SIN($E$25*PI()/180))))<0,0,DEGREES(ASIN((COS($E$4)*COS($E$25*PI()/180)*COS(F9))+(SIN($E$4)*SIN($E$25*PI()/180)))))","v":0},0,0,0,0,4.4209681578442828,14.945909155364475,26.022888495972456,37.389517735326045,48.757404013071934,59.649781310977609,68.867332924189512,73.048902173262476,68.867332924189512,59.649781310977609,48.757404013071934,37.389517735326045,26.022888495972456,14.945909155364475,4.4209681578442828,0,0,0,0,0,"altura solar"]
[null,null,null,null,null,{"$f":"-DEGREES(ACOS((SIN(F25*PI()/180)*SIN($E$4)-SIN($E$25*PI()/180))/(COS(F25*PI()/180)*COS($E$4))))","v":-121.5025043181044},-121.5025043181044,-121.5025043181044,-121.5025043181044,-121.5025043181044,-117.27719918930329,-108.2793723839406,-99.553809873451982,-90.414090204021122,-79.741745089454454,-65.205965132695425,-41.193267302616732,0,{"$f":"DEGREES(ACOS((SIN(S25*PI()/180)*SIN($E$4)-SIN($E$25*PI()/180))/(COS(S25*PI()/180)*COS($E$4))))","v":41.193267302616732},65.205965132695425,79.741745089454454,90.414090204021122,99.553809873451982,108.2793723839406,117.27719918930329,121.5025043181044,121.5025043181044,121.5025043181044,121.5025043181044,121.5025043181044,"azimut"]
[]
[null,"Julio",21,{"$f":"(31+28+31+30+31+30)+C28","v":202},{"$f":"23.45*SIN(2*PI()*((284+D28)/365.25))","v":20.506979414808075},{"$f":"IF(DEGREES(ASIN((COS($E$4)*COS($E$28*PI()/180)*COS(F9))+(SIN($E$4)*SIN($E$28*PI()/180))))<0,0,DEGREES(ASIN((COS($E$4)*COS($E$28*PI()/180)*COS(F9))+(SIN($E$4)*SIN($E$28*PI()/180)))))","v":0},0,0,0,0,2.4323671340485746,13.123473813375806,24.309192548715075,35.710494971981234,47.005143658627752,57.647117700870183,66.351738472911208,70.106979414808066,66.351738472911208,57.647117700870183,47.005143658627752,35.710494971981234,24.309192548715075,13.123473813375806,2.4323671340485746,0,0,0,0,0,"altura solar"]
[null,null,null,null,null,{"$f":"-DEGREES(ACOS((SIN(F28*PI()/180)*SIN($E$4)-SIN($E$28*PI()/180))/(COS(F28*PI()/180)*COS($E$4))))","v":-117.38828164746829},-117.38828164746829,-117.38828164746829,-117.38828164746829,-117.38828164746829,-115.10517045150671,-105.89871490646338,-96.911551687830212,-87.406554654498137,-76.217222176748479,-61.061350549971095,-37.182123232191429,0,{"$f":"DEGREES(ACOS((SIN(S28*PI()/180)*SIN($E$4)-SIN($E$28*PI()/180))/(COS(S28*PI()/180)*COS($E$4))))","v":37.182123232191429},61.061350549971095,76.217222176748479,87.406554654498137,96.911551687830212,105.89871490646338,115.10517045150671,117.38828164746829,117.38828164746829,117.38828164746829,117.38828164746829,117.38828164746829,"azimut"]
[]
[null,"Agosto",21,{"$f":"(31+28+31+30+31+30+31)+C31","v":233},{"$f":"23.45*SIN(2*PI()*((284+D31)/365.25))","v":11.877507958212487},{"$f":"IF(DEGREES(ASIN((COS($E$4)*COS($E$31*PI()/180)*COS(F9))+(SIN($E$4)*SIN($E$31*PI()/180))))<0,0,DEGREES(ASIN((COS($E$4)*COS($E$31*PI()/180)*COS(F9))+(SIN($E$4)*SIN($E$31*PI()/180)))))","v":0},0,0,0,0,0,7.6658824764957822,19.042943419670376,30.398614003125171,41.3270171938697,51.14968021920749,58.565454688240926,61.477507958212499,58.565454688240926,51.14968021920749,41.3270171938697,30.398614003125171,19.042943419670376,7.6658824764957822,0,0,0,0,0,0,"altura solar"]
[null,null,null,null,null,{"$f":"-DEGREES(ACOS((SIN(F31*PI()/180)*SIN($E$4)-SIN($E$31*PI()/180))/(COS(F31*PI()/180)*COS($E$4))))","v":-105.68026274136128},-105.68026274136128,-105.68026274136128,-105.68026274136128,-105.68026274136128,-105.68026274136128,-99.099723129259985,-89.550583541702466,-79.283797418066271,-67.139390879746841,-51.262074884135494,-29.055002092712705,0,{"$f":"DEGREES(ACOS((SIN(S31*PI()/180)*SIN($E$4)-SIN($E$31*PI()/180))/(COS(S31*PI()/180)*COS($E$4))))","v":29.055002092712705},51.262074884135494,67.139390879746841,79.283797418066271,89.550583541702466,99.099723129259985,105.68026274136128,105.68026274136128,105.68026274136128,105.68026274136128,105.68026274136128,105.68026274136128,"azimut"]
[]
[null,"Septiembre",21,{"$f":"(31+28+31+30+31+30+31+31)+C34","v":264},{"$f":"23.45*SIN(2*PI()*((284+D34)/365.25))","v":-5.0424566019065899E-2},{"$f":"IF(DEGREES(ASIN((COS($E$4)*COS($E$34*PI()/180)*COS(F9))+(SIN($E$4)*SIN($E$34*PI()/180))))<0,0,DEGREES(ASIN((COS($E$4)*COS($E$34*PI()/180)*COS(F9))+(SIN($E$4)*SIN($E$34*PI()/180)))))","v":0},0,0,0,0,0,0,11.334124421796277,22.345985710482246,32.542040565703019,41.219147535710682,47.308808104151659,49.549575433980941,47.308808104151659,41.219147535710682,32.542040565703019,22.345985710482246,11.334124421796277,0,0,0,0,0,0,0,"altura solar"]
[null,null,null,null,null,{"$f":"-DEGREES(ACOS((SIN(F34*PI()/180)*SIN($E$4)-SIN($E$34*PI()/180))/(COS(F34*PI()/180)*COS($E$4))))","v":-89.933785903828124},-89.933785903828124,-89.933785903828124,-89.933785903828124,-89.933785903828124,-89.933785903828124,-89.933785903828124,-80.109501654964248,-69.445658058982886,-57.013698938911553,-41.660941748008938,-22.439803859373168,0,{"$f":"DEGREES(ACOS((SIN(S34*PI()/180)*SIN($E$4)-SIN($E$34*PI()/180))/(COS(S34*PI()/180)*COS($E$4))))","v":22.439803859373168},41.660941748008938,57.013698938911553,69.445658058982886,80.109501654964248,89.933785903828124,89.933785903828124,89.933785903828124,89.933785903828124,89.933785903828124,89.933785903828124,89.933785903828124,"azimut"]
[]
[null,"Octubre",21,{"$f":"(31+28+31+30+31+30+31+31+30)+C37","v":294},{"$f":"23.45*SIN(2*PI()*((284+D37)/365.25))","v":-11.615658635203671},{"$f":"IF(DEGREES(ASIN((COS($E$4)*COS($E$37*PI()/180)*COS(F9))+(SIN($E$4)*SIN($E$37*PI()/180))))<0,0,DEGREES(ASIN((COS($E$4)*COS($E$37*PI()/180)*COS(F9))+(SIN($E$4)*SIN($E$37*PI()/180)))))","v":0},0,0,0,0,0,0,3.5872220418036664,14.032662610720868,23.388562642337259,31.031469150379156,36.159046925789916,37.984341364796336,36.159046925789916,31.031469150379156,23.388562642337259,14.032662610720868,3.5872220418036664,0,0,0,0,0,0,0,"altura solar"]
[null,null,null,null,null,{"$f":"-DEGREES(ACOS((SIN(F37*PI()/180)*SIN($E$4)-SIN($E$37*PI()/180))/(COS(F37*PI()/180)*COS($E$4))))","v":-74.669094274729233},-74.669094274729233,-74.669094274729233,-74.669094274729233,-74.669094274729233,-74.669094274729233,-74.669094274729233,-71.441885440317179,-60.97204585581521,-48.993091629725185,-34.859027631780286,-18.300490506189103,0,{"$f":"DEGREES(ACOS((SIN(S37*PI()/180)*SIN($E$4)-SIN($E$37*PI()/180))/(COS(S37*PI()/180)*COS($E$4))))","v":18.300490506189103},34.859027631780286,48.993091629725185,60.97204585581521,71.441885440317179,74.669094274729233,74.669094274729233,74.669094274729233,74.669094274729233,74.669094274729233,74.669094274729233,74.669094274729233,"azimut"]
[]
[null,"Noviembre",21,{"$f":"(31+28+31+30+31+30+31+31+30+31)+C40","v":325},{"$f":"23.45*SIN(2*PI()*((284+D40)/365.25))","v":-20.358532365363523},{"$f":"IF(DEGREES(ASIN((COS($E$4)*COS($E$40*PI()/180)*COS(F9))+(SIN($E$4)*SIN($E$40*PI()/180))))<0,0,DEGREES(ASIN((COS($E$4)*COS($E$40*PI()/180)*COS(F9))+(SIN($E$4)*SIN($E$40*PI()/180)))))","v":0},0,0,0,0,0,0,0,7.5567003491010709,16.222900280746515,23.131186362984078,27.656094343805655,29.241467634636482,27.656094343805655,23.131186362984078,16.222900280746515,7.5567003491010709,0,0,0,0,0,0,0,0,"altura solar"]
[null,null,null,null,null,{"$f":"-DEGREES(ACOS((SIN(F40*PI()/180)*SIN($E$4)-SIN($E$40*PI()/180))/(COS(F40*PI()/180)*COS($E$4))))","v":-62.817253640040363},-62.817253640040363,-62.817253640040363,-62.817253640040363,-62.817253640040363,-62.817253640040363,-62.817253640040363,-62.817253640040363,-54.98895764443629,-43.664003056797156,-30.64695645464607,-15.899488775221721,0,{"$f":"DEGREES(ACOS((SIN(S40*PI()/180)*SIN($E$4)-SIN($E$40*PI()/180))/(COS(S40*PI()/180)*COS($E$4))))","v":15.899488775221721},30.64695645464607,43.664003056797156,54.98895764443629,62.817253640040363,62.817253640040363,62.817253640040363,62.817253640040363,62.817253640040363,62.817253640040363,62.817253640040363,62.817253640040363,"azimut"]
[]
[null,"Diciembre",21,{"$f":"(31+28+31+30+31+30+31+31+30+31+30)+C43","v":355},{"$f":"23.45*SIN(2*PI()*((284+D43)/365.25))","v":-23.449878018405361},{"$f":"IF(DEGREES(ASIN((COS($E$4)*COS($E$43*PI()/180)*COS(F9))+(SIN($E$4)*SIN($E$43*PI()/180))))<0,0,DEGREES(ASIN((COS($E$4)*COS($E$43*PI()/180)*COS(F9))+(SIN($E$4)*SIN($E$43*PI()/180)))))","v":0},0,0,0,0,0,0,0,5.2443668849736644,13.656305341452297,20.311527653718663,24.640220149779445,26.150121981594644,24.640220149779445,20.311527653718663,13.656305341452297,5.2443668849736644,0,0,0,0,0,0,0,0,"altura solar"]
[null,null,null,null,null,{"$f":"-DEGREES(ACOS((SIN(F43*PI()/180)*SIN($E$4)-SIN($E$43*PI()/180))/(COS(F43*PI()/180)*COS($E$4))))","v":-58.496116877734813},-58.496116877734813,-58.496116877734813,-58.496116877734813,-58.496116877734813,-58.496116877734813,-58.496116877734813,-58.496116877734813,-52.924227657802653,-41.880455214720982,-29.282631230992585,-15.143022587473794,0,{"$f":"DEGREES(ACOS((SIN(S43*PI()/180)*SIN($E$4)-SIN($E$43*PI()/180))/(COS(S43*PI()/180)*COS($E$4))))","v":15.143022587473794},29.282631230992585,41.880455214720982,52.924227657802653,58.496116877734813,58.496116877734813,58.496116877734813,58.496116877734813,58.496116877734813,58.496116877734813,58.496116877734813,58.496116877734813,"azimut"]
[]
[null,"OBSTRUCCION SOLAR"]
[null,"COLUMNA",1,{"$f":"C47+1","v":2},{"$f":"D47+1","v":3},4,5,6,7,8,9,10,11,12,13,14,15,16,17,18,19,20,21,22,23,24,25,26,27,28,29,30,31,32,33,34,35,36,37,38,39,40,41,42,43,44,45,46,47,48,49,50,51,52,53,54,55,56,57,58,59,60,61,62,63,64,65,66,{"$f":"BP47+1","v":67},68,69,70,71,72,73]
[null,"AZIMUT",-180,{"$f":"C48+5","v":-175},{"$f":"D48+5","v":-170},-165,-160,-155,-150,-145,-140,-135,-130,-125,-120,-115,-110,-105,-100,-95,-90,-85,-80,-75,-70,-65,-60,-55,-50,-45,-40,-35,-30,-25,-20,-15,-10,-5,0,5,10,15,20,25,30,35,40,45,50,55,60,65,70,75,80,85,90,95,100,105,110,115,120,125,130,135,140,145,{"$f":"BP48+5","v":150},155,160,165,170,175,180]
[]
[null,"ARCO","azimut","altura",null,"Perdidas orinetacion",false]
[null,"Az este",{"$f":"IF(Sombras!X26<=15,-180,MIN(Sombras!$Z$10:$AA$10))","v":-75}]
[null,"Az oeste",{"$f":"IF(Sombras!X26<=15,180,C51+180)","v":105}]
[null,"altura solar",{"$f":"IF(C48<$C$51,90,IF(C48>$C$52,90,0))","v":90},90,90,90,90,90,90,90,90,90,90,90,90,90,90,90,90,90,90,90,90,0,0,0,0,0,0,0,0,0,0,0,0,0,0,0,0,0,0,0,0,0,0,0,0,0,0,0,0,0,0,0,0,0,0,0,0,0,90,90,90,90,90,90,{"$f":"IF(BO48<$C$51,90,IF(BO48>$C$52,90,0))","v":90},90,90,90,90,90,90,90,90]
[null,null,{"$f":"IF($G$50=TRUE,1,IF(C53=90,0,1))","v":0},{"$f":"IF($G$50=TRUE,1,IF(D53=90,0,1))","v":0},0,0,0,0,0,0,0,0,0,0,0,0,0,0,0,0,0,0,0,1,1,1,1,1,1,1,1,1,1,1,1,1,1,1,1,1,1,1,1,1,1,1,1,1,1,1,1,1,1,1,1,1,1,1,1,1,0,0,0,0,0,0,0,{"$f":"IF($G$50=TRUE,1,IF(BP53=90,0,1))","v":0},0,0,0,0,0,0,0]
[null,"PATIO","azimut","altura","red az"]
[null,"PATIO F1a",{"$f":"MIN(Sombras!E54:E55)","v":15},{"$f":"VLOOKUP(C56,Sombras!$E$54:$F$55,2,FALSE)","v":6.2772984895975554},{"$f":"ROUND(C56/5,0)*5","v":15},"col inicio",{"$f":"IF(C56>180,73,IF(C56<-180,1,MATCH($D$56,C58:BW58,FALSE)))","v":40}]
[null,"PATIO F1b",{"$f":"MAX(Sombras!E54:E55)","v":67.5},{"$f":"VLOOKUP(C57,Sombras!$E$54:$F$55,2,FALSE)","v":5.1625074159076352},{"$f":"ROUND(C57/5,0)*5","v":70},"col fin",{"$f":"IF(E57>180,73,IF(C57<-180,1,IF(E57=E56,G56,MATCH($D$57,C58:BW58,FALSE))))","v":51}]
[null,"altura solar",{"$f":"IF(C48=$E$56,$D$56,IF(C48=$E$57,$D$57,0))","v":0},{"$f":"IF(D48=$E$56,$D$56,IF(D48=$E$57,$D$57,0))","v":0},0,0,0,0,0,0,0,0,0,0,0,0,0,0,0,0,0,0,0,0,0,0,0,0,0,0,0,0,0,0,0,0,0,0,0,0,0,6.2772984895975554,0,0,0,0,0,0,0,0,0,0,5.1625074159076352,0,0,0,0,0,0,0,0,0,0,0,0,0,0,{"$f":"IF(BP48=$E$56,$D$56,IF(BP48=$E$57,$D$57,0))","v":0},0,0,0,0,0,0,0]
[null,"altura interpolada",{"$f":"IF(MAX(C57,C56)<-180,0,IF(C56<-180,D57+((D56-D57)*(C56+180)/(C56-C57)),IF(C$47=$G$56,$D$56,IF(C$47=$G$57,$D$57,0))))","v":0},{"$f":"IF(D47<$G$56,0,IF(D47=$G$56,$D$56,IF(D47<=$G$57,$D$56+(($D$57-$D$56)*(D47-$G$56)/($G$57-$G$56)),0)))","v":0},0,0,0,0,0,0,0,0,0,0,0,0,0,0,0,0,0,0,0,0,0,0,0,0,0,0,0,0,0,0,0,0,0,0,0,0,0,6.2772984895975554,6.1759538465348358,6.0746092034721153,5.9732645604093957,5.8719199173466752,5.7705752742839556,5.6692306312212351,5.5678859881585154,5.4665413450957949,5.3651967020330753,5.2638520589703557,5.1625074159076352,0,0,0,0,0,0,0,0,0,0,0,0,0,0,{"$f":"IF(BP47<$G$56,0,IF(BP47=$G$56,$D$56,IF(BP47<=$G$57,$D$56+(($D$57-$D$56)*(BP47-$G$56)/($G$57-$G$56)),0)))","v":0},0,0,0,0,0,0,{"$f":"IF(C57>180,D56+((D57-D56)*(C57-180)/(C57-C56)),IF(BW47<$G$56,0,IF(BW47=$G$56,$D$56,IF(BW47<=$G$57,$D$56+(($D$57-$D$56)*(BW47-$G$56)/($G$57-$G$56)),0))))","v":0}]
[null,"PATIO F2a",{"$f":"MIN(Sombras!E59:E60)","v":-37.500000000000007},{"$f":"VLOOKUP(C60,Sombras!E59:F60,2,FALSE)","v":5.1625074159076352},{"$f":"ROUND(C60/5,0)*5","v":-40},"col inicio",{"$f":"IF(C60>180,73,IF(C60<-180,1,MATCH($D$60,C62:BW62,FALSE)))","v":29}]
[null,"PATIO F2b",{"$f":"MAX(Sombras!E59:E60)","v":15},{"$f":"VLOOKUP(C61,Sombras!E59:F60,2,FALSE)","v":6.2772984895975554},{"$f":"ROUND(C61/5,0)*5","v":15},"col fin",{"$f":"IF(E61>180,73,IF(C61<-180,1,IF(E61=E60,G60,MATCH($D$61,C62:BW62,FALSE))))","v":40}]
[null,"altura solar",{"$f":"IF(C$48=$E$60,$D$60,IF(C$48=$E$61,$D$61,0))","v":0},{"$f":"IF(D$48=$E$60,$D$60,IF(D$48=$E$61,$D$61,0))","v":0},0,0,0,0,0,0,0,0,0,0,0,0,0,0,0,0,0,0,0,0,0,0,0,0,0,0,5.1625074159076352,0,0,0,0,0,0,0,0,0,0,6.2772984895975554,0,0,0,0,0,0,0,0,0,0,0,0,0,0,0,0,0,0,0,0,0,0,0,0,0,{"$f":"IF(BP$48=$E$60,$D$60,IF(BP$48=$E$61,$D$61,0))","v":0},0,0,0,0,0,0,0]
[null,"altura interpolada",{"$f":"IF(MAX(C61,C60)<-180,0,IF(C60<-180,D61+((D60-D61)*(C60+180)/(C60-C61)),IF(C$47=$G$60,$D$60,IF(C$47=$G$61,$D$61,0))))","v":0},{"$f":"IF(D47<$G$60,0,IF(D47=$G$60,$D$60,IF(D47<=$G$61,$D$60+(($D$61-$D$60)*(D47-$G$60)/($G$61-$G$60)),0)))","v":0},0,0,0,0,0,0,0,0,0,0,0,0,0,0,0,0,0,0,0,0,0,0,0,0,0,0,5.1625074159076352,5.2638520589703548,5.3651967020330753,5.4665413450957949,5.5678859881585154,5.6692306312212351,5.7705752742839556,5.8719199173466752,5.9732645604093957,6.0746092034721153,6.1759538465348349,6.2772984895975554,0,0,0,0,0,0,0,0,0,0,0,0,0,0,0,0,0,0,0,0,0,0,0,0,0,{"$f":"IF(BP47<$G$60,0,IF(BP47=$G$60,$D$60,IF(BP47<=$G$61,$D$60+(($D$61-$D$60)*(BP47-$G$60)/($G$61-$G$60)),0)))","v":0},0,0,0,0,0,0,{"$f":"IF(C61>180,D60+((D61-D60)*(C61-180)/(C61-C60)),IF(BW47<$G$60,0,IF(BW47=$G$60,$D$60,IF(BW47<=$G$61,$D$60+(($D$61-$D$60)*(BW47-$G$60)/($G$61-$G$60)),0))))","v":0}]
[null,"PATIO Ld1",{"$f":"MIN(Sombras!E64:E65)","v":67.5},{"$f":"VLOOKUP(C64,Sombras!E64:F65,2,FALSE)","v":5.1625074159076352},{"$f":"ROUND(C64/5,0)*5","v":70},"col inicio",{"$f":"IF(C64>180,73,IF(C64<-180,1,MATCH($D$64,C66:BW66,FALSE)))","v":51}]
[null,"PATIO Ld2",{"$f":"MAX(Sombras!E64:E65)","v":105},{"$f":"VLOOKUP(C65,Sombras!E64:F65,2,FALSE)","v":8.7350263878307288},{"$f":"ROUND(C65/5,0)*5","v":105},"col fin",{"$f":"IF(E65>180,73,IF(C65<-180,1,IF(E65=E64,G64,MATCH($D$65,C66:BW66,FALSE))))","v":58}]
[null,"altura solar",{"$f":"IF(C$48=$E$64,$D$64,IF(C$48=$E$65,$D$65,0))","v":0},{"$f":"IF(D$48=$E$64,$D$64,IF(D$48=$E$65,$D$65,0))","v":0},0,0,0,0,0,0,0,0,0,0,0,0,0,0,0,0,0,0,0,0,0,0,0,0,0,0,0,0,0,0,0,0,0,0,0,0,0,0,0,0,0,0,0,0,0,0,0,0,5.1625074159076352,0,0,0,0,0,0,8.7350263878307288,0,0,0,0,0,0,0,{"$f":"IF(BP$48=$E$64,$D$64,IF(BP$48=$E$65,$D$65,0))","v":0},0,0,0,0,0,0,0]
[null,"altura interpolada",{"$f":"IF(MAX(C65,C64)<-180,0,IF(C64<-180,D65+((D64-D65)*(C64+180)/(C64-C65)),IF(C$47=$G$64,$D$64,IF(C$47=$G$65,$D$65,0))))","v":0},{"$f":"IF(D47<$G$64,0,IF(D47=$G$64,$D$64,IF(D47<=$G$65,$D$64+(($D$65-$D$64)*(D47-$G$64)/($G$65-$G$64)),0)))","v":0},0,0,0,0,0,0,0,0,0,0,0,0,0,0,0,0,0,0,0,0,0,0,0,0,0,0,0,0,0,0,0,0,0,0,0,0,0,0,0,0,0,0,0,0,0,0,0,0,5.1625074159076352,5.6728672690395054,6.1832271221713757,6.6935869753032469,7.2039468284351171,7.7143066815669883,8.2246665346988586,8.7350263878307288,0,0,0,0,0,0,0,{"$f":"IF(BP47<$G$64,0,IF(BP47=$G$64,$D$64,IF(BP47<=$G$65,$D$64+(($D$65-$D$64)*(BP47-$G$64)/($G$65-$G$64)),0)))","v":0},0,0,0,0,0,0,{"$f":"IF(C65>180,D64+((D65-D64)*(C65-180)/(C65-C64)),IF(BW47<$G$64,0,IF(BW47=$G$64,$D$64,IF(BW47<=$G$65,$D$64+(($D$65-$D$64)*(BW47-$G$64)/($G$65-$G$64)),0))))","v":0}]
[null,"PATIO Li1",{"$f":"MIN(Sombras!E69:E70)","v":-75},{"$f":"VLOOKUP(C68,Sombras!E69:F70,2,FALSE)","v":5.7809846657836941},{"$f":"ROUND(C68/5,0)*5","v":-75},"col inicio",{"$f":"IF(C68>180,73,IF(C68<-180,1,MATCH($D$68,C70:BW70,FALSE)))","v":22}]
[null,"PATIO Li2",{"$f":"MAX(Sombras!E69:E70)","v":-37.500000000000007},{"$f":"VLOOKUP(C69,Sombras!E69:F70,2,FALSE)","v":5.1625074159076352},{"$f":"ROUND(C69/5,0)*5","v":-40},"col fin",{"$f":"IF(E69>180,73,IF(C69<-180,1,IF(E69=E68,G68,MATCH($D$69,C70:BW70,FALSE))))","v":29}]
[null,"altura solar",{"$f":"IF(C$48=$E$68,$D$68,IF(C$48=$E$69,$D$69,0))","v":0},{"$f":"IF(D$48=$E$68,$D$68,IF(D$48=$E$69,$D$69,0))","v":0},0,0,0,0,0,0,0,0,0,0,0,0,0,0,0,0,0,0,0,5.7809846657836941,0,0,0,0,0,0,5.1625074159076352,0,0,0,0,0,0,0,0,0,0,0,0,0,0,0,0,0,0,0,0,0,0,0,0,0,0,0,0,0,0,0,0,0,0,0,0,{"$f":"IF(BP$48=$E$68,$D$68,IF(BP$48=$E$69,$D$69,0))","v":0},0,0,0,0,0,0,0]
[null,"altura interpolada",{"$f":"IF(MAX(C69,C68)<-180,0,IF(C68<-180,D69+((D68-D69)*(C68+180)/(C68-C69)),IF(C$47=$G$68,$D$68,IF(C$47=$G$69,$D$69,0))))","v":0},{"$f":"IF(D47<$G$68,0,IF(D47=$G$68,$D$68,IF(D47<=$G$69,$D$68+(($D$69-$D$68)*(D47-$G$68)/($G$69-$G$68)),0)))","v":0},0,0,0,0,0,0,0,0,0,0,0,0,0,0,0,0,0,0,0,5.7809846657836941,5.6926307729442573,5.6042768801048197,5.515922987265383,5.4275690944259463,5.3392152015865095,5.2508613087470719,5.1625074159076352,0,0,0,0,0,0,0,0,0,0,0,0,0,0,0,0,0,0,0,0,0,0,0,0,0,0,0,0,0,0,0,0,0,0,0,0,{"$f":"IF(BP47<$G$68,0,IF(BP47=$G$68,$D$68,IF(BP47<=$G$69,$D$68+(($D$69-$D$68)*(BP47-$G$68)/($G$69-$G$68)),0)))","v":0},0,0,0,0,0,0,{"$f":"IF(C69>180,D68+((D69-D68)*(C69-180)/(C69-C68)),IF(BW47<$G$68,0,IF(BW47=$G$68,$D$68,IF(BW47<=$G$69,$D$68+(($D$69-$D$68)*(BW47-$G$68)/($G$69-$G$68)),0))))","v":0}]
[]
[null,"PATIO max",{"$f":"MAX(C71,C67,C63,C59)","v":0},{"$f":"MAX(D71,D67,D63,D59)","v":0},0,0,0,0,0,0,0,0,0,0,0,0,0,0,0,0,0,0,0,5.7809846657836941,5.6926307729442573,5.6042768801048197,5.515922987265383,5.4275690944259463,5.3392152015865095,5.2508613087470719,5.1625074159076352,5.2638520589703548,5.3651967020330753,5.4665413450957949,5.5678859881585154,5.6692306312212351,5.7705752742839556,5.8719199173466752,5.9732645604093957,6.0746092034721153,6.1759538465348349,6.2772984895975554,6.1759538465348358,6.0746092034721153,5.9732645604093957,5.8719199173466752,5.7705752742839556,5.6692306312212351,5.5678859881585154,5.4665413450957949,5.3651967020330753,5.2638520589703557,5.1625074159076352,5.6728672690395054,6.1832271221713757,6.6935869753032469,7.2039468284351171,7.7143066815669883,8.2246665346988586,8.7350263878307288,0,0,0,0,0,0,0,{"$f":"MAX(BP71,BP67,BP63,BP59)","v":0},0,0,0,0,0,0,0]
[]
[null,"SALIENTE","azimut","altura"]
[null,"Sal 1a",{"$f":"MIN(Sombras!J54:J55)","v":0},{"$f":"VLOOKUP(C76,Sombras!J54:K55,2,FALSE)","v":0},{"$f":"ROUND(C76/5,0)*5","v":0},"col inicio",{"$f":"IF(C76>180,73,IF(C76<-180,1,MATCH($D$76,C78:BW78,FALSE)))","v":1}]
[null,"Sal 1b",{"$f":"MAX(Sombras!J54:J55)","v":0},{"$f":"VLOOKUP(C77,Sombras!J54:K55,2,FALSE)","v":0},{"$f":"ROUND(C77/5,0)*5","v":0},"col fin",{"$f":"IF(E77>180,73,IF(C77<-180,1,IF(E77=E76,G76,MATCH($D$77,C78:BW78,FALSE))))","v":1}]
[null,"altura solar",{"$f":"IF(C$48=$E$76,$D$76,IF(C$48=$E$77,$D$77,0))","v":0},{"$f":"IF(D$48=$E$76,$D$76,IF(D$48=$E$77,$D$77,0))","v":0},0,0,0,0,0,0,0,0,0,0,0,0,0,0,0,0,0,0,0,0,0,0,0,0,0,0,0,0,0,0,0,0,0,0,0,0,0,0,0,0,0,0,0,0,0,0,0,0,0,0,0,0,0,0,0,0,0,0,0,0,0,0,0,{"$f":"IF(BP$48=$E$76,$D$76,IF(BP$48=$E$77,$D$77,0))","v":0},0,0,0,0,0,0,0]
[null,"altura interpolada",{"$f":"IF(MAX(C77,C76)<-180,0,IF(C76<-180,D77+((D76-D77)*(C76+180)/(C76-C77)),IF(C$47=$G$76,$D$76,IF(C$47=$G$77,$D$77,0))))","v":0},{"$f":"IF(D47<$G$76,0,IF(D47=$G$76,$D$76,IF(D47<=$G$77,$D$76+(($D$77-$D$76)*(D47-$G$76)/($G$77-$G$76)),0)))","v":0},0,0,0,0,0,0,0,0,0,0,0,0,0,0,0,0,0,0,0,0,0,0,0,0,0,0,0,0,0,0,0,0,0,0,0,0,0,0,0,0,0,0,0,0,0,0,0,0,0,0,0,0,0,0,0,0,0,0,0,0,0,0,0,{"$f":"IF(BP47<$G$76,0,IF(BP47=$G$76,$D$76,IF(BP47<=$G$77,$D$76+(($D$77-$D$76)*(BP47-$G$76)/($G$77-$G$76)),0)))","v":0},0,0,0,0,0,0,{"$f":"IF(C77>180,D76+((D77-D76)*(C77-180)/(C77-C76)),IF(BW47<$G$76,0,IF(BW47=$G$76,$D$76,IF(BW47<=$G$77,$D$76+(($D$77-$D$76)*(BW47-$G$76)/($G$77-$G$76)),0))))","v":0}]
[null,"Sal 2a",{"$f":"MIN(Sombras!J59:J60)","v":0},{"$f":"VLOOKUP(C80,Sombras!J59:K60,2,FALSE)","v":0},{"$f":"ROUND(C80/5,0)*5","v":0},"col inicio",{"$f":"IF(C80>180,73,IF(C80<-180,1,MATCH($D$80,C82:BW82,FALSE)))","v":1}]
[null,"Sal 2b",{"$f":"MAX(Sombras!J59:J60)","v":0},{"$f":"VLOOKUP(C81,Sombras!J59:K60,2,FALSE)","v":0},{"$f":"ROUND(C81/5,0)*5","v":0},"col fin",{"$f":"IF(E81>180,73,IF(C81<-180,1,IF(E81=E80,G80,MATCH($D$81,C82:BW82,FALSE))))","v":1}]
[null,"altura solar",{"$f":"IF(C$48=$E80,$D80,IF(C$48=$E81,$D81,0))","v":0},{"$f":"IF(D$48=$E80,$D80,IF(D$48=$E81,$D81,0))","v":0},0,0,0,0,0,0,0,0,0,0,0,0,0,0,0,0,0,0,0,0,0,0,0,0,0,0,0,0,0,0,0,0,0,0,0,0,0,0,0,0,0,0,0,0,0,0,0,0,0,0,0,0,0,0,0,0,0,0,0,0,0,0,0,{"$f":"IF(BP$48=$E80,$D80,IF(BP$48=$E81,$D81,0))","v":0},0,0,0,0,0,0,0]
[null,"altura interpolada",{"$f":"IF(MAX(C81,C80)<-180,0,IF(C80<-180,D81+((D80-D81)*(C80+180)/(C80-C81)),IF(C$47=$G80,$D80,IF(C$47=$G81,$D81,0))))","v":0},{"$f":"IF(D47<$G$80,0,IF(D47=$G$80,$D$80,IF(D47<=$G$81,$D$80+(($D$81-$D$80)*(D47-$G$80)/($G$81-$G$80)),0)))","v":0},0,0,0,0,0,0,0,0,0,0,0,0,0,0,0,0,0,0,0,0,0,0,0,0,0,0,0,0,0,0,0,0,0,0,0,0,0,0,0,0,0,0,0,0,0,0,0,0,0,0,0,0,0,0,0,0,0,0,0,0,0,0,0,{"$f":"IF(BP47<$G$80,0,IF(BP47=$G$80,$D$80,IF(BP47<=$G$81,$D$80+(($D$81-$D$80)*(BP47-$G$80)/($G$81-$G$80)),0)))","v":0},0,0,0,0,0,0,{"$f":"IF(C81>180,D80+((D81-D80)*(C81-180)/(C81-C80)),IF(BW47<$G80,0,IF(BW47=$G80,$D$80,IF(BW47<=$G81,$D80+(($D81-$D80)*(BW47-$G80)/($G81-$G80)),0))))","v":0}]
[]
[null,"SALIENTE max",{"$f":"MAX(C79,C83)","v":0},{"$f":"MAX(D79,D83)","v":0},0,0,0,0,0,0,0,0,0,0,0,0,0,0,0,0,0,0,0,0,0,0,0,0,0,0,0,0,0,0,0,0,0,0,0,0,0,0,0,0,0,0,0,0,0,0,0,0,0,0,0,0,0,0,0,0,0,0,0,0,0,0,0,{"$f":"MAX(BP79,BP83)","v":0},0,0,0,0,0,0,0]
[]
[null,"EDIFICIOS","azimut","altura"]
[null,"Obs1 fr_a",{"$f":"MIN(Sombras!P54:P55)","v":0},{"$f":"VLOOKUP(C88,Sombras!P54:Q55,2,FALSE)","v":36.86989764584402},{"$f":"ROUND(C88/5,0)*5","v":0},"col inicio",{"$f":"IF(C88>180,73,IF(C88<-180,1,MATCH($D$88,C90:BW90,FALSE)))","v":37}]
[null,"Obs1 fr_b",{"$f":"MAX(Sombras!P54:P55)","v":25},{"$f":"VLOOKUP(C89,Sombras!P54:Q55,2,FALSE)","v":30.963756532073521},{"$f":"ROUND(C89/5,0)*5","v":25},"col fin",{"$f":"IF(E89>180,73,IF(C89<-180,1,IF(E89=E88,G88,MATCH($D$89,C90:BW90,FALSE))))","v":42}]
[null,"altura solar",{"$f":"IF(C$48=$E88,$D88,IF(C$48=$E89,$D89,0))","v":0},{"$f":"IF(D$48=$E88,$D88,IF(D$48=$E89,$D89,0))","v":0},0,0,0,0,0,0,0,0,0,0,0,0,0,0,0,0,0,0,0,0,0,0,0,0,0,0,0,0,0,0,0,0,0,0,36.86989764584402,0,0,0,0,30.963756532073521,0,0,0,0,0,0,0,0,0,0,0,0,0,0,0,0,0,0,0,0,0,0,0,{"$f":"IF(BP$48=$E88,$D88,IF(BP$48=$E89,$D89,0))","v":0},0,0,0,0,0,0,0]
[null,"altura interpolada",{"$f":"IF(MAX(C89,C88)<-180,0,IF(C88<-180,D89+((D88-D89)*(C88+180)/(C88-C89)),IF(C$47=$G88,$D88,IF(C$47=$G89,$D89,0))))","v":0},{"$f":"IF(D$47<$G$88,0,IF(D$47=$G$88,$D$88,IF(D$47<=$G$89,$D$88+(($D$89-$D$88)*(D$47-$G$88)/($G$89-$G$88)),0)))","v":0},{"$f":"IF(E$47<$G$88,0,IF(E$47=$G$88,$D$88,IF(E$47<=$G$89,$D$88+(($D$89-$D$88)*(E$47-$G$88)/($G$89-$G$88)),0)))","v":0},0,0,0,0,0,0,0,0,0,0,0,0,0,0,0,0,0,0,0,0,0,0,0,0,0,0,0,0,0,0,0,0,0,36.86989764584402,35.68866942308992,34.507441200335819,33.326212977581719,32.144984754827618,30.963756532073521,0,0,0,0,0,0,0,0,0,0,0,0,0,0,0,0,0,0,0,0,0,0,0,0,{"$f":"IF(BQ$47<$G$88,0,IF(BQ$47=$G$88,$D$88,IF(BQ$47<=$G$89,$D$88+(($D$89-$D$88)*(BQ$47-$G$88)/($G$89-$G$88)),0)))","v":0},0,0,0,0,0,{"$f":"IF(C89>180,D88+((D89-D88)*(C89-180)/(C89-C88)),IF(BW$47<$G88,0,IF(BW$47=$G88,$D88,IF(BW$47<=$G89,$D88+(($D89-$D88)*(BW$47-$G88)/($G89-$G88)),0))))","v":0}]
[null,"Obs1 lt_a",{"$f":"MIN(Sombras!P59:P60)","v":-25},{"$f":"VLOOKUP(C92,Sombras!P59:Q60,2,FALSE)","v":30.963756532073521},{"$f":"ROUND(C92/5,0)*5","v":-25},"col inicio",{"$f":"IF(C92>180,73,IF(C92<-180,1,MATCH($D$92,C94:BW94,FALSE)))","v":32}]
[null,"Obs1 lt_b",{"$f":"MAX(Sombras!P59:P60)","v":0},{"$f":"VLOOKUP(C93,Sombras!P59:Q60,2,FALSE)","v":36.86989764584402},{"$f":"ROUND(C93/5,0)*5","v":0},"col fin",{"$f":"IF(E93>180,73,IF(C93<-180,1,IF(E93=E92,G92,MATCH($D$93,C94:BW94,FALSE))))","v":37}]
[null,"altura solar",{"$f":"IF(C$48=$E92,$D92,IF(C$48=$E93,$D93,0))","v":0},{"$f":"IF(D$48=$E92,$D92,IF(D$48=$E93,$D93,0))","v":0},0,0,0,0,0,0,0,0,0,0,0,0,0,0,0,0,0,0,0,0,0,0,0,0,0,0,0,0,0,30.963756532073521,0,0,0,0,36.86989764584402,0,0,0,0,0,0,0,0,0,0,0,0,0,0,0,0,0,0,0,0,0,0,0,0,0,0,0,0,{"$f":"IF(BP$48=$E92,$D92,IF(BP$48=$E93,$D93,0))","v":0},0,0,0,0,0,0,0]
[null,"altura interpolada",{"$f":"IF(MAX(C93,C92)<-180,0,IF(C92<-180,D93+((D92-D93)*(C92+180)/(C92-C93)),IF(C$47=$G92,$D92,IF(C$47=$G93,$D93,0))))","v":0},{"$f":"IF(D$47<$G$92,0,IF(D$47=$G$92,$D$92,IF(D$47<=$G$93,$D$92+(($D$93-$D$92)*(D$47-$G$92)/($G$93-$G$92)),0)))","v":0},{"$f":"IF(E$47<$G$92,0,IF(E$47=$G$92,$D$92,IF(E$47<=$G$93,$D$92+(($D$93-$D$92)*(E$47-$G$92)/($G$93-$G$92)),0)))","v":0},0,0,0,0,0,0,0,0,0,0,0,0,0,0,0,0,0,0,0,0,0,0,0,0,0,0,0,0,30.963756532073521,32.144984754827618,33.326212977581719,34.507441200335819,35.68866942308992,36.86989764584402,0,0,0,0,0,0,0,0,0,0,0,0,0,0,0,0,0,0,0,0,0,0,0,0,0,0,0,0,0,{"$f":"IF(BQ$47<$G$92,0,IF(BQ$47=$G$92,$D$92,IF(BQ$47<=$G$93,$D$92+(($D$93-$D$92)*(BQ$47-$G$92)/($G$93-$G$92)),0)))","v":0},0,0,0,0,0,{"$f":"IF(C93>180,D92+((D93-D92)*(C93-180)/(C93-C92)),IF(BW$47<$G92,0,IF(BW$47=$G92,$D92,IF(BW$47<=$G93,$D92+(($D93-$D92)*(BW$47-$G92)/($G93-$G92)),0))))","v":0}]
[null,"Obs2 fr1_a",{"$f":"MIN(Sombras!P64:P65)","v":0},{"$f":"VLOOKUP(C96,Sombras!P64:Q65,2,FALSE)","v":0},{"$f":"ROUND(C96/5,0)*5","v":0},"col inicio",{"$f":"IF(C96>180,73,IF(C96<-180,1,MATCH($D96,C98:BW98,FALSE)))","v":1}]
[null,"Obs2 fr1_b",{"$f":"MAX(Sombras!P64:P65)","v":0},{"$f":"VLOOKUP(C97,Sombras!P64:Q65,2,FALSE)","v":0},{"$f":"ROUND(C97/5,0)*5","v":0},"col fin",{"$f":"IF(E97>180,73,IF(C97<-180,1,IF(E97=E96,G96,MATCH($D97,C98:BW98,FALSE))))","v":1}]
[null,"altura solar",{"$f":"IF(C$48=$E96,$D96,IF(C$48=$E97,$D97,0))","v":0},{"$f":"IF(D$48=$E96,$D96,IF(D$48=$E97,$D97,0))","v":0},0,0,0,0,0,0,0,0,0,0,0,0,0,0,0,0,0,0,0,0,0,0,0,0,0,0,0,0,0,0,0,0,0,0,0,0,0,0,0,0,0,0,0,0,0,0,0,0,0,0,0,0,0,0,0,0,0,0,0,0,0,0,0,{"$f":"IF(BP$48=$E96,$D96,IF(BP$48=$E97,$D97,0))","v":0},0,0,0,0,0,0,0]
[null,"altura interpolada",{"$f":"IF(MAX(C97,C96)<-180,0,IF(C96<-180,D97+((D96-D97)*(C96+180)/(C96-C97)),IF(C$47=$G96,$D96,IF(C$47=$G97,$D97,0))))","v":0},{"$f":"IF(D$47<$G$96,0,IF(D$47=$G$96,$D$96,IF(D$47<=$G$97,$D$96+(($D$97-$D$96)*(D$47-$G$96)/($G$97-$G$96)),0)))","v":0},{"$f":"IF(E$47<$G$96,0,IF(E$47=$G$96,$D$96,IF(E$47<=$G$97,$D$96+(($D$97-$D$96)*(E$47-$G$96)/($G$97-$G$96)),0)))","v":0},0,0,0,0,0,0,0,0,0,0,0,0,0,0,0,0,0,0,0,0,0,0,0,0,0,0,0,0,0,0,0,0,0,0,0,0,0,0,0,0,0,0,0,0,0,0,0,0,0,0,0,0,0,0,0,0,0,0,0,0,0,0,0,{"$f":"IF(BQ$47<$G$96,0,IF(BQ$47=$G$96,$D$96,IF(BQ$47<=$G$97,$D$96+(($D$97-$D$96)*(BQ$47-$G$96)/($G$97-$G$96)),0)))","v":0},0,0,0,0,0,{"$f":"IF(C97>180,D96+((D97-D96)*(C97-180)/(C97-C96)),IF(BW$47<$G96,0,IF(BW$47=$G96,$D96,IF(BW$47<=$G97,$D96+(($D97-$D96)*(BW$47-$G96)/($G97-$G96)),0))))","v":0}]
[null,"Obs2 fr2_a",{"$f":"MIN(Sombras!P69:P70)","v":0},{"$f":"VLOOKUP(C100,Sombras!P69:Q70,2,FALSE)","v":0},{"$f":"ROUND(C100/5,0)*5","v":0},"col inicio",{"$f":"IF(C100>180,73,IF(C100<-180,1,MATCH($D100,C102:BW102,FALSE)))","v":1}]
[null,"Obs2 fr2_b",{"$f":"MAX(Sombras!P69:P70)","v":0},{"$f":"VLOOKUP(C101,Sombras!P69:Q70,2,FALSE)","v":0},{"$f":"ROUND(C101/5,0)*5","v":0},"col fin",{"$f":"IF(E101>180,73,IF(C101<-180,1,IF(E101=E100,G100,MATCH($D101,C102:BW102,FALSE))))","v":1}]
[null,"altura solar",{"$f":"IF(C$48=$E100,$D100,IF(C$48=$E101,$D101,0))","v":0},{"$f":"IF(D$48=$E100,$D100,IF(D$48=$E101,$D101,0))","v":0},0,0,0,0,0,0,0,0,0,0,0,0,0,0,0,0,0,0,0,0,0,0,0,0,0,0,0,0,0,0,0,0,0,0,0,0,0,0,0,0,0,0,0,0,0,0,0,0,0,0,0,0,0,0,0,0,0,0,0,0,0,0,0,{"$f":"IF(BP$48=$E100,$D100,IF(BP$48=$E101,$D101,0))","v":0},0,0,0,0,0,0,0]
[null,"altura interpolada",{"$f":"IF(MAX(C101,C100)<-180,0,IF(C100<-180,D101+((D100-D101)*(C100+180)/(C100-C101)),IF(C$47=$G100,$D100,IF(C$47=$G101,$D101,0))))","v":0},{"$f":"IF(D$47<$G$100,0,IF(D$47=$G$100,$D$100,IF(D$47<=$G$101,$D$100+(($D$101-$D$100)*(D$47-$G$100)/($G$101-$G$100)),0)))","v":0},{"$f":"IF(E$47<$G$100,0,IF(E$47=$G$100,$D$100,IF(E$47<=$G$101,$D$100+(($D$101-$D$100)*(E$47-$G$100)/($G$101-$G$100)),0)))","v":0},0,0,0,0,0,0,0,0,0,0,0,0,0,0,0,0,0,0,0,0,0,0,0,0,0,0,0,0,0,0,0,0,0,0,0,0,0,0,0,0,0,0,0,0,0,0,0,0,0,0,0,0,0,0,0,0,0,0,0,0,0,0,0,{"$f":"IF(BQ$47<$G$100,0,IF(BQ$47=$G$100,$D$100,IF(BQ$47<=$G$101,$D$100+(($D$101-$D$100)*(BQ$47-$G$100)/($G$101-$G$100)),0)))","v":0},0,0,0,0,0,{"$f":"IF(C101>180,D100+((D101-D100)*(C101-180)/(C101-C100)),IF(BW$47<$G100,0,IF(BW$47=$G100,$D100,IF(BW$47<=$G101,$D100+(($D101-$D100)*(BW$47-$G100)/($G101-$G100)),0))))","v":0}]
[null,"Obs3 fr_a",{"$f":"MIN(Sombras!P74:P75)","v":0},{"$f":"VLOOKUP(C104,Sombras!P74:Q75,2,FALSE)","v":0},{"$f":"ROUND(C104/5,0)*5","v":0},"col inicio",{"$f":"IF(C104>180,73,IF(C104<-180,1,MATCH($D104,C106:BW106,FALSE)))","v":1}]
[null,"Obs3 fr_b",{"$f":"MAX(Sombras!P74:P75)","v":0},{"$f":"VLOOKUP(C105,Sombras!P74:Q75,2,FALSE)","v":0},{"$f":"ROUND(C105/5,0)*5","v":0},"col fin",{"$f":"IF(E105>180,73,IF(C105<-180,1,IF(E105=E104,G104,MATCH($D105,C106:BW106,FALSE))))","v":1}]
[null,"altura solar",{"$f":"IF(C$48=$E104,$D104,IF(C$48=$E105,$D105,0))","v":0},{"$f":"IF(D$48=$E104,$D104,IF(D$48=$E105,$D105,0))","v":0},0,0,0,0,0,0,0,0,0,0,0,0,0,0,0,0,0,0,0,0,0,0,0,0,0,0,0,0,0,0,0,0,0,0,0,0,0,0,0,0,0,0,0,0,0,0,0,0,0,0,0,0,0,0,0,0,0,0,0,0,0,0,0,{"$f":"IF(BP$48=$E104,$D104,IF(BP$48=$E105,$D105,0))","v":0},0,0,0,0,0,0,0]
[null,"altura interpolada",{"$f":"IF(MAX(C105,C104)<-180,0,IF(C104<-180,D105+((D104-D105)*(C104+180)/(C104-C105)),IF(C$47=$G104,$D104,IF(C$47=$G105,$D105,0))))","v":0},{"$f":"IF(D$47<$G$104,0,IF(D$47=$G$104,$D$104,IF(D$47<=$G$105,$D$104+(($D$105-$D$104)*(D$47-$G$104)/($G$105-$G$104)),0)))","v":0},{"$f":"IF(E$47<$G$104,0,IF(E$47=$G$104,$D$104,IF(E$47<=$G$105,$D$104+(($D$105-$D$104)*(E$47-$G$104)/($G$105-$G$104)),0)))","v":0},0,0,0,0,0,0,0,0,0,0,0,0,0,0,0,0,0,0,0,0,0,0,0,0,0,0,0,0,0,0,0,0,0,0,0,0,0,0,0,0,0,0,0,0,0,0,0,0,0,0,0,0,0,0,0,0,0,0,0,0,0,0,0,{"$f":"IF(BQ$47<$G$104,0,IF(BQ$47=$G$104,$D$104,IF(BQ$47<=$G$105,$D$104+(($D$105-$D$104)*(BQ$47-$G$104)/($G$105-$G$104)),0)))","v":0},0,0,0,0,0,0]
[null,"Obs3 lt_a",{"$f":"MIN(Sombras!P79:P80)","v":0},{"$f":"VLOOKUP(C108,Sombras!P79:Q80,2,FALSE)","v":0},{"$f":"ROUND(C108/5,0)*5","v":0},"col inicio",{"$f":"IF(C108>180,73,IF(C108<-180,1,MATCH($D108,C110:BW110,FALSE)))","v":1}]
[null,"Obs3 lt_b",{"$f":"MAX(Sombras!P79:P80)","v":0},{"$f":"VLOOKUP(C109,Sombras!P79:Q80,2,FALSE)","v":0},{"$f":"ROUND(C109/5,0)*5","v":0},"col fin",{"$f":"IF(E109>180,73,IF(C109<-180,1,IF(E109=E108,G108,MATCH($D109,C110:BW110,FALSE))))","v":1}]
[null,"altura solar",{"$f":"IF(C$48=$E108,$D108,IF(C$48=$E109,$D109,0))","v":0},{"$f":"IF(D$48=$E108,$D108,IF(D$48=$E109,$D109,0))","v":0},0,0,0,0,0,0,0,0,0,0,0,0,0,0,0,0,0,0,0,0,0,0,0,0,0,0,0,0,0,0,0,0,0,0,0,0,0,0,0,0,0,0,0,0,0,0,0,0,0,0,0,0,0,0,0,0,0,0,0,0,0,0,0,{"$f":"IF(BP$48=$E108,$D108,IF(BP$48=$E109,$D109,0))","v":0},0,0,0,0,0,0,0]
[null,"altura interpolada",{"$f":"IF(MAX(C109,C108)<-180,0,IF(C108<-180,D109+((D108-D109)*(C108+180)/(C108-C109)),IF(C$47=$G108,$D108,IF(C$47=$G109,$D109,0))))","v":0},{"$f":"IF(D$47<$G$108,0,IF(D$47=$G$108,$D$108,IF(D$47<=$G$109,$D$108+(($D$109-$D$108)*(D$47-$G$108)/($G$109-$G$108)),0)))","v":0},{"$f":"IF(E$47<$G$108,0,IF(E$47=$G$108,$D$108,IF(E$47<=$G$109,$D$108+(($D$109-$D$108)*(E$47-$G$108)/($G$109-$G$108)),0)))","v":0},0,0,0,0,0,0,0,0,0,0,0,0,0,0,0,0,0,0,0,0,0,0,0,0,0,0,0,0,0,0,0,0,0,0,0,0,0,0,0,0,0,0,0,0,0,0,0,0,0,0,0,0,0,0,0,0,0,0,0,0,0,0,0,{"$f":"IF(BQ$47<$G$108,0,IF(BQ$47=$G$108,$D$108,IF(BQ$47<=$G$109,$D$108+(($D$109-$D$108)*(BQ$47-$G$108)/($G$109-$G$108)),0)))","v":0},0,0,0,0,0,{"$f":"IF(C109>180,D108+((D109-D108)*(C109-180)/(C109-C108)),IF(BW$47<$G108,0,IF(BW$47=$G108,$D108,IF(BW$47<=$G109,$D108+(($D109-$D108)*(BW$47-$G108)/($G109-$G108)),0))))","v":0}]
[]
[null,"EDIFICIO max",{"$f":"MAX(C111,C107,C103,C99,C95,C91)","v":0},{"$f":"MAX(D111,D107,D103,D99,D95,D91)","v":0},0,0,0,0,0,0,0,0,0,0,0,0,0,0,0,0,0,0,0,0,0,0,0,0,0,0,0,0,0,30.963756532073521,32.144984754827618,33.326212977581719,34.507441200335819,35.68866942308992,36.86989764584402,35.68866942308992,34.507441200335819,33.326212977581719,32.144984754827618,30.963756532073521,0,0,0,0,0,0,0,0,0,0,0,0,0,0,0,0,0,0,0,0,0,0,0,{"$f":"MAX(BP111,BP107,BP103,BP99,BP95,BP91)","v":0},0,0,0,0,0,0,0]
[]
[null,"GRUPO1","azimut","altura",{"$f":"Sombras!U6","v":"Perfil edificio"}]
[null,"GR1_1A",{"$f":"MIN(Sombras!AJ9:AJ10)","v":0},{"$f":"VLOOKUP(C116,Sombras!AJ9:AK10,2,FALSE)","v":0},{"$f":"ROUND(C116/5,0)*5","v":0},"col inicio",{"$f":"IF(C116>180,73,IF(C116<-180,1,MATCH($D116,C118:BW118,FALSE)))","v":1}]
[null,"GR1_1B",{"$f":"MAX(Sombras!AJ9:AJ10)","v":0},{"$f":"VLOOKUP(C117,Sombras!AJ9:AK10,2,FALSE)","v":0},{"$f":"ROUND(C117/5,0)*5","v":0},"col fin",{"$f":"IF(E117>180,73,IF(C117<-180,1,IF(E117=E116,G116,MATCH($D117,C118:BW118,FALSE))))","v":1}]
[null,"altura solar",{"$f":"IF(C$48=$E116,$D116,IF(C$48=$E117,$D117,0))","v":0},{"$f":"IF(D$48=$E116,$D116,IF(D$48=$E117,$D117,0))","v":0},0,0,0,0,0,0,0,0,0,0,0,0,0,0,0,0,0,0,0,0,0,0,0,0,0,0,0,0,0,0,0,0,0,0,0,0,0,0,0,0,0,0,0,0,0,0,0,0,0,0,0,0,0,0,0,0,0,0,0,0,0,0,0,{"$f":"IF(BP$48=$E116,$D116,IF(BP$48=$E117,$D117,0))","v":0},0,0,0,0,0,0,0]
[null,"altura interpolada",{"$f":"IF(MAX(C117,C116)<-180,0,IF(C116<-180,D117+((D116-D117)*(C116+180)/(C116-C117)),IF(C$47=$G116,$D116,IF(C$47=$G117,$D117,0))))","v":0},{"$f":"IF(D$47<$G$116,0,IF(D$47=$G$116,$D$116,IF(D$47<=$G$117,$D$116+(($D$117-$D$116)*(D$47-$G$116)/($G$117-$G$116)),0)))","v":0},{"$f":"IF(E$47<$G$116,0,IF(E$47=$G$116,$D$116,IF(E$47<=$G$117,$D$116+(($D$117-$D$116)*(E$47-$G$116)/($G$117-$G$116)),0)))","v":0},0,0,0,0,0,0,0,0,0,0,0,0,0,0,0,0,0,0,0,0,0,0,0,0,0,0,0,0,0,0,0,0,0,0,0,0,0,0,0,0,0,0,0,0,0,0,0,0,0,0,0,0,0,0,0,0,0,0,0,0,0,0,0,{"$f":"IF(BQ$47<$G$116,0,IF(BQ$47=$G$116,$D$116,IF(BQ$47<=$G$117,$D$116+(($D$117-$D$116)*(BQ$47-$G$116)/($G$117-$G$116)),0)))","v":0},0,0,0,0,0,{"$f":"IF(C117>180,D116+((D117-D116)*(C117-180)/(C117-C116)),IF(BW$47<$G116,0,IF(BW$47=$G116,$D116,IF(BW$47<=$G117,$D116+(($D117-$D116)*(BW$47-$G116)/($G117-$G116)),0))))","v":0}]
[null,"GR1_2A",{"$f":"MIN(Sombras!AJ15:AJ16)","v":0},{"$f":"VLOOKUP(C120,Sombras!AJ15:AK16,2,FALSE)","v":0},{"$f":"ROUND(C120/5,0)*5","v":0},"col inicio",{"$f":"IF(C120>180,73,IF(C120<-180,1,MATCH($D120,C122:BW122,FALSE)))","v":1}]
[null,"GR1_2B",{"$f":"MAX(Sombras!AJ15:AJ16)","v":0},{"$f":"VLOOKUP(C121,Sombras!AJ15:AK16,2,FALSE)","v":0},{"$f":"ROUND(C121/5,0)*5","v":0},"col fin",{"$f":"IF(E121>180,73,IF(C121<-180,1,IF(E121=E120,G120,MATCH($D121,C122:BW122,FALSE))))","v":1}]
[null,"altura solar",{"$f":"IF(C$48=$E120,$D120,IF(C$48=$E121,$D121,0))","v":0},{"$f":"IF(D$48=$E120,$D120,IF(D$48=$E121,$D121,0))","v":0},0,0,0,0,0,0,0,0,0,0,0,0,0,0,0,0,0,0,0,0,0,0,0,0,0,0,0,0,0,0,0,0,0,0,0,0,0,0,0,0,0,0,0,0,0,0,0,0,0,0,0,0,0,0,0,0,0,0,0,0,0,0,0,{"$f":"IF(BP$48=$E120,$D120,IF(BP$48=$E121,$D121,0))","v":0},0,0,0,0,0,0,0]
[null,"altura interpolada",{"$f":"IF(MAX(C121,C120)<-180,0,IF(C120<-180,D121+((D120-D121)*(C120+180)/(C120-C121)),IF(C$47=$G120,$D120,IF(C$47=$G121,$D121,0))))","v":0},{"$f":"IF(D$47<$G$120,0,IF(D$47=$G$120,$D$120,IF(D$47<=$G$121,$D$120+(($D$121-$D$120)*(D$47-$G$120)/($G$121-$G$120)),0)))","v":0},{"$f":"IF(E$47<$G$120,0,IF(E$47=$G$120,$D$120,IF(E$47<=$G$121,$D$120+(($D$121-$D$120)*(E$47-$G$120)/($G$121-$G$120)),0)))","v":0},0,0,0,0,0,0,0,0,0,0,0,0,0,0,0,0,0,0,0,0,0,0,0,0,0,0,0,0,0,0,0,0,0,0,0,0,0,0,0,0,0,0,0,0,0,0,0,0,0,0,0,0,0,0,0,0,0,0,0,0,0,0,0,{"$f":"IF(BQ$47<$G$120,0,IF(BQ$47=$G$120,$D$120,IF(BQ$47<=$G$121,$D$120+(($D$121-$D$120)*(BQ$47-$G$120)/($G$121-$G$120)),0)))","v":0},0,0,0,0,0,{"$f":"IF(C121>180,D120+((D121-D120)*(C121-180)/(C121-C120)),IF(BW$47<$G120,0,IF(BW$47=$G120,$D120,IF(BW$47<=$G121,$D120+(($D121-$D120)*(BW$47-$G120)/($G121-$G120)),0))))","v":0}]
[null,"GR1_3A",{"$f":"MIN(Sombras!AJ21:AJ22)","v":0},{"$f":"VLOOKUP(C124,Sombras!AJ21:AK22,2,FALSE)","v":0},{"$f":"ROUND(C124/5,0)*5","v":0},"col inicio",{"$f":"IF(C124>180,73,IF(C124<-180,1,MATCH($D124,C126:BW126,FALSE)))","v":1}]
[null,"GR1_3B",{"$f":"MAX(Sombras!AJ21:AJ22)","v":0},{"$f":"VLOOKUP(C125,Sombras!AJ21:AK22,2,FALSE)","v":0},{"$f":"ROUND(C125/5,0)*5","v":0},"col fin",{"$f":"IF(E125>180,73,IF(C125<-180,1,IF(E125=E124,G124,MATCH($D125,C126:BW126,FALSE))))","v":1}]
[null,"altura solar",{"$f":"IF(C$48=$E124,$D124,IF(C$48=$E125,$D125,0))","v":0},{"$f":"IF(D$48=$E124,$D124,IF(D$48=$E125,$D125,0))","v":0},0,0,0,0,0,0,0,0,0,0,0,0,0,0,0,0,0,0,0,0,0,0,0,0,0,0,0,0,0,0,0,0,0,0,0,0,0,0,0,0,0,0,0,0,0,0,0,0,0,0,0,0,0,0,0,0,0,0,0,0,0,0,0,{"$f":"IF(BP$48=$E124,$D124,IF(BP$48=$E125,$D125,0))","v":0},0,0,0,0,0,0,0]
[null,"altura interpolada",{"$f":"IF(MAX(C125,C124)<-180,0,IF(C124<-180,D125+((D124-D125)*(C124+180)/(C124-C125)),IF(C$47=$G124,$D124,IF(C$47=$G125,$D125,0))))","v":0},{"$f":"IF(D$47<$G$124,0,IF(D$47=$G$124,$D$124,IF(D$47<=$G$125,$D$124+(($D$125-$D$124)*(D$47-$G$124)/($G$125-$G$124)),0)))","v":0},{"$f":"IF(E$47<$G$124,0,IF(E$47=$G$124,$D$124,IF(E$47<=$G$125,$D$124+(($D$125-$D$124)*(E$47-$G$124)/($G$125-$G$124)),0)))","v":0},0,0,0,0,0,0,0,0,0,0,0,0,0,0,0,0,0,0,0,0,0,0,0,0,0,0,0,0,0,0,0,0,0,0,0,0,0,0,0,0,0,0,0,0,0,0,0,0,0,0,0,0,0,0,0,0,0,0,0,0,0,0,0,{"$f":"IF(BQ$47<$G$124,0,IF(BQ$47=$G$124,$D$124,IF(BQ$47<=$G$125,$D$124+(($D$125-$D$124)*(BQ$47-$G$124)/($G$125-$G$124)),0)))","v":0},0,0,0,0,0,{"$f":"IF(C125>180,D124+((D125-D124)*(C125-180)/(C125-C124)),IF(BW$47<$G124,0,IF(BW$47=$G124,$D124,IF(BW$47<=$G125,$D124+(($D125-$D124)*(BW$47-$G124)/($G125-$G124)),0))))","v":0}]
[]
[null,"GR1 max",{"$f":"MAX(C127,C123,C119)","v":0},{"$f":"MAX(D127,D123,D119)","v":0},0,0,0,0,0,0,0,0,0,0,0,0,0,0,0,0,0,0,0,0,0,0,0,0,0,0,0,0,0,0,0,0,0,0,0,0,0,0,0,0,0,0,0,0,0,0,0,0,0,0,0,0,0,0,0,0,0,0,0,0,0,0,0,{"$f":"MAX(BP127,BP123,BP119)","v":0},0,0,0,0,0,0,0]
[null,"GR1 edificio",{"$f":"C129*IF($E$115=Sombras!$AC$3,1,0)","v":0},{"$f":"D129*IF($E$115=Sombras!$AC$3,1,0)","v":0},{"$f":"E129*IF($E$115=Sombras!$AC$3,1,0)","v":0},{"$f":"F129*IF($E$115=Sombras!$AC$3,1,0)","v":0},{"$f":"G129*IF($E$115=Sombras!$AC$3,1,0)","v":0},{"$f":"H129*IF($E$115=Sombras!$AC$3,1,0)","v":0},{"$f":"I129*IF($E$115=Sombras!$AC$3,1,0)","v":0},{"$f":"J129*IF($E$115=Sombras!$AC$3,1,0)","v":0},{"$f":"K129*IF($E$115=Sombras!$AC$3,1,0)","v":0},{"$f":"L129*IF($E$115=Sombras!$AC$3,1,0)","v":0},{"$f":"M129*IF($E$115=Sombras!$AC$3,1,0)","v":0},{"$f":"N129*IF($E$115=Sombras!$AC$3,1,0)","v":0},{"$f":"O129*IF($E$115=Sombras!$AC$3,1,0)","v":0},{"$f":"P129*IF($E$115=Sombras!$AC$3,1,0)","v":0},{"$f":"Q129*IF($E$115=Sombras!$AC$3,1,0)","v":0},{"$f":"R129*IF($E$115=Sombras!$AC$3,1,0)","v":0},{"$f":"S129*IF($E$115=Sombras!$AC$3,1,0)","v":0},{"$f":"T129*IF($E$115=Sombras!$AC$3,1,0)","v":0},{"$f":"U129*IF($E$115=Sombras!$AC$3,1,0)","v":0},{"$f":"V129*IF($E$115=Sombras!$AC$3,1,0)","v":0},{"$f":"W129*IF($E$115=Sombras!$AC$3,1,0)","v":0},{"$f":"X129*IF($E$115=Sombras!$AC$3,1,0)","v":0},{"$f":"Y129*IF($E$115=Sombras!$AC$3,1,0)","v":0},{"$f":"Z129*IF($E$115=Sombras!$AC$3,1,0)","v":0},{"$f":"AA129*IF($E$115=Sombras!$AC$3,1,0)","v":0},{"$f":"AB129*IF($E$115=Sombras!$AC$3,1,0)","v":0},{"$f":"AC129*IF($E$115=Sombras!$AC$3,1,0)","v":0},{"$f":"AD129*IF($E$115=Sombras!$AC$3,1,0)","v":0},{"$f":"AE129*IF($E$115=Sombras!$AC$3,1,0)","v":0},{"$f":"AF129*IF($E$115=Sombras!$AC$3,1,0)","v":0},{"$f":"AG129*IF($E$115=Sombras!$AC$3,1,0)","v":0},{"$f":"AH129*IF($E$115=Sombras!$AC$3,1,0)","v":0},{"$f":"AI129*IF($E$115=Sombras!$AC$3,1,0)","v":0},{"$f":"AJ129*IF($E$115=Sombras!$AC$3,1,0)","v":0},{"$f":"AK129*IF($E$115=Sombras!$AC$3,1,0)","v":0},{"$f":"AL129*IF($E$115=Sombras!$AC$3,1,0)","v":0},{"$f":"AM129*IF($E$115=Sombras!$AC$3,1,0)","v":0},{"$f":"AN129*IF($E$115=Sombras!$AC$3,1,0)","v":0},{"$f":"AO129*IF($E$115=Sombras!$AC$3,1,0)","v":0},{"$f":"AP129*IF($E$115=Sombras!$AC$3,1,0)","v":0},{"$f":"AQ129*IF($E$115=Sombras!$AC$3,1,0)","v":0},{"$f":"AR129*IF($E$115=Sombras!$AC$3,1,0)","v":0},{"$f":"AS129*IF($E$115=Sombras!$AC$3,1,0)","v":0},{"$f":"AT129*IF($E$115=Sombras!$AC$3,1,0)","v":0},{"$f":"AU129*IF($E$115=Sombras!$AC$3,1,0)","v":0},{"$f":"AV129*IF($E$115=Sombras!$AC$3,1,0)","v":0},{"$f":"AW129*IF($E$115=Sombras!$AC$3,1,0)","v":0},{"$f":"AX129*IF($E$115=Sombras!$AC$3,1,0)","v":0},{"$f":"AY129*IF($E$115=Sombras!$AC$3,1,0)","v":0},{"$f":"AZ129*IF($E$115=Sombras!$AC$3,1,0)","v":0},{"$f":"BA129*IF($E$115=Sombras!$AC$3,1,0)","v":0},{"$f":"BB129*IF($E$115=Sombras!$AC$3,1,0)","v":0},{"$f":"BC129*IF($E$115=Sombras!$AC$3,1,0)","v":0},{"$f":"BD129*IF($E$115=Sombras!$AC$3,1,0)","v":0},{"$f":"BE129*IF($E$115=Sombras!$AC$3,1,0)","v":0},{"$f":"BF129*IF($E$115=Sombras!$AC$3,1,0)","v":0},{"$f":"BG129*IF($E$115=Sombras!$AC$3,1,0)","v":0},{"$f":"BH129*IF($E$115=Sombras!$AC$3,1,0)","v":0},{"$f":"BI129*IF($E$115=Sombras!$AC$3,1,0)","v":0},{"$f":"BJ129*IF($E$115=Sombras!$AC$3,1,0)","v":0},{"$f":"BK129*IF($E$115=Sombras!$AC$3,1,0)","v":0},{"$f":"BL129*IF($E$115=Sombras!$AC$3,1,0)","v":0},{"$f":"BM129*IF($E$115=Sombras!$AC$3,1,0)","v":0},{"$f":"BN129*IF($E$115=Sombras!$AC$3,1,0)","v":0},{"$f":"BO129*IF($E$115=Sombras!$AC$3,1,0)","v":0},{"$f":"BP129*IF($E$115=Sombras!$AC$3,1,0)","v":0},{"$f":"BQ129*IF($E$115=Sombras!$AC$3,1,0)","v":0},{"$f":"BR129*IF($E$115=Sombras!$AC$3,1,0)","v":0},{"$f":"BS129*IF($E$115=Sombras!$AC$3,1,0)","v":0},{"$f":"BT129*IF($E$115=Sombras!$AC$3,1,0)","v":0},{"$f":"BU129*IF($E$115=Sombras!$AC$3,1,0)","v":0},{"$f":"BV129*IF($E$115=Sombras!$AC$3,1,0)","v":0},{"$f":"BW129*IF($E$115=Sombras!$AC$3,1,0)","v":0}]
[null,"GR1 alero",{"$f":"IF(C130<>0,90,IF(C129<>0,C129,90))","v":90},{"$f":"IF(D130<>0,90,IF(D129<>0,D129,90))","v":90},90,90,90,90,90,90,90,90,90,90,90,90,90,90,90,90,90,90,90,90,90,90,90,90,90,90,90,90,90,90,90,90,90,90,90,90,90,90,90,90,90,90,90,90,90,90,90,90,90,90,90,90,90,90,90,90,90,90,90,90,90,90,90,{"$f":"IF(BP130<>0,90,IF(BP129<>0,BP129,90))","v":90},90,90,90,90,90,90,90]
[]
[null,"GRUPO2","azimut","altura",{"$f":"Sombras!X6","v":"Perfil edificio"}]
[null,"GR2_1A",{"$f":"MIN(Sombras!AM9:AM10)","v":0},{"$f":"VLOOKUP(C134,Sombras!AM9:AN10,2,FALSE)","v":0},{"$f":"ROUND(C134/5,0)*5","v":0},"col inicio",{"$f":"IF(C134>180,73,IF(C134<-180,1,MATCH($D134,C136:BW136,FALSE)))","v":1}]
[null,"GR2_1B",{"$f":"MAX(Sombras!AM9:AM10)","v":0},{"$f":"VLOOKUP(C135,Sombras!AM9:AN10,2,FALSE)","v":0},{"$f":"ROUND(C135/5,0)*5","v":0},"col fin",{"$f":"IF(E135>180,73,IF(C135<-180,1,IF(E135=E134,G134,MATCH($D135,C136:BW136,FALSE))))","v":1}]
[null,"altura solar",{"$f":"IF(C$48=$E134,$D134,IF(C$48=$E135,$D135,0))","v":0},{"$f":"IF(D$48=$E134,$D134,IF(D$48=$E135,$D135,0))","v":0},0,0,0,0,0,0,0,0,0,0,0,0,0,0,0,0,0,0,0,0,0,0,0,0,0,0,0,0,0,0,0,0,0,0,0,0,0,0,0,0,0,0,0,0,0,0,0,0,0,0,0,0,0,0,0,0,0,0,0,0,0,0,0,{"$f":"IF(BP$48=$E134,$D134,IF(BP$48=$E135,$D135,0))","v":0},0,0,0,0,0,0,0]
[null,"altura interpolada",{"$f":"IF(MAX(C135,C134)<-180,0,IF(C134<-180,D135+((D134-D135)*(C134+180)/(C134-C135)),IF(C$47=$G134,$D134,IF(C$47=$G135,$D135,0))))","v":0},{"$f":"IF(D$47<$G$134,0,IF(D$47=$G$134,$D$134,IF(D$47<=$G$135,$D$134+(($D$135-$D$134)*(D$47-$G$134)/($G$135-$G$134)),0)))","v":0},{"$f":"IF(E$47<$G$134,0,IF(E$47=$G$134,$D$134,IF(E$47<=$G$135,$D$134+(($D$135-$D$134)*(E$47-$G$134)/($G$135-$G$134)),0)))","v":0},0,0,0,0,0,0,0,0,0,0,0,0,0,0,0,0,0,0,0,0,0,0,0,0,0,0,0,0,0,0,0,0,0,0,0,0,0,0,0,0,0,0,0,0,0,0,0,0,0,0,0,0,0,0,0,0,0,0,0,0,0,0,0,{"$f":"IF(BQ$47<$G$134,0,IF(BQ$47=$G$134,$D$134,IF(BQ$47<=$G$135,$D$134+(($D$135-$D$134)*(BQ$47-$G$134)/($G$135-$G$134)),0)))","v":0},0,0,0,0,0,{"$f":"IF(C135>180,D134+((D135-D134)*(C135-180)/(C135-C134)),IF(BW$47<$G134,0,IF(BW$47=$G134,$D134,IF(BW$47<=$G135,$D134+(($D135-$D134)*(BW$47-$G134)/($G135-$G134)),0))))","v":0}]
[null,"GR2_2A",{"$f":"MIN(Sombras!AM15:AM16)","v":0},{"$f":"VLOOKUP(C138,Sombras!AM15:AN16,2,FALSE)","v":0},{"$f":"ROUND(C138/5,0)*5","v":0},"col inicio",{"$f":"IF(C138>180,73,IF(C138<-180,1,MATCH($D138,C140:BW140,FALSE)))","v":1}]
[null,"GR2_2B",{"$f":"MAX(Sombras!AM15:AM16)","v":0},{"$f":"VLOOKUP(C139,Sombras!AM15:AN16,2,FALSE)","v":0},{"$f":"ROUND(C139/5,0)*5","v":0},"col fin",{"$f":"IF(E139>180,73,IF(C139<-180,1,IF(E139=E138,G138,MATCH($D139,C140:BW140,FALSE))))","v":1}]
[null,"altura solar",{"$f":"IF(C$48=$E138,$D138,IF(C$48=$E139,$D139,0))","v":0},{"$f":"IF(D$48=$E138,$D138,IF(D$48=$E139,$D139,0))","v":0},0,0,0,0,0,0,0,0,0,0,0,0,0,0,0,0,0,0,0,0,0,0,0,0,0,0,0,0,0,0,0,0,0,0,0,0,0,0,0,0,0,0,0,0,0,0,0,0,0,0,0,0,0,0,0,0,0,0,0,0,0,0,0,{"$f":"IF(BP$48=$E138,$D138,IF(BP$48=$E139,$D139,0))","v":0},0,0,0,0,0,0,0]
[null,"altura interpolada",{"$f":"IF(MAX(C139,C138)<-180,0,IF(C138<-180,D139+((D138-D139)*(C138+180)/(C138-C139)),IF(C$47=$G138,$D138,IF(C$47=$G139,$D139,0))))","v":0},{"$f":"IF(D$47<$G$138,0,IF(D$47=$G$138,$D$138,IF(D$47<=$G$139,$D$138+(($D$139-$D$138)*(D$47-$G$138)/($G$139-$G$138)),0)))","v":0},{"$f":"IF(E$47<$G$138,0,IF(E$47=$G$138,$D$138,IF(E$47<=$G$139,$D$138+(($D$139-$D$138)*(E$47-$G$138)/($G$139-$G$138)),0)))","v":0},0,0,0,0,0,0,0,0,0,0,0,0,0,0,0,0,0,0,0,0,0,0,0,0,0,0,0,0,0,0,0,0,0,0,0,0,0,0,0,0,0,0,0,0,0,0,0,0,0,0,0,0,0,0,0,0,0,0,0,0,0,0,0,{"$f":"IF(BQ$47<$G$138,0,IF(BQ$47=$G$138,$D$138,IF(BQ$47<=$G$139,$D$138+(($D$139-$D$138)*(BQ$47-$G$138)/($G$139-$G$138)),0)))","v":0},0,0,0,0,0,{"$f":"IF(C139>180,D138+((D139-D138)*(C139-180)/(C139-C138)),IF(BW$47<$G138,0,IF(BW$47=$G138,$D138,IF(BW$47<=$G139,$D138+(($D139-$D138)*(BW$47-$G138)/($G139-$G138)),0))))","v":0}]
[null,"GR2_3A",{"$f":"MIN(Sombras!AM21:AM22)","v":0},{"$f":"VLOOKUP(C142,Sombras!AM21:AN22,2,FALSE)","v":0},{"$f":"ROUND(C142/5,0)*5","v":0},"col inicio",{"$f":"IF(C142>180,73,IF(C142<-180,1,MATCH($D142,C144:BW144,FALSE)))","v":1}]
[null,"GR2_3B",{"$f":"MAX(Sombras!AM21:AM22)","v":0},{"$f":"VLOOKUP(C143,Sombras!AM21:AN22,2,FALSE)","v":0},{"$f":"ROUND(C143/5,0)*5","v":0},"col fin",{"$f":"IF(E143>180,73,IF(C143<-180,1,IF(E143=E142,G142,MATCH($D143,C144:BW144,FALSE))))","v":1}]
[null,"altura solar",{"$f":"IF(C$48=$E142,$D142,IF(C$48=$E143,$D143,0))","v":0},{"$f":"IF(D$48=$E142,$D142,IF(D$48=$E143,$D143,0))","v":0},0,0,0,0,0,0,0,0,0,0,0,0,0,0,0,0,0,0,0,0,0,0,0,0,0,0,0,0,0,0,0,0,0,0,0,0,0,0,0,0,0,0,0,0,0,0,0,0,0,0,0,0,0,0,0,0,0,0,0,0,0,0,0,{"$f":"IF(BP$48=$E142,$D142,IF(BP$48=$E143,$D143,0))","v":0},0,0,0,0,0,0,0]
[null,"altura interpolada",{"$f":"IF(MAX(C143,C142)<-180,0,IF(C142<-180,D143+((D142-D143)*(C142+180)/(C142-C143)),IF(C$47=$G142,$D142,IF(C$47=$G143,$D143,0))))","v":0},{"$f":"IF(D$47<$G$142,0,IF(D$47=$G$142,$D$142,IF(D$47<=$G$143,$D$142+(($D$143-$D$142)*(D$47-$G$142)/($G$143-$G$142)),0)))","v":0},{"$f":"IF(E$47<$G$142,0,IF(E$47=$G$142,$D$142,IF(E$47<=$G$143,$D$142+(($D$143-$D$142)*(E$47-$G$142)/($G$143-$G$142)),0)))","v":0},0,0,0,0,0,0,0,0,0,0,0,0,0,0,0,0,0,0,0,0,0,0,0,0,0,0,0,0,0,0,0,0,0,0,0,0,0,0,0,0,0,0,0,0,0,0,0,0,0,0,0,0,0,0,0,0,0,0,0,0,0,0,0,{"$f":"IF(BQ$47<$G$142,0,IF(BQ$47=$G$142,$D$142,IF(BQ$47<=$G$143,$D$142+(($D$143-$D$142)*(BQ$47-$G$142)/($G$143-$G$142)),0)))","v":0},0,0,0,0,0,{"$f":"IF(C143>180,D142+((D143-D142)*(C143-180)/(C143-C142)),IF(BW$47<$G142,0,IF(BW$47=$G142,$D142,IF(BW$47<=$G143,$D142+(($D143-$D142)*(BW$47-$G142)/($G143-$G142)),0))))","v":0}]
[]
[null,"GR2 max",{"$f":"MAX(C145,C141,C137)","v":0},{"$f":"MAX(D145,D141,D137)","v":0},0,0,0,0,0,0,0,0,0,0,0,0,0,0,0,0,0,0,0,0,0,0,0,0,0,0,0,0,0,0,0,0,0,0,0,0,0,0,0,0,0,0,0,0,0,0,0,0,0,0,0,0,0,0,0,0,0,0,0,0,0,0,0,{"$f":"MAX(BP145,BP141,BP137)","v":0},0,0,0,0,0,0,0]
[null,"GR2 edificio",{"$f":"C147*IF($E$133=Sombras!$AC$3,1,0)","v":0},{"$f":"D147*IF($E$133=Sombras!$AC$3,1,0)","v":0},{"$f":"E147*IF($E$133=Sombras!$AC$3,1,0)","v":0},{"$f":"F147*IF($E$133=Sombras!$AC$3,1,0)","v":0},{"$f":"G147*IF($E$133=Sombras!$AC$3,1,0)","v":0},{"$f":"H147*IF($E$133=Sombras!$AC$3,1,0)","v":0},{"$f":"I147*IF($E$133=Sombras!$AC$3,1,0)","v":0},{"$f":"J147*IF($E$133=Sombras!$AC$3,1,0)","v":0},{"$f":"K147*IF($E$133=Sombras!$AC$3,1,0)","v":0},{"$f":"L147*IF($E$133=Sombras!$AC$3,1,0)","v":0},{"$f":"M147*IF($E$133=Sombras!$AC$3,1,0)","v":0},{"$f":"N147*IF($E$133=Sombras!$AC$3,1,0)","v":0},{"$f":"O147*IF($E$133=Sombras!$AC$3,1,0)","v":0},{"$f":"P147*IF($E$133=Sombras!$AC$3,1,0)","v":0},{"$f":"Q147*IF($E$133=Sombras!$AC$3,1,0)","v":0},{"$f":"R147*IF($E$133=Sombras!$AC$3,1,0)","v":0},{"$f":"S147*IF($E$133=Sombras!$AC$3,1,0)","v":0},{"$f":"T147*IF($E$133=Sombras!$AC$3,1,0)","v":0},{"$f":"U147*IF($E$133=Sombras!$AC$3,1,0)","v":0},{"$f":"V147*IF($E$133=Sombras!$AC$3,1,0)","v":0},{"$f":"W147*IF($E$133=Sombras!$AC$3,1,0)","v":0},{"$f":"X147*IF($E$133=Sombras!$AC$3,1,0)","v":0},{"$f":"Y147*IF($E$133=Sombras!$AC$3,1,0)","v":0},{"$f":"Z147*IF($E$133=Sombras!$AC$3,1,0)","v":0},{"$f":"AA147*IF($E$133=Sombras!$AC$3,1,0)","v":0},{"$f":"AB147*IF($E$133=Sombras!$AC$3,1,0)","v":0},{"$f":"AC147*IF($E$133=Sombras!$AC$3,1,0)","v":0},{"$f":"AD147*IF($E$133=Sombras!$AC$3,1,0)","v":0},{"$f":"AE147*IF($E$133=Sombras!$AC$3,1,0)","v":0},{"$f":"AF147*IF($E$133=Sombras!$AC$3,1,0)","v":0},{"$f":"AG147*IF($E$133=Sombras!$AC$3,1,0)","v":0},{"$f":"AH147*IF($E$133=Sombras!$AC$3,1,0)","v":0},{"$f":"AI147*IF($E$133=Sombras!$AC$3,1,0)","v":0},{"$f":"AJ147*IF($E$133=Sombras!$AC$3,1,0)","v":0},{"$f":"AK147*IF($E$133=Sombras!$AC$3,1,0)","v":0},{"$f":"AL147*IF($E$133=Sombras!$AC$3,1,0)","v":0},{"$f":"AM147*IF($E$133=Sombras!$AC$3,1,0)","v":0},{"$f":"AN147*IF($E$133=Sombras!$AC$3,1,0)","v":0},{"$f":"AO147*IF($E$133=Sombras!$AC$3,1,0)","v":0},{"$f":"AP147*IF($E$133=Sombras!$AC$3,1,0)","v":0},{"$f":"AQ147*IF($E$133=Sombras!$AC$3,1,0)","v":0},{"$f":"AR147*IF($E$133=Sombras!$AC$3,1,0)","v":0},{"$f":"AS147*IF($E$133=Sombras!$AC$3,1,0)","v":0},{"$f":"AT147*IF($E$133=Sombras!$AC$3,1,0)","v":0},{"$f":"AU147*IF($E$133=Sombras!$AC$3,1,0)","v":0},{"$f":"AV147*IF($E$133=Sombras!$AC$3,1,0)","v":0},{"$f":"AW147*IF($E$133=Sombras!$AC$3,1,0)","v":0},{"$f":"AX147*IF($E$133=Sombras!$AC$3,1,0)","v":0},{"$f":"AY147*IF($E$133=Sombras!$AC$3,1,0)","v":0},{"$f":"AZ147*IF($E$133=Sombras!$AC$3,1,0)","v":0},{"$f":"BA147*IF($E$133=Sombras!$AC$3,1,0)","v":0},{"$f":"BB147*IF($E$133=Sombras!$AC$3,1,0)","v":0},{"$f":"BC147*IF($E$133=Sombras!$AC$3,1,0)","v":0},{"$f":"BD147*IF($E$133=Sombras!$AC$3,1,0)","v":0},{"$f":"BE147*IF($E$133=Sombras!$AC$3,1,0)","v":0},{"$f":"BF147*IF($E$133=Sombras!$AC$3,1,0)","v":0},{"$f":"BG147*IF($E$133=Sombras!$AC$3,1,0)","v":0},{"$f":"BH147*IF($E$133=Sombras!$AC$3,1,0)","v":0},{"$f":"BI147*IF($E$133=Sombras!$AC$3,1,0)","v":0},{"$f":"BJ147*IF($E$133=Sombras!$AC$3,1,0)","v":0},{"$f":"BK147*IF($E$133=Sombras!$AC$3,1,0)","v":0},{"$f":"BL147*IF($E$133=Sombras!$AC$3,1,0)","v":0},{"$f":"BM147*IF($E$133=Sombras!$AC$3,1,0)","v":0},{"$f":"BN147*IF($E$133=Sombras!$AC$3,1,0)","v":0},{"$f":"BO147*IF($E$133=Sombras!$AC$3,1,0)","v":0},{"$f":"BP147*IF($E$133=Sombras!$AC$3,1,0)","v":0},{"$f":"BQ147*IF($E$133=Sombras!$AC$3,1,0)","v":0},{"$f":"BR147*IF($E$133=Sombras!$AC$3,1,0)","v":0},{"$f":"BS147*IF($E$133=Sombras!$AC$3,1,0)","v":0},{"$f":"BT147*IF($E$133=Sombras!$AC$3,1,0)","v":0},{"$f":"BU147*IF($E$133=Sombras!$AC$3,1,0)","v":0},{"$f":"BV147*IF($E$133=Sombras!$AC$3,1,0)","v":0},{"$f":"BW147*IF($E$133=Sombras!$AC$3,1,0)","v":0}]
[null,"GR2 alero",{"$f":"IF(C148<>0,90,IF(C147<>0,C147,90))","v":90},{"$f":"IF(D148<>0,90,IF(D147<>0,D147,90))","v":90},90,90,90,90,90,90,90,90,90,90,90,90,90,90,90,90,90,90,90,90,90,90,90,90,90,90,90,90,90,90,90,90,90,90,90,90,90,90,90,90,90,90,90,90,90,90,90,90,90,90,90,90,90,90,90,90,90,90,90,90,90,90,90,{"$f":"IF(BP148<>0,90,IF(BP147<>0,BP147,90))","v":90},90,90,90,90,90,90,90]
[]
[null,"ALERO","azimut","altura"]
[null,"1a",{"$f":"MIN(Sombras!W54:W55)","v":0},{"$f":"VLOOKUP(C152,Sombras!W54:X55,2,FALSE)","v":0},{"$f":"ROUND(C152/5,0)*5","v":0},"col inicio",{"$f":"IF(C152>180,73,IF(C152<-180,1,MATCH($D152,C154:BW154,FALSE)))","v":1}]
[null,"1b",{"$f":"MAX(Sombras!W54:W55)","v":0},{"$f":"VLOOKUP(C153,Sombras!W54:X55,2,FALSE)","v":0},{"$f":"ROUND(C153/5,0)*5","v":0},"col fin",{"$f":"IF(E153>180,73,IF(C153<-180,1,IF(E153=E152,G152,MATCH($D153,C154:BW154,FALSE))))","v":1}]
[null,"altura solar",{"$f":"IF(C$48=$E152,$D152,IF(C$48=$E153,$D153,0))","v":0},{"$f":"IF(D$48=$E152,$D152,IF(D$48=$E153,$D153,0))","v":0},0,0,0,0,0,0,0,0,0,0,0,0,0,0,0,0,0,0,0,0,0,0,0,0,0,0,0,0,0,0,0,0,0,0,0,0,0,0,0,0,0,0,0,0,0,0,0,0,0,0,0,0,0,0,0,0,0,0,0,0,0,0,0,{"$f":"IF(BP$48=$E152,$D152,IF(BP$48=$E153,$D153,0))","v":0},0,0,0,0,0,0,0]
[null,"altura interpolada",{"$f":"IF(MAX(C153,C152)<-180,0,IF(C152<-180,D153+((D152-D153)*(C152+180)/(C152-C153)),IF(C$47=$G152,$D152,IF(C$47=$G153,$D153,0))))","v":0},{"$f":"IF(D$47<$G$152,0,IF(D$47=$G$152,$D$152,IF(D$47<=$G$153,$D$152+(($D$153-$D$152)*(D$47-$G$152)/($G$153-$G$152)),0)))","v":0},{"$f":"IF(E$47<$G$152,0,IF(E$47=$G$152,$D$152,IF(E$47<=$G$153,$D$152+(($D$153-$D$152)*(E$47-$G$152)/($G$153-$G$152)),0)))","v":0},0,0,0,0,0,0,0,0,0,0,0,0,0,0,0,0,0,0,0,0,0,0,0,0,0,0,0,0,0,0,0,0,0,0,0,0,0,0,0,0,0,0,0,0,0,0,0,0,0,0,0,0,0,0,0,0,0,0,0,0,0,0,0,{"$f":"IF(BQ$47<$G$152,0,IF(BQ$47=$G$152,$D$152,IF(BQ$47<=$G$153,$D$152+(($D$153-$D$152)*(BQ$47-$G$152)/($G$153-$G$152)),0)))","v":0},0,0,0,0,0,{"$f":"IF(C153>180,D152+((D153-D152)*(C153-180)/(C153-C152)),IF(BW$47<$G152,0,IF(BW$47=$G152,$D152,IF(BW$47<=$G153,$D152+(($D153-$D152)*(BW$47-$G152)/($G153-$G152)),0))))","v":0}]
[null,"2a",{"$f":"MIN(Sombras!W59:W60)","v":0},{"$f":"VLOOKUP(C156,Sombras!W59:X60,2,FALSE)","v":0},{"$f":"ROUND(C156/5,0)*5","v":0},"col inicio",{"$f":"IF(C156>180,73,IF(C156<-180,1,MATCH($D156,C158:BW158,FALSE)))","v":1}]
[null,"2b",{"$f":"MAX(Sombras!W59:W60)","v":0},{"$f":"VLOOKUP(C157,Sombras!W59:X60,2,FALSE)","v":0},{"$f":"ROUND(C157/5,0)*5","v":0},"col fin",{"$f":"IF(E157>180,73,IF(C157<-180,1,IF(E157=E156,G156,MATCH($D157,C158:BW158,FALSE))))","v":1}]
[null,"altura solar",{"$f":"IF(C$48=$E156,$D156,IF(C$48=$E157,$D157,0))","v":0},{"$f":"IF(D$48=$E156,$D156,IF(D$48=$E157,$D157,0))","v":0},0,0,0,0,0,0,0,0,0,0,0,0,0,0,0,0,0,0,0,0,0,0,0,0,0,0,0,0,0,0,0,0,0,0,0,0,0,0,0,0,0,0,0,0,0,0,0,0,0,0,0,0,0,0,0,0,0,0,0,0,0,0,0,{"$f":"IF(BP$48=$E156,$D156,IF(BP$48=$E157,$D157,0))","v":0},0,0,0,0,0,0,0]
[null,"altura interpolada",{"$f":"IF(MAX(C157,C156)<-180,0,IF(C156<-180,D157+((D156-D157)*(C156+180)/(C156-C157)),IF(C$47=$G156,$D156,IF(C$47=$G157,$D157,0))))","v":0},{"$f":"IF(D$47<$G$156,0,IF(D$47=$G$156,$D$156,IF(D$47<=$G$157,$D$156+(($D$157-$D$156)*(D$47-$G$156)/($G$157-$G$156)),0)))","v":0},{"$f":"IF(E$47<$G$156,0,IF(E$47=$G$156,$D$156,IF(E$47<=$G$157,$D$156+(($D$157-$D$156)*(E$47-$G$156)/($G$157-$G$156)),0)))","v":0},0,0,0,0,0,0,0,0,0,0,0,0,0,0,0,0,0,0,0,0,0,0,0,0,0,0,0,0,0,0,0,0,0,0,0,0,0,0,0,0,0,0,0,0,0,0,0,0,0,0,0,0,0,0,0,0,0,0,0,0,0,0,0,{"$f":"IF(BQ$47<$G$156,0,IF(BQ$47=$G$156,$D$156,IF(BQ$47<=$G$157,$D$156+(($D$157-$D$156)*(BQ$47-$G$156)/($G$157-$G$156)),0)))","v":0},0,0,0,0,0,{"$f":"IF(C157>180,D156+((D157-D156)*(C157-180)/(C157-C156)),IF(BW$47<$G156,0,IF(BW$47=$G156,$D156,IF(BW$47<=$G157,$D156+(($D157-$D156)*(BW$47-$G156)/($G157-$G156)),0))))","v":0}]
[null,"3a",{"$f":"MIN(Sombras!W64:W65)","v":0},{"$f":"VLOOKUP(C160,Sombras!W64:X65,2,FALSE)","v":0},{"$f":"ROUND(C160/5,0)*5","v":0},"col inicio",{"$f":"IF(C160>180,73,IF(C160<-180,1,MATCH($D160,C162:BW162,FALSE)))","v":1}]
[null,"3b",{"$f":"MAX(Sombras!W64:W65)","v":0},{"$f":"VLOOKUP(C161,Sombras!W64:X65,2,FALSE)","v":0},{"$f":"ROUND(C161/5,0)*5","v":0},"col fin",{"$f":"IF(E161>180,73,IF(C161<-180,1,IF(E161=E160,G160,MATCH($D161,C162:BW162,FALSE))))","v":1}]
[null,"altura solar",{"$f":"IF(C$48=$E160,$D160,IF(C$48=$E161,$D161,0))","v":0},{"$f":"IF(D$48=$E160,$D160,IF(D$48=$E161,$D161,0))","v":0},0,0,0,0,0,0,0,0,0,0,0,0,0,0,0,0,0,0,0,0,0,0,0,0,0,0,0,0,0,0,0,0,0,0,0,0,0,0,0,0,0,0,0,0,0,0,0,0,0,0,0,0,0,0,0,0,0,0,0,0,0,0,0,{"$f":"IF(BP$48=$E160,$D160,IF(BP$48=$E161,$D161,0))","v":0},0,0,0,0,0,0,0]
[null,"altura interpolada",{"$f":"IF(MAX(C161,C160)<-180,0,IF(C160<-180,D161+((D160-D161)*(C160+180)/(C160-C161)),IF(C$47=$G160,$D160,IF(C$47=$G161,$D161,0))))","v":0},{"$f":"IF(D$47<$G$160,0,IF(D$47=$G$160,$D$160,IF(D$47<=$G$161,$D$160+(($D$161-$D$160)*(D$47-$G$160)/($G$161-$G$160)),0)))","v":0},{"$f":"IF(E$47<$G$160,0,IF(E$47=$G$160,$D$160,IF(E$47<=$G$161,$D$160+(($D$161-$D$160)*(E$47-$G$160)/($G$161-$G$160)),0)))","v":0},0,0,0,0,0,0,0,0,0,0,0,0,0,0,0,0,0,0,0,0,0,0,0,0,0,0,0,0,0,0,0,0,0,0,0,0,0,0,0,0,0,0,0,0,0,0,0,0,0,0,0,0,0,0,0,0,0,0,0,0,0,0,0,{"$f":"IF(BQ$47<$G$160,0,IF(BQ$47=$G$160,$D$160,IF(BQ$47<=$G$161,$D$160+(($D$161-$D$160)*(BQ$47-$G$160)/($G$161-$G$160)),0)))","v":0},0,0,0,0,0,{"$f":"IF(C161>180,D160+((D161-D160)*(C161-180)/(C161-C160)),IF(BW$47<$G160,0,IF(BW$47=$G160,$D160,IF(BW$47<=$G161,$D160+(($D161-$D160)*(BW$47-$G160)/($G161-$G160)),0))))","v":0}]
[null,"4a",{"$f":"MIN(Sombras!W69:W70)","v":0},{"$f":"VLOOKUP(C164,Sombras!W69:X70,2,FALSE)","v":0},{"$f":"ROUND(C164/5,0)*5","v":0},"col inicio",{"$f":"IF(C164>180,73,IF(C164<-180,1,MATCH($D164,C166:BW166,FALSE)))","v":1}]
[null,"4b",{"$f":"MAX(Sombras!W69:W70)","v":0},{"$f":"VLOOKUP(C165,Sombras!W69:X70,2,FALSE)","v":0},{"$f":"ROUND(C165/5,0)*5","v":0},"col fin",{"$f":"IF(E165>180,73,IF(C165<-180,1,IF(E165=E164,G164,MATCH($D165,C166:BW166,FALSE))))","v":1}]
[null,"altura solar",{"$f":"IF(C$48=$E164,$D164,IF(C$48=$E165,$D165,0))","v":0},{"$f":"IF(D$48=$E164,$D164,IF(D$48=$E165,$D165,0))","v":0},0,0,0,0,0,0,0,0,0,0,0,0,0,0,0,0,0,0,0,0,0,0,0,0,0,0,0,0,0,0,0,0,0,0,0,0,0,0,0,0,0,0,0,0,0,0,0,0,0,0,0,0,0,0,0,0,0,0,0,0,0,0,0,{"$f":"IF(BP$48=$E164,$D164,IF(BP$48=$E165,$D165,0))","v":0},0,0,0,0,0,0,0]
[null,"altura interpolada",{"$f":"IF(MAX(C165,C164)<-180,0,IF(C164<-180,D165+((D164-D165)*(C164+180)/(C164-C165)),IF(C$47=$G164,$D164,IF(C$47=$G165,$D165,0))))","v":0},{"$f":"IF(D$47<$G$164,0,IF(D$47=$G$164,$D$164,IF(D$47<=$G$165,$D$164+(($D$165-$D$164)*(D$47-$G$164)/($G$165-$G$164)),0)))","v":0},{"$f":"IF(E$47<$G$164,0,IF(E$47=$G$164,$D$164,IF(E$47<=$G$165,$D$164+(($D$165-$D$164)*(E$47-$G$164)/($G$165-$G$164)),0)))","v":0},0,0,0,0,0,0,0,0,0,0,0,0,0,0,0,0,0,0,0,0,0,0,0,0,0,0,0,0,0,0,0,0,0,0,0,0,0,0,0,0,0,0,0,0,0,0,0,0,0,0,0,0,0,0,0,0,0,0,0,0,0,0,0,{"$f":"IF(BQ$47<$G$164,0,IF(BQ$47=$G$164,$D$164,IF(BQ$47<=$G$165,$D$164+(($D$165-$D$164)*(BQ$47-$G$164)/($G$165-$G$164)),0)))","v":0},0,0,0,0,0,{"$f":"IF(C165>180,D164+((D165-D164)*(C165-180)/(C165-C164)),IF(BW$47<$G164,0,IF(BW$47=$G164,$D164,IF(BW$47<=$G165,$D164+(($D165-$D164)*(BW$47-$G164)/($G165-$G164)),0))))","v":0}]
[]
[null,"ALERO",{"$f":"IF(MAX(C167,C163,C159,C155)<>0,MAX(C167,C163,C159,C155),90)","v":90},{"$f":"IF(MAX(D167,D163,D159,D155)<>0,MAX(D167,D163,D159,D155),90)","v":90},90,90,90,90,90,90,90,90,90,90,90,90,90,90,90,90,90,90,90,90,90,90,90,90,90,90,90,90,90,90,90,90,90,90,90,90,90,90,90,90,90,90,90,90,90,90,90,90,90,90,90,90,90,90,90,90,90,90,90,90,90,90,90,{"$f":"IF(MAX(BP167,BP163,BP159,BP155)<>0,MAX(BP167,BP163,BP159,BP155),90)","v":90},90,90,90,90,90,90,90]
[]
[null,"PERFILES ENVOLVENTES OBSTRUCCION SOLAR"]
[null,"AZIMUT",-180,{"$f":"C172+5","v":-175},{"$f":"D172+5","v":-170},-165,-160,-155,-150,-145,-140,-135,-130,-125,-120,-115,-110,-105,-100,-95,-90,-85,-80,-75,-70,-65,-60,-55,-50,-45,-40,-35,-30,-25,-20,-15,-10,-5,0,5,10,15,20,25,30,35,40,45,50,55,60,65,70,75,80,85,90,95,100,105,110,115,120,125,130,135,140,145,{"$f":"BP172+5","v":150},155,160,165,170,175,180]
[null,"INFERIOR",{"$f":"MAX(C53,C73,C113,C130,C148,C85)","v":90},{"$f":"MAX(D53,D73,D113,D130,D148,D85)","v":90},90,90,90,90,90,90,90,90,90,90,90,90,90,90,90,90,90,90,90,5.7809846657836941,5.6926307729442573,5.6042768801048197,5.515922987265383,5.4275690944259463,5.3392152015865095,5.2508613087470719,5.1625074159076352,5.2638520589703548,5.3651967020330753,30.963756532073521,32.144984754827618,33.326212977581719,34.507441200335819,35.68866942308992,36.86989764584402,35.68866942308992,34.507441200335819,33.326212977581719,32.144984754827618,30.963756532073521,5.9732645604093957,5.8719199173466752,5.7705752742839556,5.6692306312212351,5.5678859881585154,5.4665413450957949,5.3651967020330753,5.2638520589703557,5.1625074159076352,5.6728672690395054,6.1832271221713757,6.6935869753032469,7.2039468284351171,7.7143066815669883,8.2246665346988586,8.7350263878307288,90,90,90,90,90,90,90,{"$f":"MAX(BP53,BP73,BP113,BP130,BP148,BP85)","v":90},90,90,90,90,90,90,90]
[null,"h inferior",0,0,0,0,0,0,0,0,0,0,0,0,0,0,0,0,0,0,0,0,0,0,0,0,0,0,0,0,0,0,0,0,0,0,0,0,0,0,0,0,0,0,0,0,0,0,0,0,0,0,0,0,0,0,0,0,0,0,0,0,0,0,0,0,0,0,0,0,0,0,0,0,0]
[]
[null,"SUPERIOR",{"$f":"MIN(C169,C149,C131)","v":90},{"$f":"MIN(D169,D149,D131)","v":90},90,90,90,90,90,90,90,90,90,90,90,90,90,90,90,90,90,90,90,90,90,90,90,90,90,90,90,90,90,90,90,90,90,90,90,90,90,90,90,90,90,90,90,90,90,90,90,90,90,90,90,90,90,90,90,90,90,90,90,90,90,90,90,{"$f":"MIN(BP169,BP149,BP131)","v":90},90,90,90,90,90,90,90]
[null,"h superior",90,90,90,90,90,90,90,90,90,90,90,90,90,90,90,90,90,90,90,90,90,90,90,90,90,90,90,90,90,90,90,90,90,90,90,90,90,90,90,90,90,90,90,90,90,90,90,90,90,90,90,90,90,90,90,90,90,90,90,90,90,90,90,90,90,90,90,90,90,90,90,90,90]
[]
[null,"FACTORES SOLARES MENSUALES"]
[]
[null,"Localidad",{"$f":"C3","v":"Madrid"},null,"radianes",null,"cte solar"]
[null,"Latitud",{"$f":"C4","v":40.4},null,{"$f":"C182*PI()/180","v":0.70511301780570912},null,{"$f":"M4","v":1367},"W/m2"]
[]
[]
[null,"ENERO"]
[null,"Declinacion dia tipo",{"$f":"D186*180/PI()","v":-21.183693564513845},{"$f":"C205","v":-0.36972520043430046}]
[null,"ocaso",{"$f":"-DEGREES(ACOS((SIN(D187*PI()/180)*SIN($E$182)-SIN($C$186*PI()/180))/(COS(D187*PI()/180)*COS($E$182))))","v":-61.6724060443821},0]
[null,"AZIMUT",-180,{"$f":"C188+5","v":-175},{"$f":"D188+5","v":-170},-165,-160,-155,-150,-145,-140,-135,-130,-125,-120,-115,-110,-105,-100,-95,-90,-85,-80,-75,-70,-65,-60,-55,-50,-45,-40,-35,-30,-25,-20,-15,-10,-5,0,5,10,15,20,25,30,35,40,45,50,55,60,65,70,75,80,85,90,95,100,105,110,115,120,125,130,135,140,145,{"$f":"BP188+5","v":150},155,160,165,170,175,180]
[null,"Az radianes",{"$f":"C188*PI()/180","v":-3.1415926535897931},{"$f":"D188*PI()/180","v":-3.0543261909900763},{"$f":"E188*PI()/180","v":-2.9670597283903604},{"$f":"F188*PI()/180","v":-2.8797932657906435},-2.7925268031909272,-2.7052603405912108,-2.6179938779914944,-2.5307274153917776,-2.4434609527920612,-2.3561944901923448,-2.2689280275926285,-2.1816615649929116,-2.0943951023931953,-2.0071286397934789,-1.9198621771937625,-1.8325957145940461,-1.7453292519943295,-1.6580627893946132,-1.5707963267948966,-1.4835298641951802,-1.3962634015954636,-1.3089969389957472,-1.2217304763960306,-1.1344640137963142,-1.0471975511965976,-0.95993108859688125,-0.87266462599716477,-0.78539816339744828,-0.69813170079773179,-0.6108652381980153,-0.52359877559829882,-0.43633231299858238,-0.3490658503988659,-0.26179938779914941,-0.17453292519943295,-8.7266462599716474E-2,0,8.7266462599716474E-2,0.17453292519943295,0.26179938779914941,0.3490658503988659,0.43633231299858238,0.52359877559829882,0.6108652381980153,0.69813170079773179,0.78539816339744828,0.87266462599716477,0.95993108859688125,1.0471975511965976,1.1344640137963142,1.2217304763960306,1.3089969389957472,1.3962634015954636,1.4835298641951802,1.5707963267948966,1.6580627893946132,1.7453292519943295,1.8325957145940461,1.9198621771937625,2.0071286397934789,2.0943951023931953,2.1816615649929116,2.2689280275926285,2.3561944901923448,2.4434609527920612,2.5307274153917776,2.6179938779914944,{"$f":"BR188*PI()/180","v":2.7052603405912108},2.7925268031909272,2.8797932657906435,2.9670597283903604,3.0543261909900763,3.1415926535897931]
[null,"a",{"$f":"SIN($E$182)^2+COS(C189)^2*COS($E$182)^2","v":1},{"$f":"SIN($E$182)^2+COS(D189)^2*COS($E$182)^2","v":0.99559469963002312},{"$f":"SIN($E$182)^2+COS(E189)^2*COS($E$182)^2","v":0.98251265134264432},0.96115134655524004,0.93215983770443378,0.89641901711624594,0.85501485153852075,0.80920538559081812,0.76038251671525159,0.71002970307704127,0.65967688943883074,0.61085402056326399,0.5650445546155618,0.5236403890378365,0.48789956844964866,0.4589080595988424,0.43754675481143818,0.42446470652405949,0.42005940615408255,0.42446470652405949,0.43754675481143818,0.45890805959884234,0.48789956844964866,0.52364038903783661,0.56504455461556202,0.61085402056326421,0.65967688943883074,0.71002970307704127,0.76038251671525181,0.80920538559081834,0.85501485153852075,0.89641901711624594,0.93215983770443389,0.96115134655524026,0.98251265134264432,0.99559469963002312,1,0.99559469963002312,0.98251265134264432,0.96115134655524026,0.93215983770443389,0.89641901711624594,0.85501485153852075,0.80920538559081834,0.76038251671525181,0.71002970307704127,0.65967688943883074,0.61085402056326421,0.56504455461556202,0.52364038903783661,0.48789956844964866,0.45890805959884234,0.43754675481143818,0.42446470652405949,0.42005940615408255,0.42446470652405949,0.43754675481143818,0.4589080595988424,0.48789956844964866,0.5236403890378365,0.5650445546155618,0.61085402056326399,0.65967688943883074,0.71002970307704127,0.76038251671525159,0.80920538559081812,{"$f":"SIN($E$182)^2+COS(BQ189)^2*COS($E$182)^2","v":0.85501485153852075},0.89641901711624594,0.93215983770443378,0.96115134655524004,0.98251265134264432,0.99559469963002312,1]
[null,"b",{"$f":"-2*SIN($E$182)*SIN($D186)","v":0.46840819756180652},{"$f":"-2*SIN($E$182)*SIN($D186)","v":0.46840819756180652},{"$f":"-2*SIN($E$182)*SIN($D186)","v":0.46840819756180652},0.46840819756180652,0.46840819756180652,0.46840819756180652,0.46840819756180652,0.46840819756180652,0.46840819756180652,0.46840819756180652,0.46840819756180652,0.46840819756180652,0.46840819756180652,0.46840819756180652,0.46840819756180652,0.46840819756180652,0.46840819756180652,0.46840819756180652,0.46840819756180652,0.46840819756180652,0.46840819756180652,0.46840819756180652,0.46840819756180652,0.46840819756180652,0.46840819756180652,0.46840819756180652,0.46840819756180652,0.46840819756180652,0.46840819756180652,0.46840819756180652,0.46840819756180652,0.46840819756180652,0.46840819756180652,0.46840819756180652,0.46840819756180652,0.46840819756180652,0.46840819756180652,0.46840819756180652,0.46840819756180652,0.46840819756180652,0.46840819756180652,0.46840819756180652,0.46840819756180652,0.46840819756180652,0.46840819756180652,0.46840819756180652,0.46840819756180652,0.46840819756180652,0.46840819756180652,0.46840819756180652,0.46840819756180652,0.46840819756180652,0.46840819756180652,0.46840819756180652,0.46840819756180652,0.46840819756180652,0.46840819756180652,0.46840819756180652,0.46840819756180652,0.46840819756180652,0.46840819756180652,0.46840819756180652,0.46840819756180652,0.46840819756180652,0.46840819756180652,0.46840819756180652,{"$f":"-2*SIN($E$182)*SIN($D186)","v":0.46840819756180652},0.46840819756180652,0.46840819756180652,0.46840819756180652,0.46840819756180652,0.46840819756180652,0.46840819756180652]
[null,"c",{"$f":"SIN($D186)^2-COS($E$182)^2*COS(C189)^2","v":-0.44936011146134991},{"$f":"SIN($D186)^2-COS($E$182)^2*COS(D189)^2","v":-0.44495481109137303},{"$f":"SIN($D186)^2-COS($E$182)^2*COS(E189)^2","v":-0.43187276280399423},-0.41051145801658995,-0.38151994916578369,-0.34577912857759585,-0.30437496299987055,-0.25856549705216803,-0.20974262817660147,-0.1593898145383911,-0.10903700090018068,-6.0214132024613926E-2,-1.4404666076911654E-2,2.6999499500813609E-2,6.2740320089001475E-2,9.1731828939807719E-2,0.11309313372721197,0.1261751820145906,0.13058048238456757,0.12617518201459063,0.11309313372721194,9.1731828939807747E-2,6.2740320089001433E-2,2.6999499500813554E-2,-1.4404666076911848E-2,-6.0214132024614148E-2,-0.10903700090018068,-0.15938981453839121,-0.20974262817660164,-0.25856549705216825,-0.30437496299987055,-0.34577912857759585,-0.3815199491657838,-0.41051145801659017,-0.43187276280399423,-0.44495481109137303,-0.44936011146134991,-0.44495481109137303,-0.43187276280399423,-0.41051145801659017,-0.3815199491657838,-0.34577912857759585,-0.30437496299987055,-0.25856549705216825,-0.20974262817660164,-0.15938981453839121,-0.10903700090018068,-6.0214132024614148E-2,-1.4404666076911848E-2,2.6999499500813554E-2,6.2740320089001433E-2,9.1731828939807747E-2,0.11309313372721194,0.12617518201459063,0.13058048238456757,0.1261751820145906,0.11309313372721197,9.1731828939807719E-2,6.2740320089001475E-2,2.6999499500813609E-2,-1.4404666076911654E-2,-6.0214132024613926E-2,-0.10903700090018068,-0.1593898145383911,-0.20974262817660147,-0.25856549705216803,{"$f":"SIN($D186)^2-COS($E$182)^2*COS(BQ189)^2","v":-0.30437496299987055},-0.34577912857759585,-0.38151994916578369,-0.41051145801658995,-0.43187276280399423,-0.44495481109137303,-0.44936011146134991]
[null,"alt solar",{"$f":"IF(C188<=$C$187,0,IF(C188>=-$C$187,0,DEGREES(ASIN(((-C191+(C191^2-4*C190*C192)^0.5)/(2*C190))))))","v":0},{"$f":"IF(D188<=$C$187,0,IF(D188>=-$C$187,0,DEGREES(ASIN(((-D191+(D191^2-4*D190*D192)^0.5)/(2*D190))))))","v":0},0,0,0,0,0,0,0,0,0,0,0,0,0,0,0,0,0,0,0,0,0,0,1.7013094261415802,6.4391791464407708,10.645093773790988,14.327101749335636,17.508614637259683,20.220366046874243,22.494966925552447,24.363511267913395,25.853619132221624,26.988405443568308,27.786001418416785,28.259377237185159,28.416306435486153,28.259377237185159,27.786001418416785,26.988405443568308,25.853619132221624,24.363511267913395,22.494966925552447,20.220366046874243,17.508614637259683,14.327101749335636,10.645093773790988,6.4391791464407708,1.7013094261415802,0,0,0,0,0,0,0,0,0,0,0,0,0,0,0,0,{"$f":"IF(BP188<=$C$187,0,IF(BP188>=-$C$187,0,DEGREES(ASIN(((-BP191+(BP191^2-4*BP190*BP192)^0.5)/(2*BP190))))))","v":0},0,0,0,0,0,0,0]
[]
[null,"obst. Inf.",{"$f":"IF($C$173>=C193,0,1)","v":0},{"$f":"IF($D$173>=D193,0,1)","v":0},{"$f":"IF($E$173>=E193,0,1)","v":0},{"$f":"IF($F$173>=F193,0,1)","v":0},{"$f":"IF($G$173>=G193,0,1)","v":0},{"$f":"IF($H$173>=H193,0,1)","v":0},{"$f":"IF($I$173>=I193,0,1)","v":0},{"$f":"IF($J$173>=J193,0,1)","v":0},{"$f":"IF($K$173>=K193,0,1)","v":0},{"$f":"IF($L$173>=L193,0,1)","v":0},{"$f":"IF($M$173>=M193,0,1)","v":0},{"$f":"IF($N$173>=N193,0,1)","v":0},{"$f":"IF($O$173>=O193,0,1)","v":0},{"$f":"IF($P$173>=P193,0,1)","v":0},{"$f":"IF($Q$173>=Q193,0,1)","v":0},{"$f":"IF($R$173>=R193,0,1)","v":0},{"$f":"IF($S$173>=S193,0,1)","v":0},{"$f":"IF($T$173>=T193,0,1)","v":0},{"$f":"IF($U$173>=U193,0,1)","v":0},{"$f":"IF($V$173>=V193,0,1)","v":0},{"$f":"IF($W$173>=W193,0,1)","v":0},{"$f":"IF($X$173>=X193,0,1)","v":0},{"$f":"IF($Y$173>=Y193,0,1)","v":0},{"$f":"IF($Z$173>=Z193,0,1)","v":0},{"$f":"IF($AA$173>=AA193,0,1)","v":0},{"$f":"IF($AB$173>=AB193,0,1)","v":1},{"$f":"IF($AC$173>=AC193,0,1)","v":1},{"$f":"IF($AD$173>=AD193,0,1)","v":1},{"$f":"IF($AE$173>=AE193,0,1)","v":1},{"$f":"IF($AF$173>=AF193,0,1)","v":1},{"$f":"IF($AG$173>=AG193,0,1)","v":1},{"$f":"IF($AH$173>=AH193,0,1)","v":0},{"$f":"IF($AI$173>=AI193,0,1)","v":0},{"$f":"IF($AJ$173>=AJ193,0,1)","v":0},{"$f":"IF($AK$173>=AK193,0,1)","v":0},{"$f":"IF($AL$173>=AL193,0,1)","v":0},{"$f":"IF($AM$173>=AM193,0,1)","v":0},{"$f":"IF($AN$173>=AN193,0,1)","v":0},{"$f":"IF($AO$173>=AO193,0,1)","v":0},{"$f":"IF($AP$173>=AP193,0,1)","v":0},{"$f":"IF($AQ$173>=AQ193,0,1)","v":0},{"$f":"IF($AR$173>=AR193,0,1)","v":0},{"$f":"IF($AS$173>=AS193,0,1)","v":1},{"$f":"IF($AT$173>=AT193,0,1)","v":1},{"$f":"IF($AU$173>=AU193,0,1)","v":1},{"$f":"IF($AV$173>=AV193,0,1)","v":1},{"$f":"IF($AW$173>=AW193,0,1)","v":1},{"$f":"IF($AX$173>=AX193,0,1)","v":1},{"$f":"IF($AY$173>=AY193,0,1)","v":0},{"$f":"IF($AZ$173>=AZ193,0,1)","v":0},{"$f":"IF($BA$173>=BA193,0,1)","v":0},{"$f":"IF($BB$173>=BB193,0,1)","v":0},{"$f":"IF($BC$173>=BC193,0,1)","v":0},{"$f":"IF($BD$173>=BD193,0,1)","v":0},{"$f":"IF($BE$173>=BE193,0,1)","v":0},{"$f":"IF($BF$173>=BF193,0,1)","v":0},{"$f":"IF($BG$173>=BG193,0,1)","v":0},{"$f":"IF($BH$173>=BH193,0,1)","v":0},{"$f":"IF($BI$173>=BI193,0,1)","v":0},{"$f":"IF($BJ$173>=BJ193,0,1)","v":0},{"$f":"IF($BK$173>=BK193,0,1)","v":0},{"$f":"IF($BL$173>=BL193,0,1)","v":0},{"$f":"IF($BM$173>=BM193,0,1)","v":0},{"$f":"IF($BN$173>=BN193,0,1)","v":0},{"$f":"IF($BO$173>=BO193,0,1)","v":0},{"$f":"IF($BP$173>=BP193,0,1)","v":0},{"$f":"IF($BQ$173>=BQ193,0,1)","v":0},{"$f":"IF($BR$173>=BR193,0,1)","v":0},{"$f":"IF($BS$173>=BS193,0,1)","v":0},{"$f":"IF($BT$173>=BT193,0,1)","v":0},{"$f":"IF($BU$173>=BU193,0,1)","v":0},{"$f":"IF($BV$173>=BV193,0,1)","v":0},{"$f":"IF($BW$173>=BW193,0,1)","v":0}]
[null,"obst. Sup",{"$f":"IF(C193>$C$176,0,1)","v":1},{"$f":"IF(D193>$D$176,0,1)","v":1},{"$f":"IF(E193>$E$176,0,1)","v":1},{"$f":"IF(F193>$F$176,0,1)","v":1},{"$f":"IF(G193>$G$176,0,1)","v":1},{"$f":"IF(H193>$H$176,0,1)","v":1},{"$f":"IF(I193>$I$176,0,1)","v":1},{"$f":"IF(J193>$J$176,0,1)","v":1},{"$f":"IF(K193>$K$176,0,1)","v":1},{"$f":"IF(L193>$L$176,0,1)","v":1},{"$f":"IF(M193>$M$176,0,1)","v":1},{"$f":"IF(N193>$N$176,0,1)","v":1},{"$f":"IF(O193>$O$176,0,1)","v":1},{"$f":"IF(P193>$P$176,0,1)","v":1},{"$f":"IF(Q193>$Q$176,0,1)","v":1},{"$f":"IF(R193>$R$176,0,1)","v":1},{"$f":"IF(S193>$S$176,0,1)","v":1},{"$f":"IF(T193>$T$176,0,1)","v":1},{"$f":"IF(U193>$U$176,0,1)","v":1},{"$f":"IF(V193>$V$176,0,1)","v":1},{"$f":"IF(W193>$W$176,0,1)","v":1},{"$f":"IF(X193>$X$176,0,1)","v":1},{"$f":"IF(Y193>$Y$176,0,1)","v":1},{"$f":"IF(Z193>$Z$176,0,1)","v":1},{"$f":"IF(AA193>$AA$176,0,1)","v":1},{"$f":"IF(AB193>$AB$176,0,1)","v":1},{"$f":"IF(AC193>$AC$176,0,1)","v":1},{"$f":"IF(AD193>$AD$176,0,1)","v":1},{"$f":"IF(AE193>$AE$176,0,1)","v":1},{"$f":"IF(AF193>$AF$176,0,1)","v":1},{"$f":"IF(AG193>$AG$176,0,1)","v":1},{"$f":"IF(AH193>$AH$176,0,1)","v":1},{"$f":"IF(AI193>$AI$176,0,1)","v":1},{"$f":"IF(AJ193>$AJ$176,0,1)","v":1},{"$f":"IF(AK193>$AK$176,0,1)","v":1},{"$f":"IF(AL193>$AL$176,0,1)","v":1},{"$f":"IF(AM193>$AM$176,0,1)","v":1},{"$f":"IF(AN193>$AN$176,0,1)","v":1},{"$f":"IF(AO193>$AO$176,0,1)","v":1},{"$f":"IF(AP193>$AP$176,0,1)","v":1},{"$f":"IF(AQ193>$AQ$176,0,1)","v":1},{"$f":"IF(AR193>$AR$176,0,1)","v":1},{"$f":"IF(AS193>$AS$176,0,1)","v":1},{"$f":"IF(AT193>$AT$176,0,1)","v":1},{"$f":"IF(AU193>$AU$176,0,1)","v":1},{"$f":"IF(AV193>$AV$176,0,1)","v":1},{"$f":"IF(AW193>$AW$176,0,1)","v":1},{"$f":"IF(AX193>$AX$176,0,1)","v":1},{"$f":"IF(AY193>$AY$176,0,1)","v":1},{"$f":"IF(AZ193>$AZ$176,0,1)","v":1},{"$f":"IF(BA193>$BA$176,0,1)","v":1},{"$f":"IF(BB193>$BB$176,0,1)","v":1},{"$f":"IF(BC193>$BC$176,0,1)","v":1},{"$f":"IF(BD193>$BD$176,0,1)","v":1},{"$f":"IF(BE193>$BE$176,0,1)","v":1},{"$f":"IF(BF193>$BF$176,0,1)","v":1},{"$f":"IF(BG193>$BG$176,0,1)","v":1},{"$f":"IF(BH193>$BH$176,0,1)","v":1},{"$f":"IF(BI193>$BI$176,0,1)","v":1},{"$f":"IF(BJ193>$BJ$176,0,1)","v":1},{"$f":"IF(BK193>$BK$176,0,1)","v":1},{"$f":"IF(BL193>$BL$176,0,1)","v":1},{"$f":"IF(BM193>$BM$176,0,1)","v":1},{"$f":"IF(BN193>$BN$176,0,1)","v":1},{"$f":"IF(BO193>$BO$176,0,1)","v":1},{"$f":"IF(BP193>$BP$176,0,1)","v":1},{"$f":"IF(BQ193>$BQ$176,0,1)","v":1},{"$f":"IF(BR193>$BR$176,0,1)","v":1},{"$f":"IF(BS193>$BS$176,0,1)","v":1},{"$f":"IF(BT193>$BT$176,0,1)","v":1},{"$f":"IF(BU193>$BU$176,0,1)","v":1},{"$f":"IF(BV193>$BV$176,0,1)","v":1},{"$f":"IF(BW193>$BW$176,0,1)","v":1}]
[null,"obst. TOTAL",{"$f":"C195*C196","v":0},{"$f":"D195*D196","v":0},0,0,0,0,0,0,0,0,0,0,0,0,0,0,0,0,0,0,0,0,0,0,0,1,1,1,1,1,1,0,0,0,0,0,0,0,0,0,0,0,1,1,1,1,1,1,0,0,0,0,0,0,0,0,0,0,0,0,0,0,0,0,0,{"$f":"BP195*BP196","v":0},0,0,0,0,0,0,0]
[]
[null,"Latitud",{"$f":"$C$182","v":40.4},null,{"$f":"PI()*(C199+D199/60)/180","v":0.70511301780570912}]
[null,"Azimut",{"$f":"I4","v":15},null,{"$f":"C200*PI()/180","v":0.26179938779914941}]
[null,"Inclinacion",{"$f":"I3","v":35},null,{"$f":"C201*PI()/180","v":0.6108652381980153}]
[null,"Coeficiente refexion",{"$f":"M3","v":0.2}]
[null,"Constante solar extraterrestre (Bo)",{"$f":"$G$182","v":1367},"W/m2"]
[null,"Dia del año",15.5]
[null,"Declinacion . radianes",{"$f":"23.45*PI()/180*SIN(2*PI()*((C204+284)/365))","v":-0.36972520043430046}]
[null,"Ángulo puesta de sol. Radianes. Ws",{"$f":"ACOS(-TAN(C205)*TAN($E$199))","v":1.2346745323016739}]
[null,"Distancia sol - tierra. Bo",{"$f":"1+0.033*COS((2*PI()*C204/365)*PI()/180)","v":1.0329996421711944},"expresion Duffi y Beckman"]
[null,"Factor angulo solar",{"$f":"(SIN(C205)*C206*SIN(E199))+COS(E199)*COS(C205)*SIN(C206)","v":0.38117744269619536}]
[null,"Ho. Irradiacion Extraterreste sobre sup. Horizontal",{"$f":"+($C$203*24/PI())*C207*C208","v":4112.0392057021927}]
[null,"H1",{"$f":"+(3.6*C203*24/PI())*(1+0.033*COS(PI()/180*(360*C204/365)))","v":38791.939117766611}]
[null,"H2",{"$f":"COS(E199)*COS(C205)*SIN(C206)","v":0.67034327882164213}]
[null,"H3",{"$f":"+SIN(C205)*C206*SIN(E199)","v":-0.28916583612544677}]
[null,"H horizontal diaria (W/m2 dia) s/ localidad",{"$f":"C6","v":2273.278888888889},"W/m2 dia"]
[null,"Indice de claridad Kt",{"$f":"C213/C209","v":0.55283492573137871}]
[null,"Fraccion difusa diaria promedio",{"$f":"0.775+0.347*(C206-(PI()/2))-(0.505+0.261*(C206-(PI()/2)))*COS(2*C214-1.8)","v":0.33769934803157636},"Correlacion Collares-Pereira "]
[null,"Factor A Lui y Jordan",{"$f":"0.409+0.5016*SIN(C206-60*PI()/180)","v":0.50248854972148438},"parametros 5 estaciones EEUU"]
[null,"Factor B Lui y Jordan",{"$f":"0.6609-0.4767*SIN(C206-60*PI()/180)","v":0.57205232924196248},"parametros 5 estaciones EEUU"]
[]
[null,"AZIMUT",-180,{"$f":"C219+5","v":-175},{"$f":"D219+5","v":-170},-165,-160,-155,-150,-145,-140,-135,-130,-125,-120,-115,-110,-105,-100,-95,-90,-85,-80,-75,-70,-65,-60,-55,-50,-45,-40,-35,-30,-25,-20,-15,-10,-5,0,5,10,15,20,25,30,35,40,45,50,55,60,65,70,75,80,85,90,95,100,105,110,115,120,125,130,135,140,145,{"$f":"BP219+5","v":150},155,160,165,170,175,180]
[null,"Az radianes",{"$f":"C219*PI()/180","v":-3.1415926535897931},{"$f":"D219*PI()/180","v":-3.0543261909900763},{"$f":"E219*PI()/180","v":-2.9670597283903604},{"$f":"F219*PI()/180","v":-2.8797932657906435},-2.7925268031909272,-2.7052603405912108,-2.6179938779914944,-2.5307274153917776,-2.4434609527920612,-2.3561944901923448,-2.2689280275926285,-2.1816615649929116,-2.0943951023931953,-2.0071286397934789,-1.9198621771937625,-1.8325957145940461,-1.7453292519943295,-1.6580627893946132,-1.5707963267948966,-1.4835298641951802,-1.3962634015954636,-1.3089969389957472,-1.2217304763960306,-1.1344640137963142,-1.0471975511965976,-0.95993108859688125,-0.87266462599716477,-0.78539816339744828,-0.69813170079773179,-0.6108652381980153,-0.52359877559829882,-0.43633231299858238,-0.3490658503988659,-0.26179938779914941,-0.17453292519943295,-8.7266462599716474E-2,0,8.7266462599716474E-2,0.17453292519943295,0.26179938779914941,0.3490658503988659,0.43633231299858238,0.52359877559829882,0.6108652381980153,0.69813170079773179,0.78539816339744828,0.87266462599716477,0.95993108859688125,1.0471975511965976,1.1344640137963142,1.2217304763960306,1.3089969389957472,1.3962634015954636,1.4835298641951802,1.5707963267948966,1.6580627893946132,1.7453292519943295,1.8325957145940461,1.9198621771937625,2.0071286397934789,2.0943951023931953,2.1816615649929116,2.2689280275926285,2.3561944901923448,2.4434609527920612,2.5307274153917776,2.6179938779914944,{"$f":"BR219*PI()/180","v":2.7052603405912108},2.7925268031909272,2.8797932657906435,2.9670597283903604,3.0543261909900763,3.1415926535897931]
[null,"alt solar (grados)",{"$f":"C193","v":0},{"$f":"D193","v":0},{"$f":"E193","v":0},0,0,0,0,0,0,0,0,0,0,0,0,0,0,0,0,0,0,0,0,0,1.7013094261415802,6.4391791464407708,10.645093773790988,14.327101749335636,17.508614637259683,20.220366046874243,22.494966925552447,24.363511267913395,25.853619132221624,26.988405443568308,27.786001418416785,28.259377237185159,28.416306435486153,28.259377237185159,27.786001418416785,26.988405443568308,25.853619132221624,24.363511267913395,22.494966925552447,20.220366046874243,17.508614637259683,14.327101749335636,10.645093773790988,6.4391791464407708,1.7013094261415802,0,0,0,0,0,0,0,0,0,0,0,0,0,0,0,0,0,{"$f":"BQ193","v":0},0,0,0,0,0,0]
[null,"ang horario (grados)",{"$f":"DEGREES(ACOS((SIN(C221*PI()/180)-(SIN($E199)*SIN($C205)))/(COS($E199)*COS($C205))))","v":70.74163977317474},{"$f":"DEGREES(ACOS((SIN(D221*PI()/180)-(SIN($E199)*SIN($C205)))/(COS($E199)*COS($C205))))","v":70.74163977317474},70.74163977317474,70.74163977317474,70.74163977317474,70.74163977317474,70.74163977317474,70.74163977317474,70.74163977317474,70.74163977317474,70.74163977317474,70.74163977317474,70.74163977317474,70.74163977317474,70.74163977317474,70.74163977317474,70.74163977317474,70.74163977317474,70.74163977317474,70.74163977317474,70.74163977317474,70.74163977317474,70.74163977317474,70.74163977317474,68.183242151451836,60.806116631921469,53.844730620784325,47.287400031517059,41.104415790856216,35.256130826455632,29.698421796600023,24.386037526991093,19.274432934462883,14.320594961482108,9.4832326436601626,4.7225836270826864,0,{"$f":"-DEGREES(ACOS((SIN(AN221*PI()/180)-(SIN($E199)*SIN($C205)))/(COS($E199)*COS($C205))))","v":-4.7225836270826864},{"$f":"-DEGREES(ACOS((SIN(AO221*PI()/180)-(SIN($E199)*SIN($C205)))/(COS($E199)*COS($C205))))","v":-9.4832326436601626},-14.320594961482108,-19.274432934462883,-24.386037526991093,-29.698421796600023,-35.256130826455632,-41.104415790856216,-47.287400031517059,-53.844730620784325,-60.806116631921469,-68.183242151451836,-70.74163977317474,-70.74163977317474,-70.74163977317474,-70.74163977317474,-70.74163977317474,-70.74163977317474,-70.74163977317474,-70.74163977317474,-70.74163977317474,-70.74163977317474,-70.74163977317474,-70.74163977317474,-70.74163977317474,-70.74163977317474,-70.74163977317474,-70.74163977317474,-70.74163977317474,-70.74163977317474,-70.74163977317474,-70.74163977317474,-70.74163977317474,-70.74163977317474,-70.74163977317474,-70.74163977317474]
[null,"Factor inclinación",{"$f":"-(IF(C221=0,0,(SIN($C205)*SIN($E199)*COS($E201)-SIN($C205)*COS($E199)*SIN($E201)*COS($E200)+COS($C205)*COS($E199)*COS($E201)*COS(C222*PI()/180)+COS($C205)*SIN($E199)*SIN($E201)*COS(C222*PI()/180)*COS($E200)+COS($C205)*SIN($E201)*SIN(C222*PI()/180)*SIN($E200))/(COS($C205)*COS($E199)*COS(C222*PI()/180)+SIN($C205)*SIN($E199))))","v":0},{"$f":"-(IF(D221=0,0,(SIN($C205)*SIN($E199)*COS($E201)-SIN($C205)*COS($E199)*SIN($E201)*COS($E200)+COS($C205)*COS($E199)*COS($E201)*COS(D222*PI()/180)+COS($C205)*SIN($E199)*SIN($E201)*COS(D222*PI()/180)*COS($E200)+COS($C205)*SIN($E201)*SIN(D222*PI()/180)*SIN($E200))/(COS($C205)*COS($E199)*COS(D222*PI()/180)+SIN($C205)*SIN($E199))))","v":0},0,0,0,0,0,0,0,0,0,0,0,0,0,0,0,0,0,0,0,0,0,0,-14.474034378927037,-4.7123236986973644,-3.3188712852896063,-2.7640642378579923,-2.4669997536287469,-2.2824665681024068,-2.1570367187255468,-2.0664954696632218,-1.9983194709919103,-1.945422564470916,-1.903538933953256,-1.8699997911243953,-1.843116684534488,-1.8218592937499813,-1.8056944181299175,-1.7945309263000524,-1.7887591000110741,-1.7894129878551783,-1.7985516006442961,-1.8201181306193859,-1.8620280189760654,-1.9420476227962402,-2.1088112813460373,-2.5573581486381807,-5.8171858644538847,0,0,0,0,0,0,0,0,0,0,0,0,0,0,0,0,{"$f":"-(IF(BP221=0,0,(SIN($C205)*SIN($E199)*COS($E201)-SIN($C205)*COS($E199)*SIN($E201)*COS($E200)+COS($C205)*COS($E199)*COS($E201)*COS(BP222*PI()/180)+COS($C205)*SIN($E199)*SIN($E201)*COS(BP222*PI()/180)*COS($E200)+COS($C205)*SIN($E201)*SIN(BP222*PI()/180)*SIN($E200))/(COS($C205)*COS($E199)*COS(BP222*PI()/180)+SIN($C205)*SIN($E199))))","v":0},0,0,0,0,0,0,0]
[null,"Correccion valores negativos",{"$f":"ABS(C223)","v":0},{"$f":"ABS(D223)","v":0},0,0,0,0,0,0,0,0,0,0,0,0,0,0,0,0,0,0,0,0,0,0,14.474034378927037,4.7123236986973644,3.3188712852896063,2.7640642378579923,2.4669997536287469,2.2824665681024068,2.1570367187255468,2.0664954696632218,1.9983194709919103,1.945422564470916,1.903538933953256,1.8699997911243953,1.843116684534488,1.8218592937499813,1.8056944181299175,1.7945309263000524,1.7887591000110741,1.7894129878551783,1.7985516006442961,1.8201181306193859,1.8620280189760654,1.9420476227962402,2.1088112813460373,2.5573581486381807,5.8171858644538847,0,0,0,0,0,0,0,0,0,0,0,0,0,0,0,0,{"$f":"ABS(BP223)","v":0},0,0,0,0,0,0,0]
[null,"Radiacion H GLOBAL (distribucion Lui y Jordan)",{"$f":"$C213*((PI()/24*($C216+$C217*COS(C222*PI()/180))*(COS(C222*PI()/180)-COS($C206)))/(SIN($C206)-$C206*COS($C206)))","v":0},{"$f":"$C213*((PI()/24*($C216+$C217*COS(D222*PI()/180))*(COS(D222*PI()/180)-COS($C206)))/(SIN($C206)-$C206*COS($C206)))","v":0},0,0,0,0,0,0,0,0,0,0,0,0,0,0,0,0,0,0,0,0,0,0,16.573686515571438,{"$f":"$C213*((PI()/24*($C216+$C217*COS(AB222*PI()/180))*(COS(AB222*PI()/180)-COS($C206)))/(SIN($C206)-$C206*COS($C206)))","v":68.421970915939866},121.13268225595516,172.03231803780952,219.25255460298038,261.62371158275005,298.50432737744694,329.61250044420541,354.88695766070725,374.3837527175076,388.20458623331217,396.44985127655951,399.18992210924569,396.44985127655951,388.20458623331217,374.3837527175076,354.88695766070725,329.61250044420541,298.50432737744694,261.62371158275005,219.25255460298038,172.03231803780952,121.13268225595516,68.421970915939866,16.573686515571438,0,0,0,0,0,0,0,0,0,0,0,0,0,0,0,0,{"$f":"$C213*((PI()/24*($C216+$C217*COS(BP222*PI()/180))*(COS(BP222*PI()/180)-COS($C206)))/(SIN($C206)-$C206*COS($C206)))","v":0},0,0,0,0,0,0,0]
[null,"Radiacion H DIFUSA (distribucion Lui y Jordan)",{"$f":"$C215*$C213*((PI()/24*(COS(C222*PI()/180)-COS($C206)))/(SIN($C206)-$C206*COS($C206)))","v":0},{"$f":"$C215*$C213*((PI()/24*(COS(D222*PI()/180)-COS($C206)))/(SIN($C206)-$C206*COS($C206)))","v":0},0,0,0,0,0,0,0,0,0,0,0,0,0,0,0,0,0,0,0,0,0,0,7.8269261158771446,29.565665169550286,48.698974406894507,65.237111994992759,79.312790107332361,91.118808856029659,100.86533301169644,108.75368930011858,114.96192572111195,119.63785479414908,122.89640281512615,124.81914041993105,125.45467471382612,124.81914041993105,122.89640281512615,119.63785479414908,114.96192572111195,108.75368930011858,100.86533301169644,91.118808856029659,79.312790107332361,65.237111994992759,48.698974406894507,29.565665169550286,7.8269261158771446,0,0,0,0,0,0,0,0,0,0,0,0,0,0,0,0,{"$f":"$C215*$C213*((PI()/24*(COS(BP222*PI()/180)-COS($C206)))/(SIN($C206)-$C206*COS($C206)))","v":0},0,0,0,0,0,0,0]
[null,"Total Directa",{"$f":"C$54*IF((C225-C226)*C224<0,0,(C225-C226)*C224)","v":0},{"$f":"D$54*IF((D225-D226)*D224<0,0,(D225-D226)*D224)","v":0},0,0,0,0,0,0,0,0,0,0,0,0,0,0,0,0,0,0,0,0,0,0,126.6009107294128,183.10349041254221,240.39815306730378,295.18880979762554,345.23136453362855,389.17174017129219,426.3145678989153,456.40373266446051,479.44686290324927,495.58841802650636,505.02445663292866,507.94937256486622,504.52600161967354,494.87293504206252,479.0655058824068,457.14939217154318,429.16808420239869,395.20762514348297,355.46392966624961,310.33906481239853,260.57176245980867,207.40137602148695,152.74902026182212,99.369490126505951,50.881530956866655,0,0,0,0,0,0,0,0,0,0,0,0,0,0,0,0,{"$f":"BP$54*IF((BP225-BP226)*BP224<0,0,(BP225-BP226)*BP224)","v":0},0,0,0,0,0,0,0]
[null,"Total Difusa (plano incl)",{"$f":"C$54*C226*(1+COS($E201))/2","v":0},{"$f":"D$54*D226*(1+COS($E201))/2","v":0},0,0,0,0,0,0,0,0,0,0,0,0,0,0,0,0,0,0,0,0,0,0,7.1191843220984037,26.892220116975622,44.29541942353972,59.338112824600493,72.141012131008694,82.879483701812134,91.74468837305875,98.919748107140293,104.56661109548003,108.81972406156294,111.78362120845009,113.53249723065615,114.11056398563365,113.53249723065615,111.78362120845009,108.81972406156294,104.56661109548003,98.919748107140293,91.74468837305875,82.879483701812134,72.141012131008694,59.338112824600493,44.29541942353972,26.892220116975622,7.1191843220984037,0,0,0,0,0,0,0,0,0,0,0,0,0,0,0,0,{"$f":"BP$54*BP226*(1+COS($E201))/2","v":0},0,0,0,0,0,0,0]
[null,"Total Reflejada (plano incl)",{"$f":"C$54*C225*$C202*(1-COS($E201))/2","v":0},{"$f":"D$54*D225*$C202*(1-COS($E201))/2","v":0},0,0,0,0,0,0,0,0,0,0,0,0,0,0,0,0,0,0,0,0,0,0,0.29973173249361973,1.2373973565865786,2.1906597955780609,3.1111693033363852,3.9651376284365205,4.7314113405266767,5.3983897377100822,5.9609746882128336,6.418058080143803,6.7706536330376865,7.0206005817932304,7.169714514529903,7.2192681353893686,7.169714514529903,7.0206005817932304,6.7706536330376865,6.418058080143803,5.9609746882128336,5.3983897377100822,4.7314113405266767,3.9651376284365205,3.1111693033363852,2.1906597955780609,1.2373973565865786,0.29973173249361973,0,0,0,0,0,0,0,0,0,0,0,0,0,0,0,0,{"$f":"BP$54*BP225*$C202*(1-COS($E201))/2","v":0},0,0,0,0,0,0,0]
[null,"TOTAL (W/m2)",{"$f":"C227+C228+C229","v":0},0,0,0,0,0,0,0,0,0,0,0,0,0,0,0,0,0,0,0,0,0,0,0,134.01982678400483,211.23310788610442,286.88423228642159,357.63809192556243,421.33751429307381,476.78263521363101,523.45764600968414,561.28445545981356,590.43153207887315,611.17879572110701,623.82867842317194,628.65158431005227,625.85583374069654,615.57514678724863,597.86972767265013,572.73976986614377,540.15275337802257,500.08834793883608,452.60700777701845,397.94995985473736,336.67791221925393,269.85065814942385,199.23509948093991,127.49910760006816,58.300447011458679,0,0,0,0,0,0,0,0,0,0,0,0,0,0,0,{"$f":"BO227+BO228+BO229","v":0},0,0,0,0,0,0,0,0]
[null,"Radiación Directa recibida",{"$f":"C227*C197","v":0},{"$f":"D227*D197","v":0},0,0,0,0,0,0,0,0,0,0,0,0,0,0,0,0,0,0,0,0,0,0,0,183.10349041254221,240.39815306730378,295.18880979762554,345.23136453362855,389.17174017129219,426.3145678989153,0,0,0,0,0,0,0,0,0,0,0,355.46392966624961,310.33906481239853,260.57176245980867,207.40137602148695,152.74902026182212,99.369490126505951,0,0,0,0,0,0,0,0,0,0,0,0,0,0,0,0,0,{"$f":"BP227*BP197","v":0},0,0,0,0,0,0,0]
[null,"Radiación Global recibida",{"$f":"C231+C229+C228","v":0},0,0,0,0,0,0,0,0,0,0,0,0,0,0,0,0,0,0,0,0,0,0,0,7.4189160545920236,211.23310788610439,286.88423228642154,357.63809192556243,421.33751429307381,476.78263521363101,523.45764600968414,104.88072279535312,110.98466917562384,115.59037769460062,118.80422179024332,120.70221174518605,121.32983212102302,120.70221174518605,118.80422179024332,115.59037769460062,110.98466917562384,104.88072279535312,452.60700777701845,397.94995985473736,336.67791221925393,269.85065814942385,199.23509948093991,127.49910760006816,7.4189160545920236,0,0,0,0,0,0,0,0,0,0,0,0,0,0,0,{"$f":"BO231+BO229+BO228","v":0},0,0,0,0,0,0,0,0]
[null,"Total Directa recibida",{"$f":"SUM(C231:BW231)","v":3265.3027692295796},"W/m2"]
[null,"Total Directa disponible",{"$f":"SUM(C227:BW227)","v":8647.1875977694381},"W/m2"]
[null,"Obstruccion directa",{"$f":"IF(C233=0,1,1-(C233/C234))","v":0.62238557538963635}]
[null,"Total global recibida",{"$f":"SUM(C232:BW232)","v":5339.2450433281401}]
[null,"Total global ",{"$f":"SUM(C230:BW230)","v":10721.129871867999},"W/m2","% difusa","Fd"]
[null,"Obstrucción global",{"$f":"1-(C236/C237)","v":0.50198858635802956},null,{"$f":"1-(C234/C237)","v":0.19344437562877947},{"$f":"C215","v":0.33769934803157636}]
[]
[null,"FEBRERO"]
[null,"Declinacion dia tipo",{"$f":"D241*180/PI()","v":-13.619766412491638},{"$f":"C260","v":-0.23770976725051524}]
[null,"ocaso",{"$f":"-DEGREES(ACOS((SIN(D242*PI()/180)*SIN($E$182)-SIN($C$241*PI()/180))/(COS(D242*PI()/180)*COS($E$182))))","v":-71.988201638690285},0]
[null,"AZIMUT",-180,{"$f":"C243+5","v":-175},{"$f":"D243+5","v":-170},-165,-160,-155,-150,-145,-140,-135,-130,-125,-120,-115,-110,-105,-100,-95,-90,-85,-80,-75,-70,-65,-60,-55,-50,-45,-40,-35,-30,-25,-20,-15,-10,-5,0,5,10,15,20,25,30,35,40,45,50,55,60,65,70,75,80,85,90,95,100,105,110,115,120,125,130,135,140,145,{"$f":"BP243+5","v":150},155,160,165,170,175,180]
[null,"Az radianes",{"$f":"C243*PI()/180","v":-3.1415926535897931},{"$f":"D243*PI()/180","v":-3.0543261909900763},{"$f":"E243*PI()/180","v":-2.9670597283903604},{"$f":"F243*PI()/180","v":-2.8797932657906435},-2.7925268031909272,-2.7052603405912108,-2.6179938779914944,-2.5307274153917776,-2.4434609527920612,-2.3561944901923448,-2.2689280275926285,-2.1816615649929116,-2.0943951023931953,-2.0071286397934789,-1.9198621771937625,-1.8325957145940461,-1.7453292519943295,-1.6580627893946132,-1.5707963267948966,-1.4835298641951802,-1.3962634015954636,-1.3089969389957472,-1.2217304763960306,-1.1344640137963142,-1.0471975511965976,-0.95993108859688125,-0.87266462599716477,-0.78539816339744828,-0.69813170079773179,-0.6108652381980153,-0.52359877559829882,-0.43633231299858238,-0.3490658503988659,-0.26179938779914941,-0.17453292519943295,-8.7266462599716474E-2,0,8.7266462599716474E-2,0.17453292519943295,0.26179938779914941,0.3490658503988659,0.43633231299858238,0.52359877559829882,0.6108652381980153,0.69813170079773179,0.78539816339744828,0.87266462599716477,0.95993108859688125,1.0471975511965976,1.1344640137963142,1.2217304763960306,1.3089969389957472,1.3962634015954636,1.4835298641951802,1.5707963267948966,1.6580627893946132,1.7453292519943295,1.8325957145940461,1.9198621771937625,2.0071286397934789,2.0943951023931953,2.1816615649929116,2.2689280275926285,2.3561944901923448,2.4434609527920612,2.5307274153917776,2.6179938779914944,{"$f":"BR243*PI()/180","v":2.7052603405912108},2.7925268031909272,2.8797932657906435,2.9670597283903604,3.0543261909900763,3.1415926535897931]
[null,"a",{"$f":"SIN($E$182)^2+COS(C244)^2*COS($E$182)^2","v":1},{"$f":"SIN($E$182)^2+COS(D244)^2*COS($E$182)^2","v":0.99559469963002312},{"$f":"SIN($E$182)^2+COS(E244)^2*COS($E$182)^2","v":0.98251265134264432},0.96115134655524004,0.93215983770443378,0.89641901711624594,0.85501485153852075,0.80920538559081812,0.76038251671525159,0.71002970307704127,0.65967688943883074,0.61085402056326399,0.5650445546155618,0.5236403890378365,0.48789956844964866,0.4589080595988424,0.43754675481143818,0.42446470652405949,0.42005940615408255,0.42446470652405949,0.43754675481143818,0.45890805959884234,0.48789956844964866,0.52364038903783661,0.56504455461556202,0.61085402056326421,0.65967688943883074,0.71002970307704127,0.76038251671525181,0.80920538559081834,0.85501485153852075,0.89641901711624594,0.93215983770443389,0.96115134655524026,0.98251265134264432,0.99559469963002312,1,0.99559469963002312,0.98251265134264432,0.96115134655524026,0.93215983770443389,0.89641901711624594,0.85501485153852075,0.80920538559081834,0.76038251671525181,0.71002970307704127,0.65967688943883074,0.61085402056326421,0.56504455461556202,0.52364038903783661,0.48789956844964866,0.45890805959884234,0.43754675481143818,0.42446470652405949,0.42005940615408255,0.42446470652405949,0.43754675481143818,0.4589080595988424,0.48789956844964866,0.5236403890378365,0.5650445546155618,0.61085402056326399,0.65967688943883074,0.71002970307704127,0.76038251671525159,0.80920538559081812,{"$f":"SIN($E$182)^2+COS(BQ244)^2*COS($E$182)^2","v":0.85501485153852075},0.89641901711624594,0.93215983770443378,0.96115134655524004,0.98251265134264432,0.99559469963002312,1]
[null,"b",{"$f":"-2*SIN($E$182)*SIN($D241)","v":0.30523519774240626},{"$f":"-2*SIN($E$182)*SIN($D241)","v":0.30523519774240626},{"$f":"-2*SIN($E$182)*SIN($D241)","v":0.30523519774240626},0.30523519774240626,0.30523519774240626,0.30523519774240626,0.30523519774240626,0.30523519774240626,0.30523519774240626,0.30523519774240626,0.30523519774240626,0.30523519774240626,0.30523519774240626,0.30523519774240626,0.30523519774240626,0.30523519774240626,0.30523519774240626,0.30523519774240626,0.30523519774240626,0.30523519774240626,0.30523519774240626,0.30523519774240626,0.30523519774240626,0.30523519774240626,0.30523519774240626,0.30523519774240626,0.30523519774240626,0.30523519774240626,0.30523519774240626,0.30523519774240626,0.30523519774240626,0.30523519774240626,0.30523519774240626,0.30523519774240626,0.30523519774240626,0.30523519774240626,0.30523519774240626,0.30523519774240626,0.30523519774240626,0.30523519774240626,0.30523519774240626,0.30523519774240626,0.30523519774240626,0.30523519774240626,0.30523519774240626,0.30523519774240626,0.30523519774240626,0.30523519774240626,0.30523519774240626,0.30523519774240626,0.30523519774240626,0.30523519774240626,0.30523519774240626,0.30523519774240626,0.30523519774240626,0.30523519774240626,0.30523519774240626,0.30523519774240626,0.30523519774240626,0.30523519774240626,0.30523519774240626,0.30523519774240626,0.30523519774240626,0.30523519774240626,0.30523519774240626,0.30523519774240626,{"$f":"-2*SIN($E$182)*SIN($D241)","v":0.30523519774240626},0.30523519774240626,0.30523519774240626,0.30523519774240626,0.30523519774240626,0.30523519774240626,0.30523519774240626]
[null,"c",{"$f":"SIN($D241)^2-COS($E$182)^2*COS(C244)^2","v":-0.52449098090077217},{"$f":"SIN($D241)^2-COS($E$182)^2*COS(D244)^2","v":-0.52008568053079529},{"$f":"SIN($D241)^2-COS($E$182)^2*COS(E244)^2","v":-0.50700363224341649},-0.48564232745601221,-0.45665081860520595,-0.42090999801701812,-0.37950583243929281,-0.33369636649159029,-0.28487349761602376,-0.23452068397781337,-0.18416787033960294,-0.13534500146403619,-8.9535535516333919E-2,-4.8131369938608656E-2,-1.239054935042079E-2,1.6600959500385454E-2,3.7962264287789697E-2,5.1044312575168345E-2,5.5449612945145305E-2,5.1044312575168352E-2,3.7962264287789677E-2,1.6600959500385488E-2,-1.2390549350420832E-2,-4.8131369938608712E-2,-8.9535535516334114E-2,-0.13534500146403641,-0.18416787033960294,-0.23452068397781348,-0.28487349761602387,-0.33369636649159051,-0.37950583243929281,-0.42090999801701812,-0.45665081860520607,-0.48564232745601243,-0.50700363224341649,-0.52008568053079529,-0.52449098090077217,-0.52008568053079529,-0.50700363224341649,-0.48564232745601243,-0.45665081860520607,-0.42090999801701812,-0.37950583243929281,-0.33369636649159051,-0.28487349761602387,-0.23452068397781348,-0.18416787033960294,-0.13534500146403641,-8.9535535516334114E-2,-4.8131369938608712E-2,-1.2390549350420832E-2,1.6600959500385488E-2,3.7962264287789677E-2,5.1044312575168352E-2,5.5449612945145305E-2,5.1044312575168345E-2,3.7962264287789697E-2,1.6600959500385454E-2,-1.239054935042079E-2,-4.8131369938608656E-2,-8.9535535516333919E-2,-0.13534500146403619,-0.18416787033960294,-0.23452068397781337,-0.28487349761602376,-0.33369636649159029,{"$f":"SIN($D241)^2-COS($E$182)^2*COS(BQ244)^2","v":-0.37950583243929281},-0.42090999801701812,-0.45665081860520595,-0.48564232745601221,-0.50700363224341649,-0.52008568053079529,-0.52449098090077217]
[null,"alt solar",{"$f":"IF(C243<=$C$242,0,IF(C243>=-$C$242,0,DEGREES(ASIN(((-C246+(C246^2-4*C245*C247)^0.5)/(2*C245))))))","v":0},{"$f":"IF(D243<=$C$242,0,IF(D243>=-$C$242,0,DEGREES(ASIN(((-D246+(D246^2-4*D245*D247)^0.5)/(2*D245))))))","v":0},0,0,0,0,0,0,0,0,0,0,0,0,0,0,0,0,0,0,0,0,2.1923452815588389,7.4173374360935087,12.178218401014066,16.443075536746864,20.209377465864101,23.49377168512995,26.323516002373381,28.730207397019836,30.745629397199306,32.399229070308699,33.716716002876318,34.719370832772057,35.423766382422265,35.841703068173494,35.980233587508366,35.841703068173494,35.423766382422265,34.719370832772057,33.716716002876318,32.399229070308699,30.745629397199306,28.730207397019836,26.323516002373381,23.49377168512995,20.209377465864101,16.443075536746864,12.178218401014066,7.4173374360935087,2.1923452815588389,0,0,0,0,0,0,0,0,0,0,0,0,0,0,{"$f":"IF(BP243<=$C$242,0,IF(BP243>=-$C$242,0,DEGREES(ASIN(((-BP246+(BP246^2-4*BP245*BP247)^0.5)/(2*BP245))))))","v":0},0,0,0,0,0,0,0]
[]
[null,"obst. Inf.",{"$f":"IF($C$173>=C248,0,1)","v":0},{"$f":"IF($D$173>=D248,0,1)","v":0},{"$f":"IF($E$173>=E248,0,1)","v":0},{"$f":"IF($F$173>=F248,0,1)","v":0},{"$f":"IF($G$173>=G248,0,1)","v":0},{"$f":"IF($H$173>=H248,0,1)","v":0},{"$f":"IF($I$173>=I248,0,1)","v":0},{"$f":"IF($J$173>=J248,0,1)","v":0},{"$f":"IF($K$173>=K248,0,1)","v":0},{"$f":"IF($L$173>=L248,0,1)","v":0},{"$f":"IF($M$173>=M248,0,1)","v":0},{"$f":"IF($N$173>=N248,0,1)","v":0},{"$f":"IF($O$173>=O248,0,1)","v":0},{"$f":"IF($P$173>=P248,0,1)","v":0},{"$f":"IF($Q$173>=Q248,0,1)","v":0},{"$f":"IF($R$173>=R248,0,1)","v":0},{"$f":"IF($S$173>=S248,0,1)","v":0},{"$f":"IF($T$173>=T248,0,1)","v":0},{"$f":"IF($U$173>=U248,0,1)","v":0},{"$f":"IF($V$173>=V248,0,1)","v":0},{"$f":"IF($W$173>=W248,0,1)","v":0},{"$f":"IF($X$173>=X248,0,1)","v":0},{"$f":"IF($Y$173>=Y248,0,1)","v":0},{"$f":"IF($Z$173>=Z248,0,1)","v":1},{"$f":"IF($AA$173>=AA248,0,1)","v":1},{"$f":"IF($AB$173>=AB248,0,1)","v":1},{"$f":"IF($AC$173>=AC248,0,1)","v":1},{"$f":"IF($AD$173>=AD248,0,1)","v":1},{"$f":"IF($AE$173>=AE248,0,1)","v":1},{"$f":"IF($AF$173>=AF248,0,1)","v":1},{"$f":"IF($AG$173>=AG248,0,1)","v":1},{"$f":"IF($AH$173>=AH248,0,1)","v":1},{"$f":"IF($AI$173>=AI248,0,1)","v":1},{"$f":"IF($AJ$173>=AJ248,0,1)","v":1},{"$f":"IF($AK$173>=AK248,0,1)","v":1},{"$f":"IF($AL$173>=AL248,0,1)","v":1},{"$f":"IF($AM$173>=AM248,0,1)","v":0},{"$f":"IF($AN$173>=AN248,0,1)","v":1},{"$f":"IF($AO$173>=AO248,0,1)","v":1},{"$f":"IF($AP$173>=AP248,0,1)","v":1},{"$f":"IF($AQ$173>=AQ248,0,1)","v":1},{"$f":"IF($AR$173>=AR248,0,1)","v":1},{"$f":"IF($AS$173>=AS248,0,1)","v":1},{"$f":"IF($AT$173>=AT248,0,1)","v":1},{"$f":"IF($AU$173>=AU248,0,1)","v":1},{"$f":"IF($AV$173>=AV248,0,1)","v":1},{"$f":"IF($AW$173>=AW248,0,1)","v":1},{"$f":"IF($AX$173>=AX248,0,1)","v":1},{"$f":"IF($AY$173>=AY248,0,1)","v":1},{"$f":"IF($AZ$173>=AZ248,0,1)","v":1},{"$f":"IF($BA$173>=BA248,0,1)","v":0},{"$f":"IF($BB$173>=BB248,0,1)","v":0},{"$f":"IF($BC$173>=BC248,0,1)","v":0},{"$f":"IF($BD$173>=BD248,0,1)","v":0},{"$f":"IF($BE$173>=BE248,0,1)","v":0},{"$f":"IF($BF$173>=BF248,0,1)","v":0},{"$f":"IF($BG$173>=BG248,0,1)","v":0},{"$f":"IF($BH$173>=BH248,0,1)","v":0},{"$f":"IF($BI$173>=BI248,0,1)","v":0},{"$f":"IF($BJ$173>=BJ248,0,1)","v":0},{"$f":"IF($BK$173>=BK248,0,1)","v":0},{"$f":"IF($BL$173>=BL248,0,1)","v":0},{"$f":"IF($BM$173>=BM248,0,1)","v":0},{"$f":"IF($BN$173>=BN248,0,1)","v":0},{"$f":"IF($BO$173>=BO248,0,1)","v":0},{"$f":"IF($BP$173>=BP248,0,1)","v":0},{"$f":"IF($BQ$173>=BQ248,0,1)","v":0},{"$f":"IF($BR$173>=BR248,0,1)","v":0},{"$f":"IF($BS$173>=BS248,0,1)","v":0},{"$f":"IF($BT$173>=BT248,0,1)","v":0},{"$f":"IF($BU$173>=BU248,0,1)","v":0},{"$f":"IF($BV$173>=BV248,0,1)","v":0},{"$f":"IF($BW$173>=BW248,0,1)","v":0}]
[null,"obst. Sup",{"$f":"IF(C248>$C$176,0,1)","v":1},{"$f":"IF(D248>$D$176,0,1)","v":1},{"$f":"IF(E248>$E$176,0,1)","v":1},{"$f":"IF(F248>$F$176,0,1)","v":1},{"$f":"IF(G248>$G$176,0,1)","v":1},{"$f":"IF(H248>$H$176,0,1)","v":1},{"$f":"IF(I248>$I$176,0,1)","v":1},{"$f":"IF(J248>$J$176,0,1)","v":1},{"$f":"IF(K248>$K$176,0,1)","v":1},{"$f":"IF(L248>$L$176,0,1)","v":1},{"$f":"IF(M248>$M$176,0,1)","v":1},{"$f":"IF(N248>$N$176,0,1)","v":1},{"$f":"IF(O248>$O$176,0,1)","v":1},{"$f":"IF(P248>$P$176,0,1)","v":1},{"$f":"IF(Q248>$Q$176,0,1)","v":1},{"$f":"IF(R248>$R$176,0,1)","v":1},{"$f":"IF(S248>$S$176,0,1)","v":1},{"$f":"IF(T248>$T$176,0,1)","v":1},{"$f":"IF(U248>$U$176,0,1)","v":1},{"$f":"IF(V248>$V$176,0,1)","v":1},{"$f":"IF(W248>$W$176,0,1)","v":1},{"$f":"IF(X248>$X$176,0,1)","v":1},{"$f":"IF(Y248>$Y$176,0,1)","v":1},{"$f":"IF(Z248>$Z$176,0,1)","v":1},{"$f":"IF(AA248>$AA$176,0,1)","v":1},{"$f":"IF(AB248>$AB$176,0,1)","v":1},{"$f":"IF(AC248>$AC$176,0,1)","v":1},{"$f":"IF(AD248>$AD$176,0,1)","v":1},{"$f":"IF(AE248>$AE$176,0,1)","v":1},{"$f":"IF(AF248>$AF$176,0,1)","v":1},{"$f":"IF(AG248>$AG$176,0,1)","v":1},{"$f":"IF(AH248>$AH$176,0,1)","v":1},{"$f":"IF(AI248>$AI$176,0,1)","v":1},{"$f":"IF(AJ248>$AJ$176,0,1)","v":1},{"$f":"IF(AK248>$AK$176,0,1)","v":1},{"$f":"IF(AL248>$AL$176,0,1)","v":1},{"$f":"IF(AM248>$AM$176,0,1)","v":1},{"$f":"IF(AN248>$AN$176,0,1)","v":1},{"$f":"IF(AO248>$AO$176,0,1)","v":1},{"$f":"IF(AP248>$AP$176,0,1)","v":1},{"$f":"IF(AQ248>$AQ$176,0,1)","v":1},{"$f":"IF(AR248>$AR$176,0,1)","v":1},{"$f":"IF(AS248>$AS$176,0,1)","v":1},{"$f":"IF(AT248>$AT$176,0,1)","v":1},{"$f":"IF(AU248>$AU$176,0,1)","v":1},{"$f":"IF(AV248>$AV$176,0,1)","v":1},{"$f":"IF(AW248>$AW$176,0,1)","v":1},{"$f":"IF(AX248>$AX$176,0,1)","v":1},{"$f":"IF(AY248>$AY$176,0,1)","v":1},{"$f":"IF(AZ248>$AZ$176,0,1)","v":1},{"$f":"IF(BA248>$BA$176,0,1)","v":1},{"$f":"IF(BB248>$BB$176,0,1)","v":1},{"$f":"IF(BC248>$BC$176,0,1)","v":1},{"$f":"IF(BD248>$BD$176,0,1)","v":1},{"$f":"IF(BE248>$BE$176,0,1)","v":1},{"$f":"IF(BF248>$BF$176,0,1)","v":1},{"$f":"IF(BG248>$BG$176,0,1)","v":1},{"$f":"IF(BH248>$BH$176,0,1)","v":1},{"$f":"IF(BI248>$BI$176,0,1)","v":1},{"$f":"IF(BJ248>$BJ$176,0,1)","v":1},{"$f":"IF(BK248>$BK$176,0,1)","v":1},{"$f":"IF(BL248>$BL$176,0,1)","v":1},{"$f":"IF(BM248>$BM$176,0,1)","v":1},{"$f":"IF(BN248>$BN$176,0,1)","v":1},{"$f":"IF(BO248>$BO$176,0,1)","v":1},{"$f":"IF(BP248>$BP$176,0,1)","v":1},{"$f":"IF(BQ248>$BQ$176,0,1)","v":1},{"$f":"IF(BR248>$BR$176,0,1)","v":1},{"$f":"IF(BS248>$BS$176,0,1)","v":1},{"$f":"IF(BT248>$BT$176,0,1)","v":1},{"$f":"IF(BU248>$BU$176,0,1)","v":1},{"$f":"IF(BV248>$BV$176,0,1)","v":1},{"$f":"IF(BW248>$BW$176,0,1)","v":1}]
[null,"obst. TOTAL",{"$f":"C250*C251","v":0},{"$f":"D250*D251","v":0},0,0,0,0,0,0,0,0,0,0,0,0,0,0,0,0,0,0,0,0,0,1,1,1,1,1,1,1,1,1,1,1,1,1,0,1,1,1,1,1,1,1,1,1,1,1,1,1,0,0,0,0,0,0,0,0,0,0,0,0,0,0,0,{"$f":"BP250*BP251","v":0},0,0,0,0,0,0,0]
[]
[null,"Latitud",{"$f":"$C$182","v":40.4},null,{"$f":"PI()*(C254+D254/60)/180","v":0.70511301780570912}]
[null,"Azimut",{"$f":"$I$4","v":15},null,{"$f":"C255*PI()/180","v":0.26179938779914941}]
[null,"Inclinacion",{"$f":"$I$3","v":35},null,{"$f":"C256*PI()/180","v":0.6108652381980153}]
[null,"Coeficiente refexion",{"$f":"M58","v":0}]
[null,"Constante solar extraterrestre (Bo)",{"$f":"$G$182","v":1367},"W/m2"]
[null,"Dia del año",{"$f":"31+14","v":45}]
[null,"Declinacion . radianes",{"$f":"23.45*PI()/180*SIN(2*PI()*((C259+284)/365))","v":-0.23770976725051524}]
[null,"Ángulo puesta de sol. Radianes. Ws",{"$f":"ACOS(-TAN(C260)*TAN($E$199))","v":1.3631007770437633}]
[null,"Distancia sol - tierra. Bo",{"$f":"1+0.033*COS((2*PI()*C259/365)*PI()/180)","v":1.032996984001652},"expresion Duffi y Beckman"]
[null,"Factor angulo solar",{"$f":"(SIN(C260)*C261*SIN(E254))+COS(E254)*COS(C260)*SIN(C261)","v":0.51618432796576563}]
[null,"Ho. Irradiacion Extraterreste sobre sup. Horizontal",{"$f":"+($C$203*24/PI())*C262*C263","v":5568.4426576774949}]
[null,"H1",{"$f":"+(3.6*C258*24/PI())*(1+0.033*COS(PI()/180*(360*C259/365)))","v":38481.852187435776}]
[null,"H2",{"$f":"COS(E254)*COS(C260)*SIN(C261)","v":0.72421749557765602}]
[null,"H3",{"$f":"+SIN(C260)*C261*SIN(E254)","v":-0.20803316761189039}]
[null,"H horizontal diaria (W/m2 dia) s/ localidad",{"$f":"D6","v":3254.6944444444443},"W/m2 dia"]
[null,"Indice de claridad Kt",{"$f":"C268/C264","v":0.58448917310067505}]
[null,"Fraccion difusa diaria promedio",{"$f":"0.775+0.347*(C261-(PI()/2))-(0.505+0.261*(C261-(PI()/2)))*COS(2*C269-1.8)","v":0.33894926514481216},"Correlacion Collares-Pereira "]
[null,"Factor A Lui y Jordan",{"$f":"0.409+0.5016*SIN(C261-60*PI()/180)","v":0.56483464450521237},"parametros 5 estaciones EEUU"]
[null,"Factor B Lui y Jordan",{"$f":"0.6609-0.4767*SIN(C261-60*PI()/180)","v":0.51280116619690042},"parametros 5 estaciones EEUU"]
[]
[null,"AZIMUT",-180,{"$f":"C274+5","v":-175},{"$f":"D274+5","v":-170},-165,-160,-155,-150,-145,-140,-135,-130,-125,-120,-115,-110,-105,-100,-95,-90,-85,-80,-75,-70,-65,-60,-55,-50,-45,-40,-35,-30,-25,-20,-15,-10,-5,0,5,10,15,20,25,30,35,40,45,50,55,60,65,70,75,80,85,90,95,100,105,110,115,120,125,130,135,140,145,{"$f":"BP274+5","v":150},155,160,165,170,175,180]
[null,"Az radianes",{"$f":"C274*PI()/180","v":-3.1415926535897931},{"$f":"D274*PI()/180","v":-3.0543261909900763},{"$f":"E274*PI()/180","v":-2.9670597283903604},{"$f":"F274*PI()/180","v":-2.8797932657906435},-2.7925268031909272,-2.7052603405912108,-2.6179938779914944,-2.5307274153917776,-2.4434609527920612,-2.3561944901923448,-2.2689280275926285,-2.1816615649929116,-2.0943951023931953,-2.0071286397934789,-1.9198621771937625,-1.8325957145940461,-1.7453292519943295,-1.6580627893946132,-1.5707963267948966,-1.4835298641951802,-1.3962634015954636,-1.3089969389957472,-1.2217304763960306,-1.1344640137963142,-1.0471975511965976,-0.95993108859688125,-0.87266462599716477,-0.78539816339744828,-0.69813170079773179,-0.6108652381980153,-0.52359877559829882,-0.43633231299858238,-0.3490658503988659,-0.26179938779914941,-0.17453292519943295,-8.7266462599716474E-2,0,8.7266462599716474E-2,0.17453292519943295,0.26179938779914941,0.3490658503988659,0.43633231299858238,0.52359877559829882,0.6108652381980153,0.69813170079773179,0.78539816339744828,0.87266462599716477,0.95993108859688125,1.0471975511965976,1.1344640137963142,1.2217304763960306,1.3089969389957472,1.3962634015954636,1.4835298641951802,1.5707963267948966,1.6580627893946132,1.7453292519943295,1.8325957145940461,1.9198621771937625,2.0071286397934789,2.0943951023931953,2.1816615649929116,2.2689280275926285,2.3561944901923448,2.4434609527920612,2.5307274153917776,2.6179938779914944,{"$f":"BR274*PI()/180","v":2.7052603405912108},2.7925268031909272,2.8797932657906435,2.9670597283903604,3.0543261909900763,3.1415926535897931]
[null,"alt solar (grados)",{"$f":"C248","v":0},{"$f":"D248","v":0},{"$f":"E248","v":0},0,0,0,0,0,0,0,0,0,0,0,0,0,0,0,0,0,0,0,2.1923452815588389,7.4173374360935087,12.178218401014066,16.443075536746864,20.209377465864101,23.49377168512995,26.323516002373381,28.730207397019836,30.745629397199306,32.399229070308699,33.716716002876318,34.719370832772057,35.423766382422265,35.841703068173494,35.980233587508366,35.841703068173494,35.423766382422265,34.719370832772057,33.716716002876318,32.399229070308699,30.745629397199306,28.730207397019836,26.323516002373381,23.49377168512995,20.209377465864101,16.443075536746864,12.178218401014066,7.4173374360935087,2.1923452815588389,0,0,0,0,0,0,0,0,0,0,0,0,0,0,0,{"$f":"BQ248","v":0},0,0,0,0,0,0]
[null,"ang horario (grados)",{"$f":"DEGREES(ACOS((SIN(C276*PI()/180)-(SIN($E254)*SIN($C260)))/(COS($E254)*COS($C260))))","v":78.099921575610651},{"$f":"DEGREES(ACOS((SIN(D276*PI()/180)-(SIN($E254)*SIN($C260)))/(COS($E254)*COS($C260))))","v":78.099921575610651},78.099921575610651,78.099921575610651,78.099921575610651,78.099921575610651,78.099921575610651,78.099921575610651,78.099921575610651,78.099921575610651,78.099921575610651,78.099921575610651,78.099921575610651,78.099921575610651,78.099921575610651,78.099921575610651,78.099921575610651,78.099921575610651,78.099921575610651,78.099921575610651,78.099921575610651,78.099921575610651,75.05498875176778,67.627290306780012,60.578556843340394,53.938123153721385,47.704513746738655,41.855427531013405,36.356182352885561,31.165895449883553,26.241537421930747,21.540323163330861,17.020932334638733,12.643962688662345,8.3719072188598673,4.1688494398096827,0,{"$f":"-DEGREES(ACOS((SIN(AN276*PI()/180)-(SIN($E254)*SIN($C260)))/(COS($E254)*COS($C260))))","v":-4.1688494398096827},{"$f":"-DEGREES(ACOS((SIN(AO276*PI()/180)-(SIN($E254)*SIN($C260)))/(COS($E254)*COS($C260))))","v":-8.3719072188598673},-12.643962688662345,-17.020932334638733,-21.540323163330861,-26.241537421930747,-31.165895449883553,-36.356182352885561,-41.855427531013405,-47.704513746738655,-53.938123153721385,-60.578556843340394,-67.627290306780012,-75.05498875176778,-78.099921575610651,-78.099921575610651,-78.099921575610651,-78.099921575610651,-78.099921575610651,-78.099921575610651,-78.099921575610651,-78.099921575610651,-78.099921575610651,-78.099921575610651,-78.099921575610651,-78.099921575610651,-78.099921575610651,-78.099921575610651,-78.099921575610651,-78.099921575610651,-78.099921575610651,-78.099921575610651,-78.099921575610651,-78.099921575610651,-78.099921575610651,-78.099921575610651]
[null,"Factor inclinación",{"$f":"-(IF(C276=0,0,(SIN($C260)*SIN($E254)*COS($E256)-SIN($C260)*COS($E254)*SIN($E256)*COS($E255)+COS($C260)*COS($E254)*COS($E256)*COS(C277*PI()/180)+COS($C260)*SIN($E254)*SIN($E256)*COS(C277*PI()/180)*COS($E255)+COS($C260)*SIN($E256)*SIN(C277*PI()/180)*SIN($E255))/(COS($C260)*COS($E254)*COS(C277*PI()/180)+SIN($C260)*SIN($E254))))","v":0},{"$f":"-(IF(D276=0,0,(SIN($C260)*SIN($E254)*COS($E256)-SIN($C260)*COS($E254)*SIN($E256)*COS($E255)+COS($C260)*COS($E254)*COS($E256)*COS(D277*PI()/180)+COS($C260)*SIN($E254)*SIN($E256)*COS(D277*PI()/180)*COS($E255)+COS($C260)*SIN($E256)*SIN(D277*PI()/180)*SIN($E255))/(COS($C260)*COS($E254)*COS(D277*PI()/180)+SIN($C260)*SIN($E254))))","v":0},0,0,0,0,0,0,0,0,0,0,0,0,0,0,0,0,0,0,0,0,-9.4129325575378271,-3.6511812819473293,-2.6984915084716308,-2.3079210533390797,-2.0955122519096623,-1.9618965788773362,-1.8698759366671636,-1.802398269179796,-1.7505582892518787,-1.7092594261798526,-1.6753796422527034,-1.6469035431240828,-1.6224753348268111,-1.6011529141139011,-1.5822655653197186,-1.5653285894827009,-1.5499912618806502,-1.5360058703008259,-1.5232117914369661,-1.5115326755249678,-1.5009887380887681,-1.4917320738121427,-1.4841253286405698,-1.4789159089485462,-1.4776538890446209,-1.4838510632923061,-1.5070380305144733,-1.5842207992058075,-2.1249890281223802,0,0,0,0,0,0,0,0,0,0,0,0,0,0,{"$f":"-(IF(BP276=0,0,(SIN($C260)*SIN($E254)*COS($E256)-SIN($C260)*COS($E254)*SIN($E256)*COS($E255)+COS($C260)*COS($E254)*COS($E256)*COS(BP277*PI()/180)+COS($C260)*SIN($E254)*SIN($E256)*COS(BP277*PI()/180)*COS($E255)+COS($C260)*SIN($E256)*SIN(BP277*PI()/180)*SIN($E255))/(COS($C260)*COS($E254)*COS(BP277*PI()/180)+SIN($C260)*SIN($E254))))","v":0},0,0,0,0,0,0,0]
[null,"Correccion valores negativos",{"$f":"ABS(C278)","v":0},{"$f":"ABS(D278)","v":0},0,0,0,0,0,0,0,0,0,0,0,0,0,0,0,0,0,0,0,0,9.4129325575378271,3.6511812819473293,2.6984915084716308,2.3079210533390797,2.0955122519096623,1.9618965788773362,1.8698759366671636,1.802398269179796,1.7505582892518787,1.7092594261798526,1.6753796422527034,1.6469035431240828,1.6224753348268111,1.6011529141139011,1.5822655653197186,1.5653285894827009,1.5499912618806502,1.5360058703008259,1.5232117914369661,1.5115326755249678,1.5009887380887681,1.4917320738121427,1.4841253286405698,1.4789159089485462,1.4776538890446209,1.4838510632923061,1.5070380305144733,1.5842207992058075,2.1249890281223802,0,0,0,0,0,0,0,0,0,0,0,0,0,0,{"$f":"ABS(BP278)","v":0},0,0,0,0,0,0,0]
[null,"Radiacion H GLOBAL (distribucion Lui y Jordan)",{"$f":"$C268*((PI()/24*($C271+$C272*COS(C277*PI()/180))*(COS(C277*PI()/180)-COS($C261)))/(SIN($C261)-$C261*COS($C261)))","v":0},{"$f":"$C268*((PI()/24*($C271+$C272*COS(D277*PI()/180))*(COS(D277*PI()/180)-COS($C261)))/(SIN($C261)-$C261*COS($C261)))","v":0},0,0,0,0,0,0,0,0,0,0,0,0,0,0,0,0,0,0,0,0,22.009399383448251,80.980777390934506,142.20433949235195,{"$f":"$C268*((PI()/24*($C271+$C272*COS(AB277*PI()/180))*(COS(AB277*PI()/180)-COS($C261)))/(SIN($C261)-$C261*COS($C261)))","v":202.48602640607965},{"$f":"$C268*((PI()/24*($C271+$C272*COS(AC277*PI()/180))*(COS(AC277*PI()/180)-COS($C261)))/(SIN($C261)-$C261*COS($C261)))","v":259.44048169741063},311.52033039883679,357.87876318972047,398.1774379103386,432.40554350517419,460.73643996109007,483.42520279746458,500.7404747105814,512.92163371410118,520.15323958365036,522.55071389151874,520.15323958365036,512.92163371410118,500.7404747105814,483.42520279746458,460.73643996109007,432.40554350517419,398.1774379103386,357.87876318972047,311.52033039883679,259.44048169741063,202.48602640607965,142.20433949235195,80.980777390934506,22.009399383448251,0,0,0,0,0,0,0,0,0,0,0,0,0,0,0,0,0,0,0,0,0,0]
[null,"Radiacion H DIFUSA (distribucion Lui y Jordan)",{"$f":"$C270*$C268*((PI()/24*(COS(C277*PI()/180)-COS($C261)))/(SIN($C261)-$C261*COS($C261)))","v":0},{"$f":"$C270*$C268*((PI()/24*(COS(D277*PI()/180)-COS($C261)))/(SIN($C261)-$C261*COS($C261)))","v":0},0,0,0,0,0,0,0,0,0,0,0,0,0,0,0,0,0,0,0,0,10.701855347785237,36.115231009789895,59.015333538920814,79.188337463663785,96.642062443969905,111.52438225976145,124.05455627720444,134.47454986378636,143.01874628779049,149.89734995919932,155.28871293926213,159.33686534360132,162.15170808454619,163.81027216307592,164.35810569345253,163.81027216307592,162.15170808454619,159.33686534360132,155.28871293926213,149.89734995919932,143.01874628779049,134.47454986378636,124.05455627720444,111.52438225976145,96.642062443969905,79.188337463663785,59.015333538920814,36.115231009789895,10.701855347785237,0,0,0,0,0,0,0,0,0,0,0,0,0,0,{"$f":"$C270*$C268*((PI()/24*(COS(BP277*PI()/180)-COS($C261)))/(SIN($C261)-$C261*COS($C261)))","v":0},0,0,0,0,0,0,0]
[null,"Total Directa",{"$f":"C$54*IF((C280-C281)*C279<0,0,(C280-C281)*C279)","v":0},{"$f":"D$54*IF((D280-D281)*D279<0,0,(D280-D281)*D279)","v":0},0,0,0,0,0,0,0,0,0,0,0,0,0,0,0,0,0,0,0,0,106.43714939908506,163.81224315117495,224.48482616352985,284.56133213825461,341.14608213711091,392.37136644338102,437.2222579159976,475.29762899281923,506.58845666894348,531.30464461089935,549.75319498869317,562.25881390182974,569.11555253298786,570.55958070944769,566.75582970385767,557.79383456452786,543.69031965633576,524.39794812957143,499.82137055275047,469.84344136830424,434.36632357487093,393.37405605593466,347.02442792815845,295.77718942812686,240.55971734016339,182.95540683868779,125.36899569251565,71.07693174474214,24.028407010794567,0,0,0,0,0,0,0,0,0,0,0,0,0,0,{"$f":"BP$54*IF((BP280-BP281)*BP279<0,0,(BP280-BP281)*BP279)","v":0},0,0,0,0,0,0,0]
[null,"Total Difusa (plano incl)",{"$f":"C$54*C281*(1+COS($E256))/2","v":0},{"$f":"D$54*D281*(1+COS($E256))/2","v":0},0,0,0,0,0,0,0,0,0,0,0,0,0,0,0,0,0,0,0,0,9.7341510168042973,32.849548160714242,53.678932325862256,72.027812990435265,87.903302729626134,101.43990398795601,112.83704982752013,122.31482614477447,130.08642234054136,136.34303530588994,141.24688979923258,144.92899216020609,147.48930562347704,148.99789574049785,149.4961919838552,148.99789574049785,147.48930562347704,144.92899216020609,141.24688979923258,136.34303530588994,130.08642234054136,122.31482614477447,112.83704982752013,101.43990398795601,87.903302729626134,72.027812990435265,53.678932325862256,32.849548160714242,9.7341510168042973,0,0,0,0,0,0,0,0,0,0,0,0,0,0,{"$f":"BP$54*BP281*(1+COS($E256))/2","v":0},0,0,0,0,0,0,0]
[null,"Total Reflejada (plano incl)",{"$f":"C$54*C280*$C257*(1-COS($E256))/2","v":0},{"$f":"D$54*D280*$C257*(1-COS($E256))/2","v":0},0,0,0,0,0,0,0,0,0,0,0,0,0,0,0,0,0,0,0,0,0,0,0,0,0,0,0,0,0,0,0,0,0,0,0,0,0,0,0,0,0,0,0,0,0,0,0,0,0,0,0,0,0,0,0,0,0,0,0,0,0,0,0,{"$f":"BP$54*BP280*$C257*(1-COS($E256))/2","v":0},0,0,0,0,0,0,0]
[null,"TOTAL (W/m2)",{"$f":"C282+C283+C284","v":0},0,0,0,0,0,0,0,0,0,0,0,0,0,0,0,0,0,0,0,0,0,116.17130041588936,196.6617913118892,278.16375848939208,356.58914512868989,429.04938486673706,493.81127043133705,550.05930774351771,597.61245513759366,636.67487900948481,667.64767991678923,691.00008478792574,707.18780606203586,716.60485815646484,719.55747644994551,716.25202168771284,706.79173030502568,691.17962527981285,669.32694028977755,641.0682603519831,606.18647667419418,564.45274591541227,515.68888220070914,459.86147775567861,397.21709341608289,328.46302006978954,254.98321982912307,179.04792801837792,103.92647990545638,33.762558027598864,0,0,0,0,0,0,0,0,0,0,0,0,0,{"$f":"BO282+BO283+BO284","v":0},0,0,0,0,0,0,0,0]
[null,"Radiación Directa recibida",{"$f":"C282*C252","v":0},{"$f":"D282*D252","v":0},0,0,0,0,0,0,0,0,0,0,0,0,0,0,0,0,0,0,0,0,0,163.81224315117495,224.48482616352985,284.56133213825461,341.14608213711091,392.37136644338102,437.2222579159976,475.29762899281923,506.58845666894348,531.30464461089935,549.75319498869317,562.25881390182974,569.11555253298786,570.55958070944769,0,557.79383456452786,543.69031965633576,524.39794812957143,499.82137055275047,469.84344136830424,434.36632357487093,393.37405605593466,347.02442792815845,295.77718942812686,240.55971734016339,182.95540683868779,125.36899569251565,71.07693174474214,0,0,0,0,0,0,0,0,0,0,0,0,0,0,0,{"$f":"BP282*BP252","v":0},0,0,0,0,0,0,0]
[null,"Radiación Global recibida",{"$f":"C286+C284+C283","v":0},0,0,0,0,0,0,0,0,0,0,0,0,0,0,0,0,0,0,0,0,0,9.7341510168042973,196.6617913118892,278.16375848939208,356.58914512868989,429.04938486673706,493.81127043133705,550.05930774351771,597.61245513759366,636.67487900948481,667.64767991678923,691.00008478792574,707.18780606203586,716.60485815646484,719.55747644994551,149.4961919838552,706.79173030502568,691.17962527981285,669.32694028977755,641.0682603519831,606.18647667419418,564.45274591541227,515.68888220070914,459.86147775567861,397.21709341608289,328.46302006978954,254.98321982912307,179.04792801837792,103.92647990545638,9.7341510168042973,0,0,0,0,0,0,0,0,0,0,0,0,0,{"$f":"BO286+BO284+BO283","v":0},0,0,0,0,0,0,0,0]
[null,"Total Directa recibida",{"$f":"SUM(C286:BW286)","v":10294.525943229761},"W/m2"]
[null,"Total Directa disponible",{"$f":"SUM(C282:BW282)","v":10991.747329343498},"W/m2"]
[null,"Obstruccion directa",{"$f":"IF(C288=0,1,1-(C288/C289))","v":6.3431351287746462E-2}]
[null,"Total global recibida",{"$f":"SUM(C287:BW287)","v":13327.778271520689}]
[null,"Total global ",{"$f":"SUM(C285:BW285)","v":14024.999657634422},"W/m2","% difusa","Fd"]
[null,"Obstrucción global",{"$f":"1-(C291/C292)","v":4.9712756016660919E-2},null,{"$f":"1-(C289/C292)","v":0.21627468109347092},{"$f":"C270","v":0.33894926514481216}]
[]
[null,"MARZO"]
[null,"Declinacion dia tipo",{"$f":"D296*180/PI()","v":-2.8188786528898215},{"$f":"C315","v":-4.9198713707109758E-2}]
[null,"ocaso",{"$f":"-DEGREES(ACOS((SIN(D297*PI()/180)*SIN($E$182)-SIN($C$296*PI()/180))/(COS(D297*PI()/180)*COS($E$182))))","v":-86.297357916509284},0]
[null,"AZIMUT",-180,{"$f":"C298+5","v":-175},{"$f":"D298+5","v":-170},-165,-160,-155,-150,-145,-140,-135,-130,-125,-120,-115,-110,-105,-100,-95,-90,-85,-80,-75,-70,-65,-60,-55,-50,-45,-40,-35,-30,-25,-20,-15,-10,-5,0,5,10,15,20,25,30,35,40,45,50,55,60,65,70,75,80,85,90,95,100,105,110,115,120,125,130,135,140,145,{"$f":"BP298+5","v":150},155,160,165,170,175,180]
[null,"Az radianes",{"$f":"C298*PI()/180","v":-3.1415926535897931},{"$f":"D298*PI()/180","v":-3.0543261909900763},{"$f":"E298*PI()/180","v":-2.9670597283903604},{"$f":"F298*PI()/180","v":-2.8797932657906435},-2.7925268031909272,-2.7052603405912108,-2.6179938779914944,-2.5307274153917776,-2.4434609527920612,-2.3561944901923448,-2.2689280275926285,-2.1816615649929116,-2.0943951023931953,-2.0071286397934789,-1.9198621771937625,-1.8325957145940461,-1.7453292519943295,-1.6580627893946132,-1.5707963267948966,-1.4835298641951802,-1.3962634015954636,-1.3089969389957472,-1.2217304763960306,-1.1344640137963142,-1.0471975511965976,-0.95993108859688125,-0.87266462599716477,-0.78539816339744828,-0.69813170079773179,-0.6108652381980153,-0.52359877559829882,-0.43633231299858238,-0.3490658503988659,-0.26179938779914941,-0.17453292519943295,-8.7266462599716474E-2,0,8.7266462599716474E-2,0.17453292519943295,0.26179938779914941,0.3490658503988659,0.43633231299858238,0.52359877559829882,0.6108652381980153,0.69813170079773179,0.78539816339744828,0.87266462599716477,0.95993108859688125,1.0471975511965976,1.1344640137963142,1.2217304763960306,1.3089969389957472,1.3962634015954636,1.4835298641951802,1.5707963267948966,1.6580627893946132,1.7453292519943295,1.8325957145940461,1.9198621771937625,2.0071286397934789,2.0943951023931953,2.1816615649929116,2.2689280275926285,2.3561944901923448,2.4434609527920612,2.5307274153917776,2.6179938779914944,{"$f":"BR298*PI()/180","v":2.7052603405912108},2.7925268031909272,2.8797932657906435,2.9670597283903604,3.0543261909900763,3.1415926535897931]
[null,"a",{"$f":"SIN($E$182)^2+COS(C299)^2*COS($E$182)^2","v":1},{"$f":"SIN($E$182)^2+COS(D299)^2*COS($E$182)^2","v":0.99559469963002312},{"$f":"SIN($E$182)^2+COS(E299)^2*COS($E$182)^2","v":0.98251265134264432},0.96115134655524004,0.93215983770443378,0.89641901711624594,0.85501485153852075,0.80920538559081812,0.76038251671525159,0.71002970307704127,0.65967688943883074,0.61085402056326399,0.5650445546155618,0.5236403890378365,0.48789956844964866,0.4589080595988424,0.43754675481143818,0.42446470652405949,0.42005940615408255,0.42446470652405949,0.43754675481143818,0.45890805959884234,0.48789956844964866,0.52364038903783661,0.56504455461556202,0.61085402056326421,0.65967688943883074,0.71002970307704127,0.76038251671525181,0.80920538559081834,0.85501485153852075,0.89641901711624594,0.93215983770443389,0.96115134655524026,0.98251265134264432,0.99559469963002312,1,0.99559469963002312,0.98251265134264432,0.96115134655524026,0.93215983770443389,0.89641901711624594,0.85501485153852075,0.80920538559081834,0.76038251671525181,0.71002970307704127,0.65967688943883074,0.61085402056326421,0.56504455461556202,0.52364038903783661,0.48789956844964866,0.45890805959884234,0.43754675481143818,0.42446470652405949,0.42005940615408255,0.42446470652405949,0.43754675481143818,0.4589080595988424,0.48789956844964866,0.5236403890378365,0.5650445546155618,0.61085402056326399,0.65967688943883074,0.71002970307704127,0.76038251671525159,0.80920538559081812,{"$f":"SIN($E$182)^2+COS(BQ299)^2*COS($E$182)^2","v":0.85501485153852075},0.89641901711624594,0.93215983770443378,0.96115134655524004,0.98251265134264432,0.99559469963002312,1]
[null,"b",{"$f":"-2*SIN($E$182)*SIN($D296)","v":6.3747606666730225E-2},{"$f":"-2*SIN($E$182)*SIN($D296)","v":6.3747606666730225E-2},{"$f":"-2*SIN($E$182)*SIN($D296)","v":6.3747606666730225E-2},6.3747606666730225E-2,6.3747606666730225E-2,6.3747606666730225E-2,6.3747606666730225E-2,6.3747606666730225E-2,6.3747606666730225E-2,6.3747606666730225E-2,6.3747606666730225E-2,6.3747606666730225E-2,6.3747606666730225E-2,6.3747606666730225E-2,6.3747606666730225E-2,6.3747606666730225E-2,6.3747606666730225E-2,6.3747606666730225E-2,6.3747606666730225E-2,6.3747606666730225E-2,6.3747606666730225E-2,6.3747606666730225E-2,6.3747606666730225E-2,6.3747606666730225E-2,6.3747606666730225E-2,6.3747606666730225E-2,6.3747606666730225E-2,6.3747606666730225E-2,6.3747606666730225E-2,6.3747606666730225E-2,6.3747606666730225E-2,6.3747606666730225E-2,6.3747606666730225E-2,6.3747606666730225E-2,6.3747606666730225E-2,6.3747606666730225E-2,6.3747606666730225E-2,6.3747606666730225E-2,6.3747606666730225E-2,6.3747606666730225E-2,6.3747606666730225E-2,6.3747606666730225E-2,6.3747606666730225E-2,6.3747606666730225E-2,6.3747606666730225E-2,6.3747606666730225E-2,6.3747606666730225E-2,6.3747606666730225E-2,6.3747606666730225E-2,6.3747606666730225E-2,6.3747606666730225E-2,6.3747606666730225E-2,6.3747606666730225E-2,6.3747606666730225E-2,6.3747606666730225E-2,6.3747606666730225E-2,6.3747606666730225E-2,6.3747606666730225E-2,6.3747606666730225E-2,6.3747606666730225E-2,6.3747606666730225E-2,6.3747606666730225E-2,6.3747606666730225E-2,6.3747606666730225E-2,6.3747606666730225E-2,6.3747606666730225E-2,{"$f":"-2*SIN($E$182)*SIN($D296)","v":6.3747606666730225E-2},6.3747606666730225E-2,6.3747606666730225E-2,6.3747606666730225E-2,6.3747606666730225E-2,6.3747606666730225E-2,6.3747606666730225E-2]
[null,"c",{"$f":"SIN($D296)^2-COS($E$182)^2*COS(C299)^2","v":-0.5775220327470586},{"$f":"SIN($D296)^2-COS($E$182)^2*COS(D299)^2","v":-0.57311673237708172},{"$f":"SIN($D296)^2-COS($E$182)^2*COS(E299)^2","v":-0.56003468408970292},-0.53867337930229864,-0.50968187045149238,-0.47394104986330449,-0.43253688428557924,-0.38672741833787666,-0.33790454946231013,-0.28755173582409976,-0.23719892218588934,-0.18837605331032259,-0.14256658736262032,-0.10116242178489505,-6.5421601196707188E-2,-3.6430092345900944E-2,-1.5068787558496702E-2,-1.9867392711180555E-3,2.4185610988589051E-3,-1.9867392711180451E-3,-1.5068787558496723E-2,-3.6430092345900909E-2,-6.542160119670723E-2,-0.10116242178489511,-0.14256658736262051,-0.18837605331032281,-0.23719892218588934,-0.28755173582409987,-0.3379045494623103,-0.38672741833787688,-0.43253688428557924,-0.47394104986330449,-0.50968187045149249,-0.53867337930229886,-0.56003468408970292,-0.57311673237708172,-0.5775220327470586,-0.57311673237708172,-0.56003468408970292,-0.53867337930229886,-0.50968187045149249,-0.47394104986330449,-0.43253688428557924,-0.38672741833787688,-0.3379045494623103,-0.28755173582409987,-0.23719892218588934,-0.18837605331032281,-0.14256658736262051,-0.10116242178489511,-6.542160119670723E-2,-3.6430092345900909E-2,-1.5068787558496723E-2,-1.9867392711180451E-3,2.4185610988589051E-3,-1.9867392711180555E-3,-1.5068787558496702E-2,-3.6430092345900944E-2,-6.5421601196707188E-2,-0.10116242178489505,-0.14256658736262032,-0.18837605331032259,-0.23719892218588934,-0.28755173582409976,-0.33790454946231013,-0.38672741833787666,{"$f":"SIN($D296)^2-COS($E$182)^2*COS(BQ299)^2","v":-0.43253688428557924},-0.47394104986330449,-0.50968187045149238,-0.53867337930229864,-0.56003468408970292,-0.57311673237708172,-0.5775220327470586]
[null,"alt solar",{"$f":"IF(C298<=$C$297,0,IF(C298>=-$C$297,0,DEGREES(ASIN(((-C301+(C301^2-4*C300*C302)^0.5)/(2*C300))))))","v":0},{"$f":"IF(D298<=$C$297,0,IF(D298>=-$C$297,0,DEGREES(ASIN(((-D301+(D301^2-4*D300*D302)^0.5)/(2*D300))))))","v":0},0,0,0,0,0,0,0,0,0,0,0,0,0,0,0,0,0,1.5180821728781211,7.2683746991425027,12.751976364189883,17.856487763957453,22.510933591449241,26.682951935128301,30.370392560673285,33.591388987359025,36.375542429797889,38.75727809926255,40.771397934735084,42.45039548405709,43.823008178885239,44.913557390825645,45.741745518459275,46.322687664069981,46.667037281329414,46.781121347110187,46.667037281329414,46.322687664069981,45.741745518459275,44.913557390825645,43.823008178885239,42.45039548405709,40.771397934735084,38.75727809926255,36.375542429797889,33.591388987359025,30.370392560673285,26.682951935128301,22.510933591449241,17.856487763957453,12.751976364189883,7.2683746991425027,1.5180821728781211,0,0,0,0,0,0,0,0,0,0,0,{"$f":"IF(BP298<=$C$297,0,IF(BP298>=-$C$297,0,DEGREES(ASIN(((-BP301+(BP301^2-4*BP300*BP302)^0.5)/(2*BP300))))))","v":0},0,0,0,0,0,0,0]
[]
[null,"obst. Inf.",{"$f":"IF($C$173>=C303,0,1)","v":0},{"$f":"IF($D$173>=D303,0,1)","v":0},{"$f":"IF($E$173>=E303,0,1)","v":0},{"$f":"IF($F$173>=F303,0,1)","v":0},{"$f":"IF($G$173>=G303,0,1)","v":0},{"$f":"IF($H$173>=H303,0,1)","v":0},{"$f":"IF($I$173>=I303,0,1)","v":0},{"$f":"IF($J$173>=J303,0,1)","v":0},{"$f":"IF($K$173>=K303,0,1)","v":0},{"$f":"IF($L$173>=L303,0,1)","v":0},{"$f":"IF($M$173>=M303,0,1)","v":0},{"$f":"IF($N$173>=N303,0,1)","v":0},{"$f":"IF($O$173>=O303,0,1)","v":0},{"$f":"IF($P$173>=P303,0,1)","v":0},{"$f":"IF($Q$173>=Q303,0,1)","v":0},{"$f":"IF($R$173>=R303,0,1)","v":0},{"$f":"IF($S$173>=S303,0,1)","v":0},{"$f":"IF($T$173>=T303,0,1)","v":0},{"$f":"IF($U$173>=U303,0,1)","v":0},{"$f":"IF($V$173>=V303,0,1)","v":0},{"$f":"IF($W$173>=W303,0,1)","v":0},{"$f":"IF($X$173>=X303,0,1)","v":1},{"$f":"IF($Y$173>=Y303,0,1)","v":1},{"$f":"IF($Z$173>=Z303,0,1)","v":1},{"$f":"IF($AA$173>=AA303,0,1)","v":1},{"$f":"IF($AB$173>=AB303,0,1)","v":1},{"$f":"IF($AC$173>=AC303,0,1)","v":1},{"$f":"IF($AD$173>=AD303,0,1)","v":1},{"$f":"IF($AE$173>=AE303,0,1)","v":1},{"$f":"IF($AF$173>=AF303,0,1)","v":1},{"$f":"IF($AG$173>=AG303,0,1)","v":1},{"$f":"IF($AH$173>=AH303,0,1)","v":1},{"$f":"IF($AI$173>=AI303,0,1)","v":1},{"$f":"IF($AJ$173>=AJ303,0,1)","v":1},{"$f":"IF($AK$173>=AK303,0,1)","v":1},{"$f":"IF($AL$173>=AL303,0,1)","v":1},{"$f":"IF($AM$173>=AM303,0,1)","v":1},{"$f":"IF($AN$173>=AN303,0,1)","v":1},{"$f":"IF($AO$173>=AO303,0,1)","v":1},{"$f":"IF($AP$173>=AP303,0,1)","v":1},{"$f":"IF($AQ$173>=AQ303,0,1)","v":1},{"$f":"IF($AR$173>=AR303,0,1)","v":1},{"$f":"IF($AS$173>=AS303,0,1)","v":1},{"$f":"IF($AT$173>=AT303,0,1)","v":1},{"$f":"IF($AU$173>=AU303,0,1)","v":1},{"$f":"IF($AV$173>=AV303,0,1)","v":1},{"$f":"IF($AW$173>=AW303,0,1)","v":1},{"$f":"IF($AX$173>=AX303,0,1)","v":1},{"$f":"IF($AY$173>=AY303,0,1)","v":1},{"$f":"IF($AZ$173>=AZ303,0,1)","v":1},{"$f":"IF($BA$173>=BA303,0,1)","v":1},{"$f":"IF($BB$173>=BB303,0,1)","v":1},{"$f":"IF($BC$173>=BC303,0,1)","v":1},{"$f":"IF($BD$173>=BD303,0,1)","v":0},{"$f":"IF($BE$173>=BE303,0,1)","v":0},{"$f":"IF($BF$173>=BF303,0,1)","v":0},{"$f":"IF($BG$173>=BG303,0,1)","v":0},{"$f":"IF($BH$173>=BH303,0,1)","v":0},{"$f":"IF($BI$173>=BI303,0,1)","v":0},{"$f":"IF($BJ$173>=BJ303,0,1)","v":0},{"$f":"IF($BK$173>=BK303,0,1)","v":0},{"$f":"IF($BL$173>=BL303,0,1)","v":0},{"$f":"IF($BM$173>=BM303,0,1)","v":0},{"$f":"IF($BN$173>=BN303,0,1)","v":0},{"$f":"IF($BO$173>=BO303,0,1)","v":0},{"$f":"IF($BP$173>=BP303,0,1)","v":0},{"$f":"IF($BQ$173>=BQ303,0,1)","v":0},{"$f":"IF($BR$173>=BR303,0,1)","v":0},{"$f":"IF($BS$173>=BS303,0,1)","v":0},{"$f":"IF($BT$173>=BT303,0,1)","v":0},{"$f":"IF($BU$173>=BU303,0,1)","v":0},{"$f":"IF($BV$173>=BV303,0,1)","v":0},{"$f":"IF($BW$173>=BW303,0,1)","v":0}]
[null,"obst. Sup",{"$f":"IF(C303>$C$176,0,1)","v":1},{"$f":"IF(D303>$D$176,0,1)","v":1},{"$f":"IF(E303>$E$176,0,1)","v":1},{"$f":"IF(F303>$F$176,0,1)","v":1},{"$f":"IF(G303>$G$176,0,1)","v":1},{"$f":"IF(H303>$H$176,0,1)","v":1},{"$f":"IF(I303>$I$176,0,1)","v":1},{"$f":"IF(J303>$J$176,0,1)","v":1},{"$f":"IF(K303>$K$176,0,1)","v":1},{"$f":"IF(L303>$L$176,0,1)","v":1},{"$f":"IF(M303>$M$176,0,1)","v":1},{"$f":"IF(N303>$N$176,0,1)","v":1},{"$f":"IF(O303>$O$176,0,1)","v":1},{"$f":"IF(P303>$P$176,0,1)","v":1},{"$f":"IF(Q303>$Q$176,0,1)","v":1},{"$f":"IF(R303>$R$176,0,1)","v":1},{"$f":"IF(S303>$S$176,0,1)","v":1},{"$f":"IF(T303>$T$176,0,1)","v":1},{"$f":"IF(U303>$U$176,0,1)","v":1},{"$f":"IF(V303>$V$176,0,1)","v":1},{"$f":"IF(W303>$W$176,0,1)","v":1},{"$f":"IF(X303>$X$176,0,1)","v":1},{"$f":"IF(Y303>$Y$176,0,1)","v":1},{"$f":"IF(Z303>$Z$176,0,1)","v":1},{"$f":"IF(AA303>$AA$176,0,1)","v":1},{"$f":"IF(AB303>$AB$176,0,1)","v":1},{"$f":"IF(AC303>$AC$176,0,1)","v":1},{"$f":"IF(AD303>$AD$176,0,1)","v":1},{"$f":"IF(AE303>$AE$176,0,1)","v":1},{"$f":"IF(AF303>$AF$176,0,1)","v":1},{"$f":"IF(AG303>$AG$176,0,1)","v":1},{"$f":"IF(AH303>$AH$176,0,1)","v":1},{"$f":"IF(AI303>$AI$176,0,1)","v":1},{"$f":"IF(AJ303>$AJ$176,0,1)","v":1},{"$f":"IF(AK303>$AK$176,0,1)","v":1},{"$f":"IF(AL303>$AL$176,0,1)","v":1},{"$f":"IF(AM303>$AM$176,0,1)","v":1},{"$f":"IF(AN303>$AN$176,0,1)","v":1},{"$f":"IF(AO303>$AO$176,0,1)","v":1},{"$f":"IF(AP303>$AP$176,0,1)","v":1},{"$f":"IF(AQ303>$AQ$176,0,1)","v":1},{"$f":"IF(AR303>$AR$176,0,1)","v":1},{"$f":"IF(AS303>$AS$176,0,1)","v":1},{"$f":"IF(AT303>$AT$176,0,1)","v":1},{"$f":"IF(AU303>$AU$176,0,1)","v":1},{"$f":"IF(AV303>$AV$176,0,1)","v":1},{"$f":"IF(AW303>$AW$176,0,1)","v":1},{"$f":"IF(AX303>$AX$176,0,1)","v":1},{"$f":"IF(AY303>$AY$176,0,1)","v":1},{"$f":"IF(AZ303>$AZ$176,0,1)","v":1},{"$f":"IF(BA303>$BA$176,0,1)","v":1},{"$f":"IF(BB303>$BB$176,0,1)","v":1},{"$f":"IF(BC303>$BC$176,0,1)","v":1},{"$f":"IF(BD303>$BD$176,0,1)","v":1},{"$f":"IF(BE303>$BE$176,0,1)","v":1},{"$f":"IF(BF303>$BF$176,0,1)","v":1},{"$f":"IF(BG303>$BG$176,0,1)","v":1},{"$f":"IF(BH303>$BH$176,0,1)","v":1},{"$f":"IF(BI303>$BI$176,0,1)","v":1},{"$f":"IF(BJ303>$BJ$176,0,1)","v":1},{"$f":"IF(BK303>$BK$176,0,1)","v":1},{"$f":"IF(BL303>$BL$176,0,1)","v":1},{"$f":"IF(BM303>$BM$176,0,1)","v":1},{"$f":"IF(BN303>$BN$176,0,1)","v":1},{"$f":"IF(BO303>$BO$176,0,1)","v":1},{"$f":"IF(BP303>$BP$176,0,1)","v":1},{"$f":"IF(BQ303>$BQ$176,0,1)","v":1},{"$f":"IF(BR303>$BR$176,0,1)","v":1},{"$f":"IF(BS303>$BS$176,0,1)","v":1},{"$f":"IF(BT303>$BT$176,0,1)","v":1},{"$f":"IF(BU303>$BU$176,0,1)","v":1},{"$f":"IF(BV303>$BV$176,0,1)","v":1},{"$f":"IF(BW303>$BW$176,0,1)","v":1}]
[null,"obst. TOTAL",{"$f":"C305*C306","v":0},{"$f":"D305*D306","v":0},0,0,0,0,0,0,0,0,0,0,0,0,0,0,0,0,0,0,0,1,1,1,1,1,1,1,1,1,1,1,1,1,1,1,1,1,1,1,1,1,1,1,1,1,1,1,1,1,1,1,1,0,0,0,0,0,0,0,0,0,0,0,0,{"$f":"BP305*BP306","v":0},0,0,0,0,0,0,0]
[]
[null,"Latitud",{"$f":"$C$182","v":40.4},null,{"$f":"PI()*(C309+D309/60)/180","v":0.70511301780570912}]
[null,"Azimut",{"$f":"$I$4","v":15},null,{"$f":"C310*PI()/180","v":0.26179938779914941}]
[null,"Inclinacion",{"$f":"$I$3","v":35},null,{"$f":"C311*PI()/180","v":0.6108652381980153}]
[null,"Coeficiente refexion",{"$f":"M113","v":0}]
[null,"Constante solar extraterrestre (Bo)",{"$f":"$G$182","v":1367},"W/m2"]
[null,"Dia del año",{"$f":"31+28+15","v":74}]
[null,"Declinacion . radianes",{"$f":"23.45*PI()/180*SIN(2*PI()*((C314+284)/365))","v":-4.9198713707109758E-2}]
[null,"Ángulo puesta de sol. Radianes. Ws",{"$f":"ACOS(-TAN(C315)*TAN($E$199))","v":1.5288788490004492}]
[null,"Distancia sol - tierra. Bo",{"$f":"1+0.033*COS((2*PI()*C314/365)*PI()/180)","v":1.0329918443564325},"expresion Duffi y Beckman"]
[null,"Factor angulo solar",{"$f":"(SIN(C315)*C316*SIN(E309))+COS(E309)*COS(C315)*SIN(C316)","v":0.71121752026995833}]
[null,"Ho. Irradiacion Extraterreste sobre sup. Horizontal",{"$f":"+($C$203*24/PI())*C317*C318","v":7672.364423858824}]
[null,"H1",{"$f":"+(3.6*C313*24/PI())*(1+0.033*COS(PI()/180*(360*C314/365)))","v":37958.210821170331}]
[null,"H2",{"$f":"COS(E309)*COS(C315)*SIN(C316)","v":0.75994870402354031}]
[null,"H3",{"$f":"+SIN(C315)*C316*SIN(E309)","v":-4.8731183753581937E-2}]
[null,"H horizontal diaria (W/m2 dia) s/ localidad",{"$f":"E6","v":4656.7166666666662},"W/m2 dia"]
[null,"Indice de claridad Kt",{"$f":"C323/C319","v":0.60694675192768877}]
[null,"Fraccion difusa diaria promedio",{"$f":"0.775+0.347*(C316-(PI()/2))-(0.505+0.261*(C316-(PI()/2)))*COS(2*C324-1.8)","v":0.34885335265563017},"Correlacion Collares-Pereira "]
[null,"Factor A Lui y Jordan",{"$f":"0.409+0.5016*SIN(C316-60*PI()/180)","v":0.64137614411203392},"parametros 5 estaciones EEUU"]
[null,"Factor B Lui y Jordan",{"$f":"0.6609-0.4767*SIN(C316-60*PI()/180)","v":0.44005927452510651},"parametros 5 estaciones EEUU"]
[]
[null,"AZIMUT",-180,{"$f":"C329+5","v":-175},{"$f":"D329+5","v":-170},-165,-160,-155,-150,-145,-140,-135,-130,-125,-120,-115,-110,-105,-100,-95,-90,-85,-80,-75,-70,-65,-60,-55,-50,-45,-40,-35,-30,-25,-20,-15,-10,-5,0,5,10,15,20,25,30,35,40,45,50,55,60,65,70,75,80,85,90,95,100,105,110,115,120,125,130,135,140,145,{"$f":"BP329+5","v":150},155,160,165,170,175,180]
[null,"Az radianes",{"$f":"C329*PI()/180","v":-3.1415926535897931},{"$f":"D329*PI()/180","v":-3.0543261909900763},{"$f":"E329*PI()/180","v":-2.9670597283903604},{"$f":"F329*PI()/180","v":-2.8797932657906435},-2.7925268031909272,-2.7052603405912108,-2.6179938779914944,-2.5307274153917776,-2.4434609527920612,-2.3561944901923448,-2.2689280275926285,-2.1816615649929116,-2.0943951023931953,-2.0071286397934789,-1.9198621771937625,-1.8325957145940461,-1.7453292519943295,-1.6580627893946132,-1.5707963267948966,-1.4835298641951802,-1.3962634015954636,-1.3089969389957472,-1.2217304763960306,-1.1344640137963142,-1.0471975511965976,-0.95993108859688125,-0.87266462599716477,-0.78539816339744828,-0.69813170079773179,-0.6108652381980153,-0.52359877559829882,-0.43633231299858238,-0.3490658503988659,-0.26179938779914941,-0.17453292519943295,-8.7266462599716474E-2,0,8.7266462599716474E-2,0.17453292519943295,0.26179938779914941,0.3490658503988659,0.43633231299858238,0.52359877559829882,0.6108652381980153,0.69813170079773179,0.78539816339744828,0.87266462599716477,0.95993108859688125,1.0471975511965976,1.1344640137963142,1.2217304763960306,1.3089969389957472,1.3962634015954636,1.4835298641951802,1.5707963267948966,1.6580627893946132,1.7453292519943295,1.8325957145940461,1.9198621771937625,2.0071286397934789,2.0943951023931953,2.1816615649929116,2.2689280275926285,2.3561944901923448,2.4434609527920612,2.5307274153917776,2.6179938779914944,{"$f":"BR329*PI()/180","v":2.7052603405912108},2.7925268031909272,2.8797932657906435,2.9670597283903604,3.0543261909900763,3.1415926535897931]
[null,"alt solar (grados)",{"$f":"C303","v":0},{"$f":"D303","v":0},{"$f":"E303","v":0},0,0,0,0,0,0,0,0,0,0,0,0,0,0,0,0,1.5180821728781211,7.2683746991425027,12.751976364189883,17.856487763957453,22.510933591449241,26.682951935128301,30.370392560673285,33.591388987359025,36.375542429797889,38.75727809926255,40.771397934735084,42.45039548405709,43.823008178885239,44.913557390825645,45.741745518459275,46.322687664069981,46.667037281329414,46.781121347110187,46.667037281329414,46.322687664069981,45.741745518459275,44.913557390825645,43.823008178885239,42.45039548405709,40.771397934735084,38.75727809926255,36.375542429797889,33.591388987359025,30.370392560673285,26.682951935128301,22.510933591449241,17.856487763957453,12.751976364189883,7.2683746991425027,1.5180821728781211,0,0,0,0,0,0,0,0,0,0,0,0,{"$f":"BQ303","v":0},0,0,0,0,0,0]
[null,"ang horario (grados)",{"$f":"DEGREES(ACOS((SIN(C331*PI()/180)-(SIN($E309)*SIN($C315)))/(COS($E309)*COS($C315))))","v":87.598305434544827},{"$f":"DEGREES(ACOS((SIN(D331*PI()/180)-(SIN($E309)*SIN($C315)))/(COS($E309)*COS($C315))))","v":87.598305434544827},87.598305434544827,87.598305434544827,87.598305434544827,87.598305434544827,87.598305434544827,87.598305434544827,87.598305434544827,87.598305434544827,87.598305434544827,87.598305434544827,87.598305434544827,87.598305434544827,87.598305434544827,87.598305434544827,87.598305434544827,87.598305434544827,87.598305434544827,85.599059305412112,77.98076441852082,70.603391532028937,63.573871150016437,56.957603596348051,50.781058601673941,45.03999067492083,39.709207974117803,34.751247516642678,30.122882939045162,25.779427816379417,21.67725788304838,17.775067834640382,14.034304377420293,10.419098739566667,6.8959135037263151,3.4330366734285853,0,{"$f":"-DEGREES(ACOS((SIN(AN331*PI()/180)-(SIN($E309)*SIN($C315)))/(COS($E309)*COS($C315))))","v":-3.4330366734285853},{"$f":"-DEGREES(ACOS((SIN(AO331*PI()/180)-(SIN($E309)*SIN($C315)))/(COS($E309)*COS($C315))))","v":-6.8959135037263151},-10.419098739566667,-14.034304377420293,-17.775067834640382,-21.67725788304838,-25.779427816379417,-30.122882939045162,-34.751247516642678,-39.709207974117803,-45.03999067492083,-50.781058601673941,-56.957603596348051,-63.573871150016437,-70.603391532028937,-77.98076441852082,-85.599059305412112,-87.598305434544827,-87.598305434544827,-87.598305434544827,-87.598305434544827,-87.598305434544827,-87.598305434544827,-87.598305434544827,-87.598305434544827,-87.598305434544827,-87.598305434544827,-87.598305434544827,-87.598305434544827,-87.598305434544827,-87.598305434544827,-87.598305434544827,-87.598305434544827,-87.598305434544827,-87.598305434544827,-87.598305434544827]
[null,"Factor inclinación",{"$f":"-(IF(C331=0,0,(SIN($C315)*SIN($E309)*COS($E311)-SIN($C315)*COS($E309)*SIN($E311)*COS($E310)+COS($C315)*COS($E309)*COS($E311)*COS(C332*PI()/180)+COS($C315)*SIN($E309)*SIN($E311)*COS(C332*PI()/180)*COS($E310)+COS($C315)*SIN($E311)*SIN(C332*PI()/180)*SIN($E310))/(COS($C315)*COS($E309)*COS(C332*PI()/180)+SIN($C315)*SIN($E309))))","v":0},{"$f":"-(IF(D331=0,0,(SIN($C315)*SIN($E309)*COS($E311)-SIN($C315)*COS($E309)*SIN($E311)*COS($E310)+COS($C315)*COS($E309)*COS($E311)*COS(D332*PI()/180)+COS($C315)*SIN($E309)*SIN($E311)*COS(D332*PI()/180)*COS($E310)+COS($C315)*SIN($E311)*SIN(D332*PI()/180)*SIN($E310))/(COS($C315)*COS($E309)*COS(D332*PI()/180)+SIN($C315)*SIN($E309))))","v":0},0,0,0,0,0,0,0,0,0,0,0,0,0,0,0,0,0,-8.2214863456105078,-2.7197332851112219,-2.0863705293896846,-1.8403754601537774,-1.7087629980544985,-1.626155795061254,-1.5689531733310205,-1.5265582243105154,-1.4935050983701594,-1.4666867418821938,-1.4442033548036657,-1.4248241033687579,-1.4077119438051067,-1.3922725885619556,-1.3780665453989625,-1.3647551101509099,-1.3520654419176132,-1.3397666350780035,-1.3276520898439279,-1.3155252012320406,-1.303186200793732,-1.2904182198312968,-1.2769703738948865,-1.2625347642602391,-1.2467123219052432,-1.2289583480321835,-1.2084899615916,-1.1841181970681365,-1.1539199444079058,-1.1145359180209655,-1.0594792046542223,-0.97432837246458326,-0.81915204428899213,-0.42719886883023589,2.9391115755292776,0,0,0,0,0,0,0,0,0,0,0,{"$f":"-(IF(BP331=0,0,(SIN($C315)*SIN($E309)*COS($E311)-SIN($C315)*COS($E309)*SIN($E311)*COS($E310)+COS($C315)*COS($E309)*COS($E311)*COS(BP332*PI()/180)+COS($C315)*SIN($E309)*SIN($E311)*COS(BP332*PI()/180)*COS($E310)+COS($C315)*SIN($E311)*SIN(BP332*PI()/180)*SIN($E310))/(COS($C315)*COS($E309)*COS(BP332*PI()/180)+SIN($C315)*SIN($E309))))","v":0},0,0,0,0,0,0,0]
[null,"Correccion valores negativos",{"$f":"ABS(C333)","v":0},{"$f":"ABS(D333)","v":0},0,0,0,0,0,0,0,0,0,0,0,0,0,0,0,0,0,8.2214863456105078,2.7197332851112219,2.0863705293896846,1.8403754601537774,1.7087629980544985,1.626155795061254,1.5689531733310205,1.5265582243105154,1.4935050983701594,1.4666867418821938,1.4442033548036657,1.4248241033687579,1.4077119438051067,1.3922725885619556,1.3780665453989625,1.3647551101509099,1.3520654419176132,1.3397666350780035,1.3276520898439279,1.3155252012320406,1.303186200793732,1.2904182198312968,1.2769703738948865,1.2625347642602391,1.2467123219052432,1.2289583480321835,1.2084899615916,1.1841181970681365,1.1539199444079058,1.1145359180209655,1.0594792046542223,0.97432837246458326,0.81915204428899213,0.42719886883023589,2.9391115755292776,0,0,0,0,0,0,0,0,0,0,0,{"$f":"ABS(BP333)","v":0},0,0,0,0,0,0,0]
[null,"Radiacion H GLOBAL (distribucion Lui y Jordan)",{"$f":"$C323*((PI()/24*($C326+$C327*COS(C332*PI()/180))*(COS(C332*PI()/180)-COS($C316)))/(SIN($C316)-$C316*COS($C316)))","v":0},{"$f":"$C323*((PI()/24*($C326+$C327*COS(D332*PI()/180))*(COS(D332*PI()/180)-COS($C316)))/(SIN($C316)-$C316*COS($C316)))","v":0},0,0,0,0,0,0,0,0,0,0,0,0,0,0,0,0,0,15.329726860189457,79.483605289526054,148.98490478058983,220.02730976056424,289.19488362942127,353.93360328558299,{"$f":"$C323*((PI()/24*($C326+$C327*COS(AB332*PI()/180))*(COS(AB332*PI()/180)-COS($C316)))/(SIN($C316)-$C316*COS($C316)))","v":412.66649085169223},{"$f":"$C323*((PI()/24*($C326+$C327*COS(AC332*PI()/180))*(COS(AC332*PI()/180)-COS($C316)))/(SIN($C316)-$C316*COS($C316)))","v":464.66237536198031},509.80313478863275,548.35190748405921,580.76925060011513,607.5861380823477,629.32490513528239,646.45455571265791,659.36817740947447,668.37331373932886,673.68913772202438,675.4465754531102,673.68913772202438,668.37331373932886,659.36817740947447,646.45455571265791,629.32490513528239,607.5861380823477,580.76925060011513,548.35190748405921,509.80313478863275,464.66237536198031,412.66649085169223,353.93360328558299,289.19488362942127,220.02730976056424,148.98490478058983,79.483605289526054,15.329726860189457,0,0,0,0,0,0,0,0,0,0,0,0,0,0,0,0,0,0,0]
[null,"Radiacion H DIFUSA (distribucion Lui y Jordan)",{"$f":"$C325*$C323*((PI()/24*(COS(C332*PI()/180)-COS($C316)))/(SIN($C316)-$C316*COS($C316)))","v":0},{"$f":"$C325*$C323*((PI()/24*(COS(D332*PI()/180)-COS($C316)))/(SIN($C316)-$C316*COS($C316)))","v":0},0,0,0,0,0,0,0,0,0,0,0,0,0,0,0,0,0,7.9210131324791977,37.827541853782243,65.996725051523953,91.680929468981958,114.47181928023276,134.26309603242669,151.16653320340936,165.42196183174988,177.32448274779122,187.17544130194099,195.25422175482075,201.80483254969738,207.03159530175978,211.09973544662506,214.13816154340296,216.242838996567,217.47989241758876,217.88800174820636,217.47989241758876,216.242838996567,214.13816154340296,211.09973544662506,207.03159530175978,201.80483254969738,195.25422175482075,187.17544130194099,177.32448274779122,165.42196183174988,151.16653320340936,134.26309603242669,114.47181928023276,91.680929468981958,65.996725051523953,37.827541853782243,7.9210131324791977,0,0,0,0,0,0,0,0,0,0,0,{"$f":"$C325*$C323*((PI()/24*(COS(BP332*PI()/180)-COS($C316)))/(SIN($C316)-$C316*COS($C316)))","v":0},0,0,0,0,0,0,0]
[null,"Total Directa",{"$f":"C$54*IF((C335-C336)*C334<0,0,(C335-C336)*C334)","v":0},{"$f":"D$54*IF((D335-D336)*D334<0,0,(D335-D336)*D334)","v":0},0,0,0,0,0,0,0,0,0,0,0,0,0,0,0,0,0,0,0,173.14409247441748,236.20552868819243,298.56030726658844,357.21846837376535,410.28118837820085,456.80791432065286,496.55856192223507,529.73273442917537,556.76209798560615,578.16698481936248,594.46733604164024,606.13258255471442,613.55658987248239,617.04737586014119,616.82475485944258,613.02171064370964,605.6871579345551,594.78903376910989,580.21761285583875,561.78979216266828,539.25604575142245,512.31300492187677,480.62633674108378,443.87083322727784,401.79711343486355,354.33601895934004,301.75001659217628,244.83067046352772,185.11545325142674,125.05151982121782,67.979937076886614,17.795423179670305,21.775036276895886,0,0,0,0,0,0,0,0,0,0,0,{"$f":"BP$54*IF((BP335-BP336)*BP334<0,0,(BP335-BP336)*BP334)","v":0},0,0,0,0,0,0,0]
[null,"Total Difusa (plano incl)",{"$f":"C$54*C336*(1+COS($E311))/2","v":0},{"$f":"D$54*D336*(1+COS($E311))/2","v":0},0,0,0,0,0,0,0,0,0,0,0,0,0,0,0,0,0,0,0,60.029038646929159,83.390775132906711,104.12082202855774,122.12249280997912,137.49745395253095,150.4638500182617,161.29009764656624,170.25029334256007,177.59855833066916,183.55683684008983,188.31097491280377,192.01125764329669,194.77493716598394,196.68930131173011,197.8144954416033,198.18570190314654,197.8144954416033,196.68930131173011,194.77493716598394,192.01125764329669,188.31097491280377,183.55683684008983,177.59855833066916,170.25029334256007,161.29009764656624,150.4638500182617,137.49745395253095,122.12249280997912,104.12082202855774,83.390775132906711,60.029038646929159,34.407025046867687,7.2047636163947422,0,0,0,0,0,0,0,0,0,0,0,{"$f":"BP$54*BP336*(1+COS($E311))/2","v":0},0,0,0,0,0,0,0]
[null,"Total Reflejada (plano incl)",{"$f":"C$54*C335*$C312*(1-COS($E311))/2","v":0},{"$f":"D$54*D335*$C312*(1-COS($E311))/2","v":0},0,0,0,0,0,0,0,0,0,0,0,0,0,0,0,0,0,0,0,0,0,0,0,0,0,0,0,0,0,0,0,0,0,0,0,0,0,0,0,0,0,0,0,0,0,0,0,0,0,0,0,0,0,0,0,0,0,0,0,0,0,0,0,{"$f":"BP$54*BP335*$C312*(1-COS($E311))/2","v":0},0,0,0,0,0,0,0]
[null,"TOTAL (W/m2)",{"$f":"C337+C338+C339","v":0},0,0,0,0,0,0,0,0,0,0,0,0,0,0,0,0,0,0,0,0,233.17313112134664,319.59630382109913,402.68112929514621,479.34096118374447,547.77864233073183,607.27176433891452,657.84865956880128,699.98302777173546,734.36065631627525,761.72382165945237,782.77831095444401,798.14384019801105,808.33152703846633,813.73667717187129,814.63925030104588,811.20741254685618,803.5016533761584,791.47833508084,774.99255002182269,753.80104980596502,727.56702066422622,695.86984176196665,658.22489507175294,614.12112656983788,563.08721108142981,504.7998689776017,439.2474705447072,366.95316327350685,289.23627527998451,208.44229495412452,128.00897572381578,52.202448226537996,28.979799893290629,0,0,0,0,0,0,0,0,0,0,{"$f":"BO337+BO338+BO339","v":0},0,0,0,0,0,0,0,0]
[null,"Radiación Directa recibida",{"$f":"C337*C307","v":0},{"$f":"D337*D307","v":0},0,0,0,0,0,0,0,0,0,0,0,0,0,0,0,0,0,0,0,173.14409247441748,236.20552868819243,298.56030726658844,357.21846837376535,410.28118837820085,456.80791432065286,496.55856192223507,529.73273442917537,556.76209798560615,578.16698481936248,594.46733604164024,606.13258255471442,613.55658987248239,617.04737586014119,616.82475485944258,613.02171064370964,605.6871579345551,594.78903376910989,580.21761285583875,561.78979216266828,539.25604575142245,512.31300492187677,480.62633674108378,443.87083322727784,401.79711343486355,354.33601895934004,301.75001659217628,244.83067046352772,185.11545325142674,125.05151982121782,67.979937076886614,17.795423179670305,0,0,0,0,0,0,0,0,0,0,0,0,{"$f":"BP337*BP307","v":0},0,0,0,0,0,0,0]
[null,"Radiación Global recibida",{"$f":"C341+C339+C338","v":0},0,0,0,0,0,0,0,0,0,0,0,0,0,0,0,0,0,0,0,0,233.17313112134664,319.59630382109913,402.68112929514621,479.34096118374447,547.77864233073183,607.27176433891452,657.84865956880128,699.98302777173546,734.36065631627525,761.72382165945237,782.77831095444401,798.14384019801105,808.33152703846633,813.73667717187129,814.63925030104588,811.20741254685618,803.5016533761584,791.47833508084,774.99255002182269,753.80104980596502,727.56702066422622,695.86984176196665,658.22489507175294,614.12112656983788,563.08721108142981,504.7998689776017,439.2474705447072,366.95316327350685,289.23627527998451,208.44229495412452,128.00897572381578,52.202448226537996,7.2047636163947422,0,0,0,0,0,0,0,0,0,0,{"$f":"BO341+BO339+BO338","v":0},0,0,0,0,0,0,0,0]
[null,"Total Directa recibida",{"$f":"SUM(C341:BW341)","v":13771.694198633266},"W/m2"]
[null,"Total Directa disponible",{"$f":"SUM(C337:BW337)","v":13793.469234910162},"W/m2"]
[null,"Obstruccion directa",{"$f":"IF(C343=0,1,1-(C343/C344))","v":1.578648265063376E-3}]
[null,"Total global recibida",{"$f":"SUM(C342:BW342)","v":18651.33405964862}]
[null,"Total global ",{"$f":"SUM(C340:BW340)","v":18673.109095925516},"W/m2","% difusa","Fd"]
[null,"Obstrucción global",{"$f":"1-(C346/C347)","v":1.1661173383090695E-3},null,{"$f":"1-(C344/C347)","v":0.26131908917514401},{"$f":"C325","v":0.34885335265563017}]
[]
[null,"ABRIL"]
[null,"Declinacion dia tipo",{"$f":"D351*180/PI()","v":9.4148933468800546},{"$f":"C370","v":0.16432088762716554}]
[null,"ocaso",{"$f":"-DEGREES(ACOS((SIN(D352*PI()/180)*SIN($E$182)-SIN($C$351*PI()/180))/(COS(D352*PI()/180)*COS($E$182))))","v":-102.40410028892309},0]
[null,"AZIMUT",-180,{"$f":"C353+5","v":-175},{"$f":"D353+5","v":-170},-165,-160,-155,-150,-145,-140,-135,-130,-125,-120,-115,-110,-105,-100,-95,-90,-85,-80,-75,-70,-65,-60,-55,-50,-45,-40,-35,-30,-25,-20,-15,-10,-5,0,5,10,15,20,25,30,35,40,45,50,55,60,65,70,75,80,85,90,95,100,105,110,115,120,125,130,135,140,145,{"$f":"BP353+5","v":150},155,160,165,170,175,180]
[null,"Az radianes",{"$f":"C353*PI()/180","v":-3.1415926535897931},{"$f":"D353*PI()/180","v":-3.0543261909900763},{"$f":"E353*PI()/180","v":-2.9670597283903604},{"$f":"F353*PI()/180","v":-2.8797932657906435},-2.7925268031909272,-2.7052603405912108,-2.6179938779914944,-2.5307274153917776,-2.4434609527920612,-2.3561944901923448,-2.2689280275926285,-2.1816615649929116,-2.0943951023931953,-2.0071286397934789,-1.9198621771937625,-1.8325957145940461,-1.7453292519943295,-1.6580627893946132,-1.5707963267948966,-1.4835298641951802,-1.3962634015954636,-1.3089969389957472,-1.2217304763960306,-1.1344640137963142,-1.0471975511965976,-0.95993108859688125,-0.87266462599716477,-0.78539816339744828,-0.69813170079773179,-0.6108652381980153,-0.52359877559829882,-0.43633231299858238,-0.3490658503988659,-0.26179938779914941,-0.17453292519943295,-8.7266462599716474E-2,0,8.7266462599716474E-2,0.17453292519943295,0.26179938779914941,0.3490658503988659,0.43633231299858238,0.52359877559829882,0.6108652381980153,0.69813170079773179,0.78539816339744828,0.87266462599716477,0.95993108859688125,1.0471975511965976,1.1344640137963142,1.2217304763960306,1.3089969389957472,1.3962634015954636,1.4835298641951802,1.5707963267948966,1.6580627893946132,1.7453292519943295,1.8325957145940461,1.9198621771937625,2.0071286397934789,2.0943951023931953,2.1816615649929116,2.2689280275926285,2.3561944901923448,2.4434609527920612,2.5307274153917776,2.6179938779914944,{"$f":"BR353*PI()/180","v":2.7052603405912108},2.7925268031909272,2.8797932657906435,2.9670597283903604,3.0543261909900763,3.1415926535897931]
[null,"a",{"$f":"SIN($E$182)^2+COS(C354)^2*COS($E$182)^2","v":1},{"$f":"SIN($E$182)^2+COS(D354)^2*COS($E$182)^2","v":0.99559469963002312},{"$f":"SIN($E$182)^2+COS(E354)^2*COS($E$182)^2","v":0.98251265134264432},0.96115134655524004,0.93215983770443378,0.89641901711624594,0.85501485153852075,0.80920538559081812,0.76038251671525159,0.71002970307704127,0.65967688943883074,0.61085402056326399,0.5650445546155618,0.5236403890378365,0.48789956844964866,0.4589080595988424,0.43754675481143818,0.42446470652405949,0.42005940615408255,0.42446470652405949,0.43754675481143818,0.45890805959884234,0.48789956844964866,0.52364038903783661,0.56504455461556202,0.61085402056326421,0.65967688943883074,0.71002970307704127,0.76038251671525181,0.80920538559081834,0.85501485153852075,0.89641901711624594,0.93215983770443389,0.96115134655524026,0.98251265134264432,0.99559469963002312,1,0.99559469963002312,0.98251265134264432,0.96115134655524026,0.93215983770443389,0.89641901711624594,0.85501485153852075,0.80920538559081834,0.76038251671525181,0.71002970307704127,0.65967688943883074,0.61085402056326421,0.56504455461556202,0.52364038903783661,0.48789956844964866,0.45890805959884234,0.43754675481143818,0.42446470652405949,0.42005940615408255,0.42446470652405949,0.43754675481143818,0.4589080595988424,0.48789956844964866,0.5236403890378365,0.5650445546155618,0.61085402056326399,0.65967688943883074,0.71002970307704127,0.76038251671525159,0.80920538559081812,{"$f":"SIN($E$182)^2+COS(BQ354)^2*COS($E$182)^2","v":0.85501485153852075},0.89641901711624594,0.93215983770443378,0.96115134655524004,0.98251265134264432,0.99559469963002312,1]
[null,"b",{"$f":"-2*SIN($E$182)*SIN($D351)","v":-0.21204202332414074},{"$f":"-2*SIN($E$182)*SIN($D351)","v":-0.21204202332414074},{"$f":"-2*SIN($E$182)*SIN($D351)","v":-0.21204202332414074},-0.21204202332414074,-0.21204202332414074,-0.21204202332414074,-0.21204202332414074,-0.21204202332414074,-0.21204202332414074,-0.21204202332414074,-0.21204202332414074,-0.21204202332414074,-0.21204202332414074,-0.21204202332414074,-0.21204202332414074,-0.21204202332414074,-0.21204202332414074,-0.21204202332414074,-0.21204202332414074,-0.21204202332414074,-0.21204202332414074,-0.21204202332414074,-0.21204202332414074,-0.21204202332414074,-0.21204202332414074,-0.21204202332414074,-0.21204202332414074,-0.21204202332414074,-0.21204202332414074,-0.21204202332414074,-0.21204202332414074,-0.21204202332414074,-0.21204202332414074,-0.21204202332414074,-0.21204202332414074,-0.21204202332414074,-0.21204202332414074,-0.21204202332414074,-0.21204202332414074,-0.21204202332414074,-0.21204202332414074,-0.21204202332414074,-0.21204202332414074,-0.21204202332414074,-0.21204202332414074,-0.21204202332414074,-0.21204202332414074,-0.21204202332414074,-0.21204202332414074,-0.21204202332414074,-0.21204202332414074,-0.21204202332414074,-0.21204202332414074,-0.21204202332414074,-0.21204202332414074,-0.21204202332414074,-0.21204202332414074,-0.21204202332414074,-0.21204202332414074,-0.21204202332414074,-0.21204202332414074,-0.21204202332414074,-0.21204202332414074,-0.21204202332414074,-0.21204202332414074,-0.21204202332414074,{"$f":"-2*SIN($E$182)*SIN($D351)","v":-0.21204202332414074},-0.21204202332414074,-0.21204202332414074,-0.21204202332414074,-0.21204202332414074,-0.21204202332414074,-0.21204202332414074]
[null,"c",{"$f":"SIN($D351)^2-COS($E$182)^2*COS(C354)^2","v":-0.55318139086374274},{"$f":"SIN($D351)^2-COS($E$182)^2*COS(D354)^2","v":-0.54877609049376586},{"$f":"SIN($D351)^2-COS($E$182)^2*COS(E354)^2","v":-0.53569404220638706},-0.51433273741898278,-0.48534122856817652,-0.44960040797998868,-0.40819624240226343,-0.36238677645456085,-0.31356390757899433,-0.26321109394078396,-0.21285828030257353,-0.16403541142700678,-0.11822594547930453,-7.6821779901579262E-2,-4.1080959313391396E-2,-1.2089450462585149E-2,9.2718543248190947E-3,2.2353902612197742E-2,2.6759202982174702E-2,2.2353902612197753E-2,9.2718543248190739E-3,-1.2089450462585114E-2,-4.1080959313391438E-2,-7.6821779901579318E-2,-0.11822594547930472,-0.16403541142700701,-0.21285828030257353,-0.26321109394078407,-0.31356390757899449,-0.36238677645456108,-0.40819624240226343,-0.44960040797998868,-0.48534122856817663,-0.514332737418983,-0.53569404220638706,-0.54877609049376586,-0.55318139086374274,-0.54877609049376586,-0.53569404220638706,-0.514332737418983,-0.48534122856817663,-0.44960040797998868,-0.40819624240226343,-0.36238677645456108,-0.31356390757899449,-0.26321109394078407,-0.21285828030257353,-0.16403541142700701,-0.11822594547930472,-7.6821779901579318E-2,-4.1080959313391438E-2,-1.2089450462585114E-2,9.2718543248190739E-3,2.2353902612197753E-2,2.6759202982174702E-2,2.2353902612197742E-2,9.2718543248190947E-3,-1.2089450462585149E-2,-4.1080959313391396E-2,-7.6821779901579262E-2,-0.11822594547930453,-0.16403541142700678,-0.21285828030257353,-0.26321109394078396,-0.31356390757899433,-0.36238677645456085,{"$f":"SIN($D351)^2-COS($E$182)^2*COS(BQ354)^2","v":-0.40819624240226343},-0.44960040797998868,-0.48534122856817652,-0.51433273741898278,-0.53569404220638706,-0.54877609049376586,-0.55318139086374274]
[null,"alt solar",{"$f":"IF(C353<=$C$352,0,IF(C353>=-$C$352,0,$U$358-(DEGREES(ASIN(((-C356+(C356^2-4*C355*C357)^0.5)/(2*C355))))-$U$358)))","v":0},0,0,0,0,0,0,0,0,0,0,0,0,0,0,0,3.3886843399323432,8.8498971586026229,{"$f":"IF(U353<=$C$352,0,IF(U353>=-$C$352,0,DEGREES(ASIN(((-U356/(2*U355)))))))","v":14.619297938370392},{"$f":"IF(V353<=$C$352,0,IF(V353>=-$C$352,0,DEGREES(ASIN(((-V356+(V356^2-4*V355*V357)^0.5)/(2*V355))))))","v":20.388698718138151},25.849911536808456,30.888775693208519,35.437805480443629,39.47293991781649,43.003328699954579,46.059296664129839,48.681912566456859,50.915471102949169,52.802797588804502,54.382707993063299,55.688893062989749,56.749641502053969,57.588000120071079,58.22211979914286,58.665641195648135,58.928040359614947,59.014893346880051,58.928040359614947,58.665641195648135,58.22211979914286,57.588000120071079,56.749641502053969,55.688893062989749,54.382707993063299,52.802797588804502,50.915471102949169,48.681912566456859,46.059296664129839,43.003328699954579,39.47293991781649,35.437805480443629,30.888775693208519,25.849911536808456,20.388698718138151,{"$f":"IF(BE353<=$C$352,0,IF(BE353>=-$C$352,0,DEGREES(ASIN(((-BE356/(2*BE355)))))))","v":14.619297938370392},{"$f":"IF(BF353<=$C$352,0,IF(BF353>=-$C$352,0,$BE$358-(DEGREES(ASIN(((-BF356+(BF356^2-4*BF355*BF357)^0.5)/(2*BF355))))-$BE$358)))","v":8.8498971586026229},{"$f":"IF(BG353<=$C$352,0,IF(BG353>=-$C$352,0,$BE$358-(DEGREES(ASIN(((-BG356+(BG356^2-4*BG355*BG357)^0.5)/(2*BG355))))-$BE$358)))","v":3.3886843399323432},{"$f":"IF(BH353<=$C$352,0,IF(BH353>=-$C$352,0,$BE$358-(DEGREES(ASIN(((-BH356+(BH356^2-4*BH355*BH357)^0.5)/(2*BH355))))-$BE$358)))","v":0},0,0,0,0,0,0,0,0,0,0,0,0,0,0,0]
[]
[null,"obst. Inf.",{"$f":"IF($C$173>=C358,0,1)","v":0},{"$f":"IF($D$173>=D358,0,1)","v":0},{"$f":"IF($E$173>=E358,0,1)","v":0},{"$f":"IF($F$173>=F358,0,1)","v":0},{"$f":"IF($G$173>=G358,0,1)","v":0},{"$f":"IF($H$173>=H358,0,1)","v":0},{"$f":"IF($I$173>=I358,0,1)","v":0},{"$f":"IF($J$173>=J358,0,1)","v":0},{"$f":"IF($K$173>=K358,0,1)","v":0},{"$f":"IF($L$173>=L358,0,1)","v":0},{"$f":"IF($M$173>=M358,0,1)","v":0},{"$f":"IF($N$173>=N358,0,1)","v":0},{"$f":"IF($O$173>=O358,0,1)","v":0},{"$f":"IF($P$173>=P358,0,1)","v":0},{"$f":"IF($Q$173>=Q358,0,1)","v":0},{"$f":"IF($R$173>=R358,0,1)","v":0},{"$f":"IF($S$173>=S358,0,1)","v":0},{"$f":"IF($T$173>=T358,0,1)","v":0},{"$f":"IF($U$173>=U358,0,1)","v":0},{"$f":"IF($V$173>=V358,0,1)","v":0},{"$f":"IF($W$173>=W358,0,1)","v":0},{"$f":"IF($X$173>=X358,0,1)","v":1},{"$f":"IF($Y$173>=Y358,0,1)","v":1},{"$f":"IF($Z$173>=Z358,0,1)","v":1},{"$f":"IF($AA$173>=AA358,0,1)","v":1},{"$f":"IF($AB$173>=AB358,0,1)","v":1},{"$f":"IF($AC$173>=AC358,0,1)","v":1},{"$f":"IF($AD$173>=AD358,0,1)","v":1},{"$f":"IF($AE$173>=AE358,0,1)","v":1},{"$f":"IF($AF$173>=AF358,0,1)","v":1},{"$f":"IF($AG$173>=AG358,0,1)","v":1},{"$f":"IF($AH$173>=AH358,0,1)","v":1},{"$f":"IF($AI$173>=AI358,0,1)","v":1},{"$f":"IF($AJ$173>=AJ358,0,1)","v":1},{"$f":"IF($AK$173>=AK358,0,1)","v":1},{"$f":"IF($AL$173>=AL358,0,1)","v":1},{"$f":"IF($AM$173>=AM358,0,1)","v":1},{"$f":"IF($AN$173>=AN358,0,1)","v":1},{"$f":"IF($AO$173>=AO358,0,1)","v":1},{"$f":"IF($AP$173>=AP358,0,1)","v":1},{"$f":"IF($AQ$173>=AQ358,0,1)","v":1},{"$f":"IF($AR$173>=AR358,0,1)","v":1},{"$f":"IF($AS$173>=AS358,0,1)","v":1},{"$f":"IF($AT$173>=AT358,0,1)","v":1},{"$f":"IF($AU$173>=AU358,0,1)","v":1},{"$f":"IF($AV$173>=AV358,0,1)","v":1},{"$f":"IF($AW$173>=AW358,0,1)","v":1},{"$f":"IF($AX$173>=AX358,0,1)","v":1},{"$f":"IF($AY$173>=AY358,0,1)","v":1},{"$f":"IF($AZ$173>=AZ358,0,1)","v":1},{"$f":"IF($BA$173>=BA358,0,1)","v":1},{"$f":"IF($BB$173>=BB358,0,1)","v":1},{"$f":"IF($BC$173>=BC358,0,1)","v":1},{"$f":"IF($BD$173>=BD358,0,1)","v":1},{"$f":"IF($BE$173>=BE358,0,1)","v":1},{"$f":"IF($BF$173>=BF358,0,1)","v":1},{"$f":"IF($BG$173>=BG358,0,1)","v":0},{"$f":"IF($BH$173>=BH358,0,1)","v":0},{"$f":"IF($BI$173>=BI358,0,1)","v":0},{"$f":"IF($BJ$173>=BJ358,0,1)","v":0},{"$f":"IF($BK$173>=BK358,0,1)","v":0},{"$f":"IF($BL$173>=BL358,0,1)","v":0},{"$f":"IF($BM$173>=BM358,0,1)","v":0},{"$f":"IF($BN$173>=BN358,0,1)","v":0},{"$f":"IF($BO$173>=BO358,0,1)","v":0},{"$f":"IF($BP$173>=BP358,0,1)","v":0},{"$f":"IF($BQ$173>=BQ358,0,1)","v":0},{"$f":"IF($BR$173>=BR358,0,1)","v":0},{"$f":"IF($BS$173>=BS358,0,1)","v":0},{"$f":"IF($BT$173>=BT358,0,1)","v":0},{"$f":"IF($BU$173>=BU358,0,1)","v":0},{"$f":"IF($BV$173>=BV358,0,1)","v":0},{"$f":"IF($BW$173>=BW358,0,1)","v":0}]
[null,"obst. Sup",{"$f":"IF(C358>$C$176,0,1)","v":1},{"$f":"IF(D358>$D$176,0,1)","v":1},{"$f":"IF(E358>$E$176,0,1)","v":1},{"$f":"IF(F358>$F$176,0,1)","v":1},{"$f":"IF(G358>$G$176,0,1)","v":1},{"$f":"IF(H358>$H$176,0,1)","v":1},{"$f":"IF(I358>$I$176,0,1)","v":1},{"$f":"IF(J358>$J$176,0,1)","v":1},{"$f":"IF(K358>$K$176,0,1)","v":1},{"$f":"IF(L358>$L$176,0,1)","v":1},{"$f":"IF(M358>$M$176,0,1)","v":1},{"$f":"IF(N358>$N$176,0,1)","v":1},{"$f":"IF(O358>$O$176,0,1)","v":1},{"$f":"IF(P358>$P$176,0,1)","v":1},{"$f":"IF(Q358>$Q$176,0,1)","v":1},{"$f":"IF(R358>$R$176,0,1)","v":1},{"$f":"IF(S358>$S$176,0,1)","v":1},{"$f":"IF(T358>$T$176,0,1)","v":1},{"$f":"IF(U358>$U$176,0,1)","v":1},{"$f":"IF(V358>$V$176,0,1)","v":1},{"$f":"IF(W358>$W$176,0,1)","v":1},{"$f":"IF(X358>$X$176,0,1)","v":1},{"$f":"IF(Y358>$Y$176,0,1)","v":1},{"$f":"IF(Z358>$Z$176,0,1)","v":1},{"$f":"IF(AA358>$AA$176,0,1)","v":1},{"$f":"IF(AB358>$AB$176,0,1)","v":1},{"$f":"IF(AC358>$AC$176,0,1)","v":1},{"$f":"IF(AD358>$AD$176,0,1)","v":1},{"$f":"IF(AE358>$AE$176,0,1)","v":1},{"$f":"IF(AF358>$AF$176,0,1)","v":1},{"$f":"IF(AG358>$AG$176,0,1)","v":1},{"$f":"IF(AH358>$AH$176,0,1)","v":1},{"$f":"IF(AI358>$AI$176,0,1)","v":1},{"$f":"IF(AJ358>$AJ$176,0,1)","v":1},{"$f":"IF(AK358>$AK$176,0,1)","v":1},{"$f":"IF(AL358>$AL$176,0,1)","v":1},{"$f":"IF(AM358>$AM$176,0,1)","v":1},{"$f":"IF(AN358>$AN$176,0,1)","v":1},{"$f":"IF(AO358>$AO$176,0,1)","v":1},{"$f":"IF(AP358>$AP$176,0,1)","v":1},{"$f":"IF(AQ358>$AQ$176,0,1)","v":1},{"$f":"IF(AR358>$AR$176,0,1)","v":1},{"$f":"IF(AS358>$AS$176,0,1)","v":1},{"$f":"IF(AT358>$AT$176,0,1)","v":1},{"$f":"IF(AU358>$AU$176,0,1)","v":1},{"$f":"IF(AV358>$AV$176,0,1)","v":1},{"$f":"IF(AW358>$AW$176,0,1)","v":1},{"$f":"IF(AX358>$AX$176,0,1)","v":1},{"$f":"IF(AY358>$AY$176,0,1)","v":1},{"$f":"IF(AZ358>$AZ$176,0,1)","v":1},{"$f":"IF(BA358>$BA$176,0,1)","v":1},{"$f":"IF(BB358>$BB$176,0,1)","v":1},{"$f":"IF(BC358>$BC$176,0,1)","v":1},{"$f":"IF(BD358>$BD$176,0,1)","v":1},{"$f":"IF(BE358>$BE$176,0,1)","v":1},{"$f":"IF(BF358>$BF$176,0,1)","v":1},{"$f":"IF(BG358>$BG$176,0,1)","v":1},{"$f":"IF(BH358>$BH$176,0,1)","v":1},{"$f":"IF(BI358>$BI$176,0,1)","v":1},{"$f":"IF(BJ358>$BJ$176,0,1)","v":1},{"$f":"IF(BK358>$BK$176,0,1)","v":1},{"$f":"IF(BL358>$BL$176,0,1)","v":1},{"$f":"IF(BM358>$BM$176,0,1)","v":1},{"$f":"IF(BN358>$BN$176,0,1)","v":1},{"$f":"IF(BO358>$BO$176,0,1)","v":1},{"$f":"IF(BP358>$BP$176,0,1)","v":1},{"$f":"IF(BQ358>$BQ$176,0,1)","v":1},{"$f":"IF(BR358>$BR$176,0,1)","v":1},{"$f":"IF(BS358>$BS$176,0,1)","v":1},{"$f":"IF(BT358>$BT$176,0,1)","v":1},{"$f":"IF(BU358>$BU$176,0,1)","v":1},{"$f":"IF(BV358>$BV$176,0,1)","v":1},{"$f":"IF(BW358>$BW$176,0,1)","v":1}]
[null,"obst. TOTAL",{"$f":"C360*C361","v":0},{"$f":"D360*D361","v":0},0,0,0,0,0,0,0,0,0,0,0,0,0,0,0,0,0,0,0,1,1,1,1,1,1,1,1,1,1,1,1,1,1,1,1,1,1,1,1,1,1,1,1,1,1,1,1,1,1,1,1,1,1,1,0,0,0,0,0,0,0,0,0,{"$f":"BP360*BP361","v":0},0,0,0,0,0,0,0]
[]
[null,"Latitud",{"$f":"$C$182","v":40.4},null,{"$f":"PI()*(C364+D364/60)/180","v":0.70511301780570912}]
[null,"Azimut",{"$f":"$I$4","v":15},null,{"$f":"C365*PI()/180","v":0.26179938779914941}]
[null,"Inclinacion",{"$f":"$I$3","v":35},null,{"$f":"C366*PI()/180","v":0.6108652381980153}]
[null,"Coeficiente refexion",{"$f":"M168","v":0}]
[null,"Constante solar extraterrestre (Bo)",{"$f":"$G$182","v":1367},"W/m2"]
[null,"Dia del año",{"$f":"31+28+31+15","v":105}]
[null,"Declinacion . radianes",{"$f":"23.45*PI()/180*SIN(2*PI()*((C369+284)/365))","v":0.16432088762716554}]
[null,"Ángulo puesta de sol. Radianes. Ws",{"$f":"ACOS(-TAN(C370)*TAN($E$199))","v":1.7123894543671803}]
[null,"Distancia sol - tierra. Bo",{"$f":"1+0.033*COS((2*PI()*C369/365)*PI()/180)","v":1.0329835806761896},"expresion Duffi y Beckman"]
[null,"Factor angulo solar",{"$f":"(SIN(C370)*C371*SIN(E364))+COS(E364)*COS(C370)*SIN(C371)","v":0.92531091154040235}]
[null,"Ho. Irradiacion Extraterreste sobre sup. Horizontal",{"$f":"+($C$203*24/PI())*C372*C373","v":9981.8487643348308}]
[null,"H1",{"$f":"+(3.6*C368*24/PI())*(1+0.033*COS(PI()/180*(360*C369/365)))","v":37304.278922734637}]
[null,"H2",{"$f":"COS(E364)*COS(C370)*SIN(C371)","v":0.74376164922893329}]
[null,"H3",{"$f":"+SIN(C370)*C371*SIN(E364)","v":0.18154926231146912}]
[null,"H horizontal diaria (W/m2 dia) s/ localidad",{"$f":"F6","v":5758.3055555555557},"W/m2 dia"]
[null,"Indice de claridad Kt",{"$f":"C378/C374","v":0.57687765979083905}]
[null,"Fraccion difusa diaria promedio",{"$f":"0.775+0.347*(C371-(PI()/2))-(0.505+0.261*(C371-(PI()/2)))*COS(2*C379-1.8)","v":0.39146193761426384},"Correlacion Collares-Pereira "]
[null,"Factor A Lui y Jordan",{"$f":"0.409+0.5016*SIN(C371-60*PI()/180)","v":0.71859260280862847},"parametros 5 estaciones EEUU"]
[null,"Factor B Lui y Jordan",{"$f":"0.6609-0.4767*SIN(C371-60*PI()/180)","v":0.36667592950782857},"parametros 5 estaciones EEUU"]
[]
[null,"AZIMUT",-180,{"$f":"C384+5","v":-175},{"$f":"D384+5","v":-170},-165,-160,-155,-150,-145,-140,-135,-130,-125,-120,-115,-110,-105,-100,-95,-90,-85,-80,-75,-70,-65,-60,-55,-50,-45,-40,-35,-30,-25,-20,-15,-10,-5,0,5,10,15,20,25,30,35,40,45,50,55,60,65,70,75,80,85,90,95,100,105,110,115,120,125,130,135,140,145,{"$f":"BP384+5","v":150},155,160,165,170,175,180]
[null,"Az radianes",{"$f":"C384*PI()/180","v":-3.1415926535897931},{"$f":"D384*PI()/180","v":-3.0543261909900763},{"$f":"E384*PI()/180","v":-2.9670597283903604},{"$f":"F384*PI()/180","v":-2.8797932657906435},-2.7925268031909272,-2.7052603405912108,-2.6179938779914944,-2.5307274153917776,-2.4434609527920612,-2.3561944901923448,-2.2689280275926285,-2.1816615649929116,-2.0943951023931953,-2.0071286397934789,-1.9198621771937625,-1.8325957145940461,-1.7453292519943295,-1.6580627893946132,-1.5707963267948966,-1.4835298641951802,-1.3962634015954636,-1.3089969389957472,-1.2217304763960306,-1.1344640137963142,-1.0471975511965976,-0.95993108859688125,-0.87266462599716477,-0.78539816339744828,-0.69813170079773179,-0.6108652381980153,-0.52359877559829882,-0.43633231299858238,-0.3490658503988659,-0.26179938779914941,-0.17453292519943295,-8.7266462599716474E-2,0,8.7266462599716474E-2,0.17453292519943295,0.26179938779914941,0.3490658503988659,0.43633231299858238,0.52359877559829882,0.6108652381980153,0.69813170079773179,0.78539816339744828,0.87266462599716477,0.95993108859688125,1.0471975511965976,1.1344640137963142,1.2217304763960306,1.3089969389957472,1.3962634015954636,1.4835298641951802,1.5707963267948966,1.6580627893946132,1.7453292519943295,1.8325957145940461,1.9198621771937625,2.0071286397934789,2.0943951023931953,2.1816615649929116,2.2689280275926285,2.3561944901923448,2.4434609527920612,2.5307274153917776,2.6179938779914944,{"$f":"BR384*PI()/180","v":2.7052603405912108},2.7925268031909272,2.8797932657906435,2.9670597283903604,3.0543261909900763,3.1415926535897931]
[null,"alt solar (grados)",{"$f":"C358","v":0},{"$f":"D358","v":0},{"$f":"E358","v":0},0,0,0,0,0,0,0,0,0,0,0,0,0,3.3886843399323432,8.8498971586026229,14.619297938370392,20.388698718138151,25.849911536808456,30.888775693208519,35.437805480443629,39.47293991781649,43.003328699954579,46.059296664129839,48.681912566456859,50.915471102949169,52.802797588804502,54.382707993063299,55.688893062989749,56.749641502053969,57.588000120071079,58.22211979914286,58.665641195648135,58.928040359614947,59.014893346880051,58.928040359614947,58.665641195648135,58.22211979914286,57.588000120071079,56.749641502053969,55.688893062989749,54.382707993063299,52.802797588804502,50.915471102949169,48.681912566456859,46.059296664129839,43.003328699954579,39.47293991781649,35.437805480443629,30.888775693208519,25.849911536808456,20.388698718138151,14.619297938370392,8.8498971586026229,3.3886843399323432,0,0,0,0,0,0,0,0,0,{"$f":"BQ358","v":0},0,0,0,0,0,0]
[null,"ang horario (grados)",{"$f":"DEGREES(ACOS((SIN(C386*PI()/180)-(SIN($E364)*SIN($C370)))/(COS($E364)*COS($C370))))","v":98.112688617949303},{"$f":"DEGREES(ACOS((SIN(D386*PI()/180)-(SIN($E364)*SIN($C370)))/(COS($E364)*COS($C370))))","v":98.112688617949303},98.112688617949303,98.112688617949303,98.112688617949303,98.112688617949303,98.112688617949303,98.112688617949303,98.112688617949303,98.112688617949303,98.112688617949303,98.112688617949303,98.112688617949303,98.112688617949303,98.112688617949303,98.112688617949303,93.580018995457209,86.350167309681737,78.765023692233228,71.179508620255504,63.944436727915971,57.165741581652647,50.901604505118812,45.166131643447279,39.939944007590434,35.182454216749711,30.842388880103595,26.865273254480918,23.198005582366108,19.791219328152447,16.600184112900749,13.584839271652314,10.709363002077406,7.9415236302185841,5.2519506442702468,2.6133941086442758,0,{"$f":"-DEGREES(ACOS((SIN(AN386*PI()/180)-(SIN($E364)*SIN($C370)))/(COS($E364)*COS($C370))))","v":-2.6133941086442758},{"$f":"-DEGREES(ACOS((SIN(AO386*PI()/180)-(SIN($E364)*SIN($C370)))/(COS($E364)*COS($C370))))","v":-5.2519506442702468},-7.9415236302185841,-10.709363002077406,-13.584839271652314,-16.600184112900749,-19.791219328152447,-23.198005582366108,-26.865273254480918,-30.842388880103595,-35.182454216749711,-39.939944007590434,-45.166131643447279,-50.901604505118812,-57.165741581652647,-63.944436727915971,-71.179508620255504,-78.765023692233228,-86.350167309681737,-93.580018995457209,-98.112688617949303,-98.112688617949303,-98.112688617949303,-98.112688617949303,-98.112688617949303,-98.112688617949303,-98.112688617949303,-98.112688617949303,-98.112688617949303,-98.112688617949303,-98.112688617949303,-98.112688617949303,-98.112688617949303,-98.112688617949303,-98.112688617949303,-98.112688617949303]
[null,"Factor inclinación",{"$f":"-(IF(C386=0,0,(SIN($C370)*SIN($E364)*COS($E366)-SIN($C370)*COS($E364)*SIN($E366)*COS($E365)+COS($C370)*COS($E364)*COS($E366)*COS(C387*PI()/180)+COS($C370)*SIN($E364)*SIN($E366)*COS(C387*PI()/180)*COS($E365)+COS($C370)*SIN($E366)*SIN(C387*PI()/180)*SIN($E365))/(COS($C370)*COS($E364)*COS(C387*PI()/180)+SIN($C370)*SIN($E364))))","v":0},{"$f":"-(IF(D386=0,0,(SIN($C370)*SIN($E364)*COS($E366)-SIN($C370)*COS($E364)*SIN($E366)*COS($E365)+COS($C370)*COS($E364)*COS($E366)*COS(D387*PI()/180)+COS($C370)*SIN($E364)*SIN($E366)*COS(D387*PI()/180)*COS($E365)+COS($C370)*SIN($E366)*SIN(D387*PI()/180)*SIN($E365))/(COS($C370)*COS($E364)*COS(D387*PI()/180)+SIN($C370)*SIN($E364))))","v":0},0,0,0,0,0,0,0,0,0,0,0,0,0,0,-1.7501246544502802,-1.4671239407752361,-1.3882840776064538,-1.3469685373895497,-1.3194758003371985,-1.2985533418956212,-1.2814395473656413,-1.2668367610179063,-1.254032461574663,-1.2425833348153832,-1.2321849863056145,-1.2226123354391381,-1.2136896400739368,-1.2052738907395859,-1.1972446489381656,-1.1894971949263295,-1.1819374694916336,-1.174478011109398,-1.1670344139219662,-1.1595219753197088,-1.1518522536668532,-1.1439292523772473,-1.135644895711585,-1.1268733581797297,-1.1174636326383864,-1.1072294317933491,-1.0959350408582396,-1.0832749428173998,-1.0688436738144995,-1.0520899519918536,-1.0322446749107255,-1.0082037787872684,-0.97832932462392463,-0.94009344710666964,-0.88939727777509403,-0.81915204428899191,-0.71597124847322935,-0.55117258764573429,-0.25002001097153009,0.43289791061438032,3.1955334862787943,0,0,0,0,0,0,0,0,{"$f":"-(IF(BP386=0,0,(SIN($C370)*SIN($E364)*COS($E366)-SIN($C370)*COS($E364)*SIN($E366)*COS($E365)+COS($C370)*COS($E364)*COS($E366)*COS(BP387*PI()/180)+COS($C370)*SIN($E364)*SIN($E366)*COS(BP387*PI()/180)*COS($E365)+COS($C370)*SIN($E366)*SIN(BP387*PI()/180)*SIN($E365))/(COS($C370)*COS($E364)*COS(BP387*PI()/180)+SIN($C370)*SIN($E364))))","v":0},0,0,0,0,0,0,0]
[null,"Correccion valores negativos",{"$f":"ABS(C388)","v":0},{"$f":"ABS(D388)","v":0},0,0,0,0,0,0,0,0,0,0,0,0,0,0,1.7501246544502802,1.4671239407752361,1.3882840776064538,1.3469685373895497,1.3194758003371985,1.2985533418956212,1.2814395473656413,1.2668367610179063,1.254032461574663,1.2425833348153832,1.2321849863056145,1.2226123354391381,1.2136896400739368,1.2052738907395859,1.1972446489381656,1.1894971949263295,1.1819374694916336,1.174478011109398,1.1670344139219662,1.1595219753197088,1.1518522536668532,1.1439292523772473,1.135644895711585,1.1268733581797297,1.1174636326383864,1.1072294317933491,1.0959350408582396,1.0832749428173998,1.0688436738144995,1.0520899519918536,1.0322446749107255,1.0082037787872684,0.97832932462392463,0.94009344710666964,0.88939727777509403,0.81915204428899191,0.71597124847322935,0.55117258764573429,0.25002001097153009,0.43289791061438032,3.1955334862787943,0,0,0,0,0,0,0,0,{"$f":"ABS(BP388)","v":0},0,0,0,0,0,0,0]
[null,"Radiacion H GLOBAL (distribucion Lui y Jordan)",{"$f":"$C378*((PI()/24*($C381+$C382*COS(C387*PI()/180))*(COS(C387*PI()/180)-COS($C371)))/(SIN($C371)-$C371*COS($C371)))","v":0},{"$f":"$C378*((PI()/24*($C381+$C382*COS(D387*PI()/180))*(COS(D387*PI()/180)-COS($C371)))/(SIN($C371)-$C371*COS($C371)))","v":0},0,0,0,0,0,0,0,0,0,0,0,0,0,0,33.498140834249774,92.981947117093668,162.43224251155189,237.50511622267422,312.43403250806023,383.65549912217699,448.62934772625658,506.00474555443384,555.44181498137436,{"$f":"$C378*((PI()/24*($C381+$C382*COS(AB387*PI()/180))*(COS(AB387*PI()/180)-COS($C371)))/(SIN($C371)-$C371*COS($C371)))","v":597.28628703829145},{"$f":"$C378*((PI()/24*($C381+$C382*COS(AC387*PI()/180))*(COS(AC387*PI()/180)-COS($C371)))/(SIN($C371)-$C371*COS($C371)))","v":632.25455755117719},661.20045963727705,684.97142336342722,704.33383386247931,719.94292473219753,732.33759154284769,741.94718435921959,749.10268273967301,754.04818708799507,756.95074053075393,757.90761497366645,756.95074053075393,754.04818708799507,749.10268273967301,741.94718435921959,732.33759154284769,719.94292473219753,704.33383386247931,684.97142336342722,661.20045963727705,632.25455755117719,597.28628703829145,555.44181498137436,506.00474555443384,448.62934772625658,383.65549912217699,312.43403250806023,237.50511622267422,162.43224251155189,92.981947117093668,33.498140834249774,0,0,0,0,0,0,0,0,0,0,0,0,0,0,0,0]
[null,"Radiacion H DIFUSA (distribucion Lui y Jordan)",{"$f":"$C380*$C378*((PI()/24*(COS(C387*PI()/180)-COS($C371)))/(SIN($C371)-$C371*COS($C371)))","v":0},{"$f":"$C380*$C378*((PI()/24*(COS(D387*PI()/180)-COS($C371)))/(SIN($C371)-$C371*COS($C371)))","v":0},0,0,0,0,0,0,0,0,0,0,0,0,0,0,18.849092984610419,49.05943282245731,80.485273667358925,111.09572412603465,139.03906706185882,163.7074119894643,184.89601748637904,202.72008522749186,217.49314884658497,229.61638506301429,239.50101961398863,247.52448370213835,254.01150217445851,259.2302597860986,263.39618404830554,266.67869483807181,269.20840310106075,271.0835738480618,272.37540141692205,273.13200182656635,273.38117217581271,273.13200182656635,272.37540141692205,271.0835738480618,269.20840310106075,266.67869483807181,263.39618404830554,259.2302597860986,254.01150217445851,247.52448370213835,239.50101961398863,229.61638506301429,217.49314884658497,202.72008522749186,184.89601748637904,163.7074119894643,139.03906706185882,111.09572412603465,80.485273667358925,49.05943282245731,18.849092984610419,0,0,0,0,0,0,0,0,{"$f":"$C380*$C378*((PI()/24*(COS(BP387*PI()/180)-COS($C371)))/(SIN($C371)-$C371*COS($C371)))","v":0},0,0,0,0,0,0,0]
[null,"Total Directa",{"$f":"C$54*IF((C390-C391)*C389<0,0,(C390-C391)*C389)","v":0},{"$f":"D$54*IF((D390-D391)*D389<0,0,(D390-D391)*D389)","v":0},0,0,0,0,0,0,0,0,0,0,0,0,0,0,0,0,0,0,0,285.61432358973332,337.95831932782187,384.21215675499911,423.79859767888388,456.86049290768494,483.94501276461625,505.76535105312462,523.05159163413157,536.47171650913492,546.59814227394997,553.89995142282032,558.74767885082713,561.4229322833063,562.12871712780156,560.99845959896959,558.10287509789146,553.45440805198405,547.00924045053432,538.6669985107718,528.26839579378577,515.59123560794683,500.34557090509725,482.1695487554116,460.62878543042444,435.22433766178324,405.41774808801046,370.68618451781902,330.62509029720468,285.11592178133031,234.56370597390696,180.17092521221491,124.14580988948929,69.673391744629058,20.488382049508761,19.013964667078334,46.811522945622926,0,0,0,0,0,0,0,0,{"$f":"BP$54*IF((BP390-BP391)*BP389<0,0,(BP390-BP391)*BP389)","v":0},0,0,0,0,0,0,0]
[null,"Total Difusa (plano incl)",{"$f":"C$54*C391*(1+COS($E366))/2","v":0},{"$f":"D$54*D391*(1+COS($E366))/2","v":0},0,0,0,0,0,0,0,0,0,0,0,0,0,0,0,0,0,0,0,148.90433659294712,168.17698409561982,184.38932873001525,197.82655317155752,208.85355814481539,217.84438472004268,225.14233526916112,231.04277172679195,235.78962851572385,239.5788533346973,242.56454644149929,244.86550842053484,246.57111876943378,247.74613415081427,248.43431974177142,248.66095911687529,248.43431974177142,247.74613415081427,246.57111876943378,244.86550842053484,242.56454644149929,239.5788533346973,235.78962851572385,231.04277172679195,225.14233526916112,217.84438472004268,208.85355814481539,197.82655317155752,184.38932873001525,168.17698409561982,148.90433659294712,126.46660154080735,101.05000682782091,73.207475063567472,44.623283755315839,17.144683017973669,0,0,0,0,0,0,0,0,{"$f":"BP$54*BP391*(1+COS($E366))/2","v":0},0,0,0,0,0,0,0]
[null,"Total Reflejada (plano incl)",{"$f":"C$54*C390*$C367*(1-COS($E366))/2","v":0},{"$f":"D$54*D390*$C367*(1-COS($E366))/2","v":0},0,0,0,0,0,0,0,0,0,0,0,0,0,0,0,0,0,0,0,0,0,0,0,0,0,0,0,0,0,0,0,0,0,0,0,0,0,0,0,0,0,0,0,0,0,0,0,0,0,0,0,0,0,0,0,0,0,0,0,0,0,0,0,{"$f":"BP$54*BP390*$C367*(1-COS($E366))/2","v":0},0,0,0,0,0,0,0]
[null,"TOTAL (W/m2)",{"$f":"C392+C393+C394","v":0},0,0,0,0,0,0,0,0,0,0,0,0,0,0,0,0,0,0,0,0,434.51866018268043,506.13530342344166,568.60148548501434,621.6251508504414,665.71405105250028,701.78939748465893,730.90768632228571,754.09436336092358,772.26134502485877,786.1769956086473,796.46449786431958,803.61318727136199,807.99405105274013,809.87485127861578,809.43277934074104,806.7638342147668,801.88872779375549,794.75537460134865,785.23811728020564,773.13390421432064,758.15578204944609,739.92442423979458,717.95917727113545,691.6715571572164,660.36667293094433,623.26213280805314,579.53974266263435,528.4516434687622,469.50525051134559,402.74069006952675,329.07526180516203,250.61241143029662,170.72339857244998,93.695857113076229,63.637248422394173,63.956205963596595,0,0,0,0,0,0,0,{"$f":"BO392+BO393+BO394","v":0},0,0,0,0,0,0,0,0]
[null,"Radiación Directa recibida",{"$f":"C392*C362","v":0},{"$f":"D392*D362","v":0},0,0,0,0,0,0,0,0,0,0,0,0,0,0,0,0,0,0,0,285.61432358973332,337.95831932782187,384.21215675499911,423.79859767888388,456.86049290768494,483.94501276461625,505.76535105312462,523.05159163413157,536.47171650913492,546.59814227394997,553.89995142282032,558.74767885082713,561.4229322833063,562.12871712780156,560.99845959896959,558.10287509789146,553.45440805198405,547.00924045053432,538.6669985107718,528.26839579378577,515.59123560794683,500.34557090509725,482.1695487554116,460.62878543042444,435.22433766178324,405.41774808801046,370.68618451781902,330.62509029720468,285.11592178133031,234.56370597390696,180.17092521221491,124.14580988948929,69.673391744629058,20.488382049508761,19.013964667078334,0,0,0,0,0,0,0,0,0,{"$f":"BP392*BP362","v":0},0,0,0,0,0,0,0]
[null,"Radiación Global recibida",{"$f":"C396+C394+C393","v":0},0,0,0,0,0,0,0,0,0,0,0,0,0,0,0,0,0,0,0,0,434.51866018268043,506.13530342344166,568.60148548501434,621.6251508504414,665.71405105250028,701.78939748465893,730.90768632228571,754.09436336092358,772.26134502485877,786.1769956086473,796.46449786431958,803.61318727136199,807.99405105274013,809.87485127861578,809.43277934074104,806.7638342147668,801.88872779375549,794.75537460134865,785.23811728020564,773.13390421432064,758.15578204944609,739.92442423979458,717.95917727113545,691.6715571572164,660.36667293094433,623.26213280805314,579.53974266263435,528.4516434687622,469.50525051134559,402.74069006952675,329.07526180516203,250.61241143029662,170.72339857244998,93.695857113076229,63.637248422394173,17.144683017973669,0,0,0,0,0,0,0,{"$f":"BO396+BO394+BO393","v":0},0,0,0,0,0,0,0,0]
[null,"Total Directa recibida",{"$f":"SUM(C396:BW396)","v":14440.835964264626},"W/m2"]
[null,"Total Directa disponible",{"$f":"SUM(C392:BW392)","v":14487.64748721025},"W/m2"]
[null,"Obstruccion directa",{"$f":"IF(C398=0,1,1-(C398/C399))","v":3.2311334871274466E-3}]
[null,"Total global recibida",{"$f":"SUM(C397:BW397)","v":21627.449697237837}]
[null,"Total global ",{"$f":"SUM(C395:BW395)","v":21674.26122018346},"W/m2","% difusa","Fd"]
[null,"Obstrucción global",{"$f":"1-(C401/C402)","v":2.1597747886341612E-3},null,{"$f":"1-(C399/C402)","v":0.33157364211707974},{"$f":"C380","v":0.39146193761426384}]
[]
[null,"MAYO"]
[null,"Declinacion dia tipo",{"$f":"D406*180/PI()","v":18.911954741226161},{"$f":"C425","v":0.33007587822254869}]
[null,"ocaso",{"$f":"-DEGREES(ACOS((SIN(D407*PI()/180)*SIN($E$182)-SIN($C$406*PI()/180))/(COS(D407*PI()/180)*COS($E$182))))","v":-115.18898889853349},0]
[null,"AZIMUT",-180,{"$f":"C408+5","v":-175},{"$f":"D408+5","v":-170},-165,-160,-155,-150,-145,-140,-135,-130,-125,-120,-115,-110,-105,-100,-95,-90,-85,-80,-75,-70,-65,-60,-55,-50,-45,-40,-35,-30,-25,-20,-15,-10,-5,0,5,10,15,20,25,30,35,40,45,50,55,60,65,70,75,80,85,90,95,100,105,110,115,120,125,130,135,140,145,{"$f":"BP408+5","v":150},155,160,165,170,175,180]
[null,"Az radianes",{"$f":"C408*PI()/180","v":-3.1415926535897931},{"$f":"D408*PI()/180","v":-3.0543261909900763},{"$f":"E408*PI()/180","v":-2.9670597283903604},{"$f":"F408*PI()/180","v":-2.8797932657906435},-2.7925268031909272,-2.7052603405912108,-2.6179938779914944,-2.5307274153917776,-2.4434609527920612,-2.3561944901923448,-2.2689280275926285,-2.1816615649929116,-2.0943951023931953,-2.0071286397934789,-1.9198621771937625,-1.8325957145940461,-1.7453292519943295,-1.6580627893946132,-1.5707963267948966,-1.4835298641951802,-1.3962634015954636,-1.3089969389957472,-1.2217304763960306,-1.1344640137963142,-1.0471975511965976,-0.95993108859688125,-0.87266462599716477,-0.78539816339744828,-0.69813170079773179,-0.6108652381980153,-0.52359877559829882,-0.43633231299858238,-0.3490658503988659,-0.26179938779914941,-0.17453292519943295,-8.7266462599716474E-2,0,8.7266462599716474E-2,0.17453292519943295,0.26179938779914941,0.3490658503988659,0.43633231299858238,0.52359877559829882,0.6108652381980153,0.69813170079773179,0.78539816339744828,0.87266462599716477,0.95993108859688125,1.0471975511965976,1.1344640137963142,1.2217304763960306,1.3089969389957472,1.3962634015954636,1.4835298641951802,1.5707963267948966,1.6580627893946132,1.7453292519943295,1.8325957145940461,1.9198621771937625,2.0071286397934789,2.0943951023931953,2.1816615649929116,2.2689280275926285,2.3561944901923448,2.4434609527920612,2.5307274153917776,2.6179938779914944,{"$f":"BR408*PI()/180","v":2.7052603405912108},2.7925268031909272,2.8797932657906435,2.9670597283903604,3.0543261909900763,3.1415926535897931]
[null,"a",{"$f":"SIN($E$182)^2+COS(C409)^2*COS($E$182)^2","v":1},{"$f":"SIN($E$182)^2+COS(D409)^2*COS($E$182)^2","v":0.99559469963002312},{"$f":"SIN($E$182)^2+COS(E409)^2*COS($E$182)^2","v":0.98251265134264432},0.96115134655524004,0.93215983770443378,0.89641901711624594,0.85501485153852075,0.80920538559081812,0.76038251671525159,0.71002970307704127,0.65967688943883074,0.61085402056326399,0.5650445546155618,0.5236403890378365,0.48789956844964866,0.4589080595988424,0.43754675481143818,0.42446470652405949,0.42005940615408255,0.42446470652405949,0.43754675481143818,0.45890805959884234,0.48789956844964866,0.52364038903783661,0.56504455461556202,0.61085402056326421,0.65967688943883074,0.71002970307704127,0.76038251671525181,0.80920538559081834,0.85501485153852075,0.89641901711624594,0.93215983770443389,0.96115134655524026,0.98251265134264432,0.99559469963002312,1,0.99559469963002312,0.98251265134264432,0.96115134655524026,0.93215983770443389,0.89641901711624594,0.85501485153852075,0.80920538559081834,0.76038251671525181,0.71002970307704127,0.65967688943883074,0.61085402056326421,0.56504455461556202,0.52364038903783661,0.48789956844964866,0.45890805959884234,0.43754675481143818,0.42446470652405949,0.42005940615408255,0.42446470652405949,0.43754675481143818,0.4589080595988424,0.48789956844964866,0.5236403890378365,0.5650445546155618,0.61085402056326399,0.65967688943883074,0.71002970307704127,0.76038251671525159,0.80920538559081812,{"$f":"SIN($E$182)^2+COS(BQ409)^2*COS($E$182)^2","v":0.85501485153852075},0.89641901711624594,0.93215983770443378,0.96115134655524004,0.98251265134264432,0.99559469963002312,1]
[null,"b",{"$f":"-2*SIN($E$182)*SIN($D406)","v":-0.42013051909052584},{"$f":"-2*SIN($E$182)*SIN($D406)","v":-0.42013051909052584},{"$f":"-2*SIN($E$182)*SIN($D406)","v":-0.42013051909052584},-0.42013051909052584,-0.42013051909052584,-0.42013051909052584,-0.42013051909052584,-0.42013051909052584,-0.42013051909052584,-0.42013051909052584,-0.42013051909052584,-0.42013051909052584,-0.42013051909052584,-0.42013051909052584,-0.42013051909052584,-0.42013051909052584,-0.42013051909052584,-0.42013051909052584,-0.42013051909052584,-0.42013051909052584,-0.42013051909052584,-0.42013051909052584,-0.42013051909052584,-0.42013051909052584,-0.42013051909052584,-0.42013051909052584,-0.42013051909052584,-0.42013051909052584,-0.42013051909052584,-0.42013051909052584,-0.42013051909052584,-0.42013051909052584,-0.42013051909052584,-0.42013051909052584,-0.42013051909052584,-0.42013051909052584,-0.42013051909052584,-0.42013051909052584,-0.42013051909052584,-0.42013051909052584,-0.42013051909052584,-0.42013051909052584,-0.42013051909052584,-0.42013051909052584,-0.42013051909052584,-0.42013051909052584,-0.42013051909052584,-0.42013051909052584,-0.42013051909052584,-0.42013051909052584,-0.42013051909052584,-0.42013051909052584,-0.42013051909052584,-0.42013051909052584,-0.42013051909052584,-0.42013051909052584,-0.42013051909052584,-0.42013051909052584,-0.42013051909052584,-0.42013051909052584,-0.42013051909052584,-0.42013051909052584,-0.42013051909052584,-0.42013051909052584,-0.42013051909052584,-0.42013051909052584,{"$f":"-2*SIN($E$182)*SIN($D406)","v":-0.42013051909052584},-0.42013051909052584,-0.42013051909052584,-0.42013051909052584,-0.42013051909052584,-0.42013051909052584,-0.42013051909052584]
[null,"c",{"$f":"SIN($D406)^2-COS($E$182)^2*COS(C409)^2","v":-0.47489018282945222},{"$f":"SIN($D406)^2-COS($E$182)^2*COS(D409)^2","v":-0.47048488245947534},{"$f":"SIN($D406)^2-COS($E$182)^2*COS(E409)^2","v":-0.45740283417209654},-0.43604152938469226,-0.407050020533886,-0.37130919994569817,-0.32990503436797292,-0.28409556842027034,-0.23527269954470381,-0.18491988590649344,-0.13456707226828302,-8.5744203392716281E-2,-3.993473744501401E-2,1.4694281327112535E-3,3.721024872089912E-2,6.6201757571705364E-2,8.75630623591096E-2,0.10064511064648825,0.10505041101646521,0.10064511064648826,8.7563062359109586E-2,6.6201757571705405E-2,3.7210248720899078E-2,1.469428132711198E-3,-3.9934737445014204E-2,-8.5744203392716503E-2,-0.13456707226828302,-0.18491988590649355,-0.23527269954470398,-0.28409556842027056,-0.32990503436797292,-0.37130919994569817,-0.40705002053388611,-0.43604152938469248,-0.45740283417209654,-0.47048488245947534,-0.47489018282945222,-0.47048488245947534,-0.45740283417209654,-0.43604152938469248,-0.40705002053388611,-0.37130919994569817,-0.32990503436797292,-0.28409556842027056,-0.23527269954470398,-0.18491988590649355,-0.13456707226828302,-8.5744203392716503E-2,-3.9934737445014204E-2,1.469428132711198E-3,3.7210248720899078E-2,6.6201757571705405E-2,8.7563062359109586E-2,0.10064511064648826,0.10505041101646521,0.10064511064648825,8.75630623591096E-2,6.6201757571705364E-2,3.721024872089912E-2,1.4694281327112535E-3,-3.993473744501401E-2,-8.5744203392716281E-2,-0.13456707226828302,-0.18491988590649344,-0.23527269954470381,-0.28409556842027034,{"$f":"SIN($D406)^2-COS($E$182)^2*COS(BQ409)^2","v":-0.32990503436797292},-0.37130919994569817,-0.407050020533886,-0.43604152938469226,-0.45740283417209654,-0.47048488245947534,-0.47489018282945222]
[null,"alt solar",{"$f":"IF(C408<=$C$407,0,IF(C408>=-$C$407,0,$U$413-(DEGREES(ASIN(((-C411+(C411^2-4*C410*C412)^0.5)/(2*C410))))-$U$413)))","v":0},0,0,0,0,0,0,0,0,0,0,0,0,6.9942529027094125,10.47076553844154,14.511908584128591,19.13921262899882,{"$f":"IF(T408<=$C$407,0,IF(T408>=-$C$407,0,$U$413-(DEGREES(ASIN(((-T411+(T411^2-4*T410*T412)^0.5)/(2*T410))))-$U$413)))","v":24.330454045780421},{"$f":"IF(U408<=$C$407,0,IF(U408>=-$C$407,0,DEGREES(ASIN(((-U411/(2*U410)))))))","v":30.005600311167623},{"$f":"IF(V408<=$C$407,0,IF(V408>=-$C$407,0,DEGREES(ASIN(((-V411+(V411^2-4*V410*V412)^0.5)/(2*V410))))))","v":35.68074657655481},40.871987993336433,45.499292038206654,49.540435083893712,53.016947719625804,55.976552425251981,58.478193891854154,60.581905003342342,62.343150092978874,63.810335990666594,65.024209061517453,66.018214484199149,66.819251609562912,67.448516214096884,67.922278279812431,68.252531241639787,68.447492548429921,68.511954741226177,68.447492548429921,68.252531241639787,67.922278279812431,67.448516214096884,66.819251609562912,66.018214484199149,65.024209061517453,63.810335990666594,62.343150092978874,60.581905003342342,58.478193891854154,55.976552425251981,53.016947719625804,49.540435083893712,45.499292038206654,40.871987993336433,35.68074657655481,{"$f":"IF(BE408<=$C$407,0,IF(BE408>=-$C$407,0,DEGREES(ASIN(((-BE411/(2*BE410)))))))","v":30.005600311167623},{"$f":"IF(BF408<=$C$407,0,IF(BF408>=-$C$407,0,$BE$413-(DEGREES(ASIN(((-BF411+(BF411^2-4*BF410*BF412)^0.5)/(2*BF410))))-$BE$413)))","v":24.330454045780421},{"$f":"IF(BG408<=$C$407,0,IF(BG408>=-$C$407,0,$BE$413-(DEGREES(ASIN(((-BG411+(BG411^2-4*BG410*BG412)^0.5)/(2*BG410))))-$BE$413)))","v":19.13921262899882},{"$f":"IF(BH408<=$C$407,0,IF(BH408>=-$C$407,0,$BE$413-(DEGREES(ASIN(((-BH411+(BH411^2-4*BH410*BH412)^0.5)/(2*BH410))))-$BE$413)))","v":14.511908584128591},{"$f":"IF(BI408<=$C$407,0,IF(BI408>=-$C$407,0,$BE$413-(DEGREES(ASIN(((-BI411+(BI411^2-4*BI410*BI412)^0.5)/(2*BI410))))-$BE$413)))","v":10.47076553844154},{"$f":"IF(BJ408<=$C$407,0,IF(BJ408>=-$C$407,0,$BE$413-(DEGREES(ASIN(((-BJ411+(BJ411^2-4*BJ410*BJ412)^0.5)/(2*BJ410))))-$BE$413)))","v":6.9942529027094125},0,0,0,0,0,0,0,0,0,0,0,0,0]
[]
[null,"obst. Inf.",{"$f":"IF($C$173>=C413,0,1)","v":0},{"$f":"IF($D$173>=D413,0,1)","v":0},{"$f":"IF($E$173>=E413,0,1)","v":0},{"$f":"IF($F$173>=F413,0,1)","v":0},{"$f":"IF($G$173>=G413,0,1)","v":0},{"$f":"IF($H$173>=H413,0,1)","v":0},{"$f":"IF($I$173>=I413,0,1)","v":0},{"$f":"IF($J$173>=J413,0,1)","v":0},{"$f":"IF($K$173>=K413,0,1)","v":0},{"$f":"IF($L$173>=L413,0,1)","v":0},{"$f":"IF($M$173>=M413,0,1)","v":0},{"$f":"IF($N$173>=N413,0,1)","v":0},{"$f":"IF($O$173>=O413,0,1)","v":0},{"$f":"IF($P$173>=P413,0,1)","v":0},{"$f":"IF($Q$173>=Q413,0,1)","v":0},{"$f":"IF($R$173>=R413,0,1)","v":0},{"$f":"IF($S$173>=S413,0,1)","v":0},{"$f":"IF($T$173>=T413,0,1)","v":0},{"$f":"IF($U$173>=U413,0,1)","v":0},{"$f":"IF($V$173>=V413,0,1)","v":0},{"$f":"IF($W$173>=W413,0,1)","v":0},{"$f":"IF($X$173>=X413,0,1)","v":1},{"$f":"IF($Y$173>=Y413,0,1)","v":1},{"$f":"IF($Z$173>=Z413,0,1)","v":1},{"$f":"IF($AA$173>=AA413,0,1)","v":1},{"$f":"IF($AB$173>=AB413,0,1)","v":1},{"$f":"IF($AC$173>=AC413,0,1)","v":1},{"$f":"IF($AD$173>=AD413,0,1)","v":1},{"$f":"IF($AE$173>=AE413,0,1)","v":1},{"$f":"IF($AF$173>=AF413,0,1)","v":1},{"$f":"IF($AG$173>=AG413,0,1)","v":1},{"$f":"IF($AH$173>=AH413,0,1)","v":1},{"$f":"IF($AI$173>=AI413,0,1)","v":1},{"$f":"IF($AJ$173>=AJ413,0,1)","v":1},{"$f":"IF($AK$173>=AK413,0,1)","v":1},{"$f":"IF($AL$173>=AL413,0,1)","v":1},{"$f":"IF($AM$173>=AM413,0,1)","v":1},{"$f":"IF($AN$173>=AN413,0,1)","v":1},{"$f":"IF($AO$173>=AO413,0,1)","v":1},{"$f":"IF($AP$173>=AP413,0,1)","v":1},{"$f":"IF($AQ$173>=AQ413,0,1)","v":1},{"$f":"IF($AR$173>=AR413,0,1)","v":1},{"$f":"IF($AS$173>=AS413,0,1)","v":1},{"$f":"IF($AT$173>=AT413,0,1)","v":1},{"$f":"IF($AU$173>=AU413,0,1)","v":1},{"$f":"IF($AV$173>=AV413,0,1)","v":1},{"$f":"IF($AW$173>=AW413,0,1)","v":1},{"$f":"IF($AX$173>=AX413,0,1)","v":1},{"$f":"IF($AY$173>=AY413,0,1)","v":1},{"$f":"IF($AZ$173>=AZ413,0,1)","v":1},{"$f":"IF($BA$173>=BA413,0,1)","v":1},{"$f":"IF($BB$173>=BB413,0,1)","v":1},{"$f":"IF($BC$173>=BC413,0,1)","v":1},{"$f":"IF($BD$173>=BD413,0,1)","v":1},{"$f":"IF($BE$173>=BE413,0,1)","v":1},{"$f":"IF($BF$173>=BF413,0,1)","v":1},{"$f":"IF($BG$173>=BG413,0,1)","v":1},{"$f":"IF($BH$173>=BH413,0,1)","v":1},{"$f":"IF($BI$173>=BI413,0,1)","v":0},{"$f":"IF($BJ$173>=BJ413,0,1)","v":0},{"$f":"IF($BK$173>=BK413,0,1)","v":0},{"$f":"IF($BL$173>=BL413,0,1)","v":0},{"$f":"IF($BM$173>=BM413,0,1)","v":0},{"$f":"IF($BN$173>=BN413,0,1)","v":0},{"$f":"IF($BO$173>=BO413,0,1)","v":0},{"$f":"IF($BP$173>=BP413,0,1)","v":0},{"$f":"IF($BQ$173>=BQ413,0,1)","v":0},{"$f":"IF($BR$173>=BR413,0,1)","v":0},{"$f":"IF($BS$173>=BS413,0,1)","v":0},{"$f":"IF($BT$173>=BT413,0,1)","v":0},{"$f":"IF($BU$173>=BU413,0,1)","v":0},{"$f":"IF($BV$173>=BV413,0,1)","v":0},{"$f":"IF($BW$173>=BW413,0,1)","v":0}]
[null,"obst. Sup",{"$f":"IF(C413>$C$176,0,1)","v":1},{"$f":"IF(D413>$D$176,0,1)","v":1},{"$f":"IF(E413>$E$176,0,1)","v":1},{"$f":"IF(F413>$F$176,0,1)","v":1},{"$f":"IF(G413>$G$176,0,1)","v":1},{"$f":"IF(H413>$H$176,0,1)","v":1},{"$f":"IF(I413>$I$176,0,1)","v":1},{"$f":"IF(J413>$J$176,0,1)","v":1},{"$f":"IF(K413>$K$176,0,1)","v":1},{"$f":"IF(L413>$L$176,0,1)","v":1},{"$f":"IF(M413>$M$176,0,1)","v":1},{"$f":"IF(N413>$N$176,0,1)","v":1},{"$f":"IF(O413>$O$176,0,1)","v":1},{"$f":"IF(P413>$P$176,0,1)","v":1},{"$f":"IF(Q413>$Q$176,0,1)","v":1},{"$f":"IF(R413>$R$176,0,1)","v":1},{"$f":"IF(S413>$S$176,0,1)","v":1},{"$f":"IF(T413>$T$176,0,1)","v":1},{"$f":"IF(U413>$U$176,0,1)","v":1},{"$f":"IF(V413>$V$176,0,1)","v":1},{"$f":"IF(W413>$W$176,0,1)","v":1},{"$f":"IF(X413>$X$176,0,1)","v":1},{"$f":"IF(Y413>$Y$176,0,1)","v":1},{"$f":"IF(Z413>$Z$176,0,1)","v":1},{"$f":"IF(AA413>$AA$176,0,1)","v":1},{"$f":"IF(AB413>$AB$176,0,1)","v":1},{"$f":"IF(AC413>$AC$176,0,1)","v":1},{"$f":"IF(AD413>$AD$176,0,1)","v":1},{"$f":"IF(AE413>$AE$176,0,1)","v":1},{"$f":"IF(AF413>$AF$176,0,1)","v":1},{"$f":"IF(AG413>$AG$176,0,1)","v":1},{"$f":"IF(AH413>$AH$176,0,1)","v":1},{"$f":"IF(AI413>$AI$176,0,1)","v":1},{"$f":"IF(AJ413>$AJ$176,0,1)","v":1},{"$f":"IF(AK413>$AK$176,0,1)","v":1},{"$f":"IF(AL413>$AL$176,0,1)","v":1},{"$f":"IF(AM413>$AM$176,0,1)","v":1},{"$f":"IF(AN413>$AN$176,0,1)","v":1},{"$f":"IF(AO413>$AO$176,0,1)","v":1},{"$f":"IF(AP413>$AP$176,0,1)","v":1},{"$f":"IF(AQ413>$AQ$176,0,1)","v":1},{"$f":"IF(AR413>$AR$176,0,1)","v":1},{"$f":"IF(AS413>$AS$176,0,1)","v":1},{"$f":"IF(AT413>$AT$176,0,1)","v":1},{"$f":"IF(AU413>$AU$176,0,1)","v":1},{"$f":"IF(AV413>$AV$176,0,1)","v":1},{"$f":"IF(AW413>$AW$176,0,1)","v":1},{"$f":"IF(AX413>$AX$176,0,1)","v":1},{"$f":"IF(AY413>$AY$176,0,1)","v":1},{"$f":"IF(AZ413>$AZ$176,0,1)","v":1},{"$f":"IF(BA413>$BA$176,0,1)","v":1},{"$f":"IF(BB413>$BB$176,0,1)","v":1},{"$f":"IF(BC413>$BC$176,0,1)","v":1},{"$f":"IF(BD413>$BD$176,0,1)","v":1},{"$f":"IF(BE413>$BE$176,0,1)","v":1},{"$f":"IF(BF413>$BF$176,0,1)","v":1},{"$f":"IF(BG413>$BG$176,0,1)","v":1},{"$f":"IF(BH413>$BH$176,0,1)","v":1},{"$f":"IF(BI413>$BI$176,0,1)","v":1},{"$f":"IF(BJ413>$BJ$176,0,1)","v":1},{"$f":"IF(BK413>$BK$176,0,1)","v":1},{"$f":"IF(BL413>$BL$176,0,1)","v":1},{"$f":"IF(BM413>$BM$176,0,1)","v":1},{"$f":"IF(BN413>$BN$176,0,1)","v":1},{"$f":"IF(BO413>$BO$176,0,1)","v":1},{"$f":"IF(BP413>$BP$176,0,1)","v":1},{"$f":"IF(BQ413>$BQ$176,0,1)","v":1},{"$f":"IF(BR413>$BR$176,0,1)","v":1},{"$f":"IF(BS413>$BS$176,0,1)","v":1},{"$f":"IF(BT413>$BT$176,0,1)","v":1},{"$f":"IF(BU413>$BU$176,0,1)","v":1},{"$f":"IF(BV413>$BV$176,0,1)","v":1},{"$f":"IF(BW413>$BW$176,0,1)","v":1}]
[null,"obst. TOTAL",{"$f":"C415*C416","v":0},{"$f":"D415*D416","v":0},0,0,0,0,0,0,0,0,0,0,0,0,0,0,0,0,0,0,0,1,1,1,1,1,1,1,1,1,1,1,1,1,1,1,1,1,1,1,1,1,1,1,1,1,1,1,1,1,1,1,1,1,1,1,1,1,0,0,0,0,0,0,0,{"$f":"BP415*BP416","v":0},0,0,0,0,0,0,0]
[]
[null,"Latitud",{"$f":"$C$182","v":40.4},null,{"$f":"PI()*(C419+D419/60)/180","v":0.70511301780570912}]
[null,"Azimut",{"$f":"$I$4","v":15},null,{"$f":"C420*PI()/180","v":0.26179938779914941}]
[null,"Inclinacion",{"$f":"$I$3","v":35},null,{"$f":"C421*PI()/180","v":0.6108652381980153}]
[null,"Coeficiente refexion",{"$f":"M223","v":0}]
[null,"Constante solar extraterrestre (Bo)",{"$f":"$G$182","v":1367},"W/m2"]
[null,"Dia del año",{"$f":"31+28+31+30+15.5","v":135.5}]
[null,"Declinacion . radianes",{"$f":"23.45*PI()/180*SIN(2*PI()*((C424+284)/365))","v":0.33007587822254869}]
[null,"Ángulo puesta de sol. Radianes. Ws",{"$f":"ACOS(-TAN(C425)*TAN($E$199))","v":1.8666783592386114}]
[null,"Distancia sol - tierra. Bo",{"$f":"1+0.033*COS((2*PI()*C424/365)*PI()/180)","v":1.0329726579359546},"expresion Duffi y Beckman"]
[null,"Factor angulo solar",{"$f":"(SIN(C425)*C426*SIN(E419))+COS(E419)*COS(C425)*SIN(C426)","v":1.0812470372710836}]
[null,"Ho. Irradiacion Extraterreste sobre sup. Horizontal",{"$f":"+($C$203*24/PI())*C427*C428","v":11663.896043023355}]
[null,"H1",{"$f":"+(3.6*C423*24/PI())*(1+0.033*COS(PI()/180*(360*C424/365)))","v":36738.940898580062}]
[null,"H2",{"$f":"COS(E419)*COS(C425)*SIN(C426)","v":0.68912276325009914}]
[null,"H3",{"$f":"+SIN(C425)*C426*SIN(E419)","v":0.39212427402098443}]
[null,"H horizontal diaria (W/m2 dia) s/ localidad",{"$f":"G6","v":6609.5333333333328},"W/m2 dia"]
[null,"Indice de claridad Kt",{"$f":"C433/C429","v":0.56666600156186753}]
[null,"Fraccion difusa diaria promedio",{"$f":"0.775+0.347*(C426-(PI()/2))-(0.505+0.261*(C426-(PI()/2)))*COS(2*C434-1.8)","v":0.42010816836455672},"Correlacion Collares-Pereira "]
[null,"Factor A Lui y Jordan",{"$f":"0.409+0.5016*SIN(C426-60*PI()/180)","v":0.77556503016113476},"parametros 5 estaciones EEUU"]
[null,"Factor B Lui y Jordan",{"$f":"0.6609-0.4767*SIN(C426-60*PI()/180)","v":0.3125316788719838},"parametros 5 estaciones EEUU"]
[]
[null,"AZIMUT",-180,{"$f":"C439+5","v":-175},{"$f":"D439+5","v":-170},-165,-160,-155,-150,-145,-140,-135,-130,-125,-120,-115,-110,-105,-100,-95,-90,-85,-80,-75,-70,-65,-60,-55,-50,-45,-40,-35,-30,-25,-20,-15,-10,-5,0,5,10,15,20,25,30,35,40,45,50,55,60,65,70,75,80,85,90,95,100,105,110,115,120,125,130,135,140,145,{"$f":"BP439+5","v":150},155,160,165,170,175,180]
[null,"Az radianes",{"$f":"C439*PI()/180","v":-3.1415926535897931},{"$f":"D439*PI()/180","v":-3.0543261909900763},{"$f":"E439*PI()/180","v":-2.9670597283903604},{"$f":"F439*PI()/180","v":-2.8797932657906435},-2.7925268031909272,-2.7052603405912108,-2.6179938779914944,-2.5307274153917776,-2.4434609527920612,-2.3561944901923448,-2.2689280275926285,-2.1816615649929116,-2.0943951023931953,-2.0071286397934789,-1.9198621771937625,-1.8325957145940461,-1.7453292519943295,-1.6580627893946132,-1.5707963267948966,-1.4835298641951802,-1.3962634015954636,-1.3089969389957472,-1.2217304763960306,-1.1344640137963142,-1.0471975511965976,-0.95993108859688125,-0.87266462599716477,-0.78539816339744828,-0.69813170079773179,-0.6108652381980153,-0.52359877559829882,-0.43633231299858238,-0.3490658503988659,-0.26179938779914941,-0.17453292519943295,-8.7266462599716474E-2,0,8.7266462599716474E-2,0.17453292519943295,0.26179938779914941,0.3490658503988659,0.43633231299858238,0.52359877559829882,0.6108652381980153,0.69813170079773179,0.78539816339744828,0.87266462599716477,0.95993108859688125,1.0471975511965976,1.1344640137963142,1.2217304763960306,1.3089969389957472,1.3962634015954636,1.4835298641951802,1.5707963267948966,1.6580627893946132,1.7453292519943295,1.8325957145940461,1.9198621771937625,2.0071286397934789,2.0943951023931953,2.1816615649929116,2.2689280275926285,2.3561944901923448,2.4434609527920612,2.5307274153917776,2.6179938779914944,{"$f":"BR439*PI()/180","v":2.7052603405912108},2.7925268031909272,2.8797932657906435,2.9670597283903604,3.0543261909900763,3.1415926535897931]
[null,"alt solar (grados)",{"$f":"C413","v":0},{"$f":"D413","v":0},{"$f":"E413","v":0},0,0,0,0,0,0,0,0,0,0,6.9942529027094125,10.47076553844154,14.511908584128591,19.13921262899882,24.330454045780421,30.005600311167623,35.68074657655481,40.871987993336433,45.499292038206654,49.540435083893712,53.016947719625804,55.976552425251981,58.478193891854154,60.581905003342342,62.343150092978874,63.810335990666594,65.024209061517453,66.018214484199149,66.819251609562912,67.448516214096884,67.922278279812431,68.252531241639787,68.447492548429921,68.511954741226177,68.447492548429921,68.252531241639787,67.922278279812431,67.448516214096884,66.819251609562912,66.018214484199149,65.024209061517453,63.810335990666594,62.343150092978874,60.581905003342342,58.478193891854154,55.976552425251981,53.016947719625804,49.540435083893712,45.499292038206654,40.871987993336433,35.68074657655481,30.005600311167623,24.330454045780421,19.13921262899882,14.511908584128591,10.47076553844154,6.9942529027094125,0,0,0,0,0,0,{"$f":"BQ413","v":0},0,0,0,0,0,0]
[null,"ang horario (grados)",{"$f":"DEGREES(ACOS((SIN(C441*PI()/180)-(SIN($E419)*SIN($C425)))/(COS($E419)*COS($C425))))","v":106.95279169277777},{"$f":"DEGREES(ACOS((SIN(D441*PI()/180)-(SIN($E419)*SIN($C425)))/(COS($E419)*COS($C425))))","v":106.95279169277777},106.95279169277777,106.95279169277777,106.95279169277777,106.95279169277777,106.95279169277777,106.95279169277777,106.95279169277777,106.95279169277777,106.95279169277777,106.95279169277777,106.95279169277777,97.03984865161992,92.253784663821591,86.776059995604101,80.589152954950578,73.722113902825186,66.261374176510344,58.799862891847454,51.922680263841826,45.697991754662198,40.133637208682664,35.1926118961171,30.811803963506506,26.917678507872253,23.436689941162623,20.300909577400102,17.45030944844402,14.833077518913308,12.404940545686211,10.128083283359658,7.9699772999623599,5.9022644176916463,3.8997466054958583,1.9394864721823335,0,{"$f":"-DEGREES(ACOS((SIN(AN441*PI()/180)-(SIN($E419)*SIN($C425)))/(COS($E419)*COS($C425))))","v":-1.9394864721823335},{"$f":"-DEGREES(ACOS((SIN(AO441*PI()/180)-(SIN($E419)*SIN($C425)))/(COS($E419)*COS($C425))))","v":-3.8997466054958583},-5.9022644176916463,-7.9699772999623599,-10.128083283359658,-12.404940545686211,-14.833077518913308,-17.45030944844402,-20.300909577400102,-23.436689941162623,-26.917678507872253,-30.811803963506506,-35.1926118961171,-40.133637208682664,-45.697991754662198,-51.922680263841826,-58.799862891847454,-66.261374176510344,-73.722113902825186,-80.589152954950578,-86.776059995604101,-92.253784663821591,-97.03984865161992,-106.95279169277777,-106.95279169277777,-106.95279169277777,-106.95279169277777,-106.95279169277777,-106.95279169277777,-106.95279169277777,-106.95279169277777,-106.95279169277777,-106.95279169277777,-106.95279169277777,-106.95279169277777,-106.95279169277777]
[null,"Factor inclinación",{"$f":"-(IF(C441=0,0,(SIN($C425)*SIN($E419)*COS($E421)-SIN($C425)*COS($E419)*SIN($E421)*COS($E420)+COS($C425)*COS($E419)*COS($E421)*COS(C442*PI()/180)+COS($C425)*SIN($E419)*SIN($E421)*COS(C442*PI()/180)*COS($E420)+COS($C425)*SIN($E421)*SIN(C442*PI()/180)*SIN($E420))/(COS($C425)*COS($E419)*COS(C442*PI()/180)+SIN($C425)*SIN($E419))))","v":0},{"$f":"-(IF(D441=0,0,(SIN($C425)*SIN($E419)*COS($E421)-SIN($C425)*COS($E419)*SIN($E421)*COS($E420)+COS($C425)*COS($E419)*COS($E421)*COS(D442*PI()/180)+COS($C425)*SIN($E419)*SIN($E421)*COS(D442*PI()/180)*COS($E420)+COS($C425)*SIN($E421)*SIN(D442*PI()/180)*SIN($E420))/(COS($C425)*COS($E419)*COS(D442*PI()/180)+SIN($C425)*SIN($E419))))","v":0},0,0,0,0,0,0,0,0,0,0,0,-0.49885523293736833,-0.76534685128810553,-0.90922653305501666,-0.99405237142756597,-1.0455480889555038,-1.0762212949473071,-1.0923517023117137,-1.0992673431548758,-1.1009850071623923,-1.0997346910187833,-1.0968073053399563,-1.0929606242615273,-1.088637619773267,-1.0840923669472213,-1.0794650311158338,-1.0748269842478846,-1.070207929975127,-1.0656121016270748,-1.0610278012783141,-1.0564328554520532,-1.0517975280825609,-1.0470857964883427,-1.0422555029654801,-1.0372576438642085,-1.0320348868020235,-1.0265192737497217,-1.0206289433299438,-1.0142635640622792,-1.0072979834330857,-0.99957332829680734,-0.99088438429924108,-0.9809614461538787,-0.96944381730702467,-0.95584048864736204,-0.93947077511361698,-0.91937294033308303,-0.89416022642344184,-0.86178697039127705,-0.81915204428899169,-0.76138441061627204,-0.68044494273181355,-0.56208279363067692,-0.39113337625518158,-0.14889495040854622,0.20990314100684362,0.77900055979590421,1.7903819554819222,0,0,0,0,0,{"$f":"-(IF(BP441=0,0,(SIN($C425)*SIN($E419)*COS($E421)-SIN($C425)*COS($E419)*SIN($E421)*COS($E420)+COS($C425)*COS($E419)*COS($E421)*COS(BP442*PI()/180)+COS($C425)*SIN($E419)*SIN($E421)*COS(BP442*PI()/180)*COS($E420)+COS($C425)*SIN($E421)*SIN(BP442*PI()/180)*SIN($E420))/(COS($C425)*COS($E419)*COS(BP442*PI()/180)+SIN($C425)*SIN($E419))))","v":0},0,0,0,0,0,0,0]
[null,"Correccion valores negativos",{"$f":"ABS(C443)","v":0},{"$f":"ABS(D443)","v":0},0,0,0,0,0,0,0,0,0,0,0,0.49885523293736833,0.76534685128810553,0.90922653305501666,0.99405237142756597,1.0455480889555038,1.0762212949473071,1.0923517023117137,1.0992673431548758,1.1009850071623923,1.0997346910187833,1.0968073053399563,1.0929606242615273,1.088637619773267,1.0840923669472213,1.0794650311158338,1.0748269842478846,1.070207929975127,1.0656121016270748,1.0610278012783141,1.0564328554520532,1.0517975280825609,1.0470857964883427,1.0422555029654801,1.0372576438642085,1.0320348868020235,1.0265192737497217,1.0206289433299438,1.0142635640622792,1.0072979834330857,0.99957332829680734,0.99088438429924108,0.9809614461538787,0.96944381730702467,0.95584048864736204,0.93947077511361698,0.91937294033308303,0.89416022642344184,0.86178697039127705,0.81915204428899169,0.76138441061627204,0.68044494273181355,0.56208279363067692,0.39113337625518158,0.14889495040854622,0.20990314100684362,0.77900055979590421,1.7903819554819222,0,0,0,0,0,{"$f":"ABS(BP443)","v":0},0,0,0,0,0,0,0]
[null,"Radiacion H GLOBAL (distribucion Lui y Jordan)",{"$f":"$C433*((PI()/24*($C436+$C437*COS(C442*PI()/180))*(COS(C442*PI()/180)-COS($C426)))/(SIN($C426)-$C426*COS($C426)))","v":-8.7608963709117287E-14},{"$f":"$C433*((PI()/24*($C436+$C437*COS(D442*PI()/180))*(COS(D442*PI()/180)-COS($C426)))/(SIN($C426)-$C426*COS($C426)))","v":-8.7608963709117287E-14},-8.7608963709117287E-14,-8.7608963709117287E-14,-8.7608963709117287E-14,-8.7608963709117287E-14,-8.7608963709117287E-14,-8.7608963709117287E-14,-8.7608963709117287E-14,-8.7608963709117287E-14,-8.7608963709117287E-14,-8.7608963709117287E-14,-8.7608963709117287E-14,71.836547821815486,110.99437211113603,159.03167760721658,216.87527092630492,284.56071732744198,360.69125876770238,437.53033308806562,507.01814463640738,567.20757259398022,617.657171886784,658.98681613594886,692.36119425503193,{"$f":"$C433*((PI()/24*($C436+$C437*COS(AB442*PI()/180))*(COS(AB442*PI()/180)-COS($C426)))/(SIN($C426)-$C426*COS($C426)))","v":719.09612165806084},{"$f":"$C433*((PI()/24*($C436+$C437*COS(AC442*PI()/180))*(COS(AC442*PI()/180)-COS($C426)))/(SIN($C426)-$C426*COS($C426)))","v":740.43064427049035},757.42820989580935,770.9546697301829,781.69311994007796,790.1718390610223,796.79348966517341,801.86068763409367,805.59651843693007,808.16008542159636,809.65768603404831,810.15026790800289,809.65768603404831,808.16008542159636,805.59651843693007,801.86068763409367,796.79348966517341,790.1718390610223,781.69311994007796,770.9546697301829,757.42820989580935,740.43064427049035,719.09612165806084,692.36119425503193,658.98681613594886,617.657171886784,567.20757259398022,507.01814463640738,437.53033308806562,360.69125876770238,284.56071732744198,216.87527092630492,159.03167760721658,110.99437211113603,71.836547821815486,-8.7608963709117287E-14,-8.7608963709117287E-14,-8.7608963709117287E-14,-8.7608963709117287E-14,-8.7608963709117287E-14,-8.7608963709117287E-14,-8.7608963709117287E-14,-8.7608963709117287E-14,-8.7608963709117287E-14,-8.7608963709117287E-14,-8.7608963709117287E-14,-8.7608963709117287E-14,-8.7608963709117287E-14]
[null,"Radiacion H DIFUSA (distribucion Lui y Jordan)",{"$f":"$C435*$C433*((PI()/24*(COS(C442*PI()/180)-COS($C426)))/(SIN($C426)-$C426*COS($C426)))","v":-5.37745630164491E-14},{"$f":"$C435*$C433*((PI()/24*(COS(D442*PI()/180)-COS($C426)))/(SIN($C426)-$C426*COS($C426)))","v":-5.37745630164491E-14},-5.37745630164491E-14,-5.37745630164491E-14,-5.37745630164491E-14,-5.37745630164491E-14,-5.37745630164491E-14,-5.37745630164491E-14,-5.37745630164491E-14,-5.37745630164491E-14,-5.37745630164491E-14,-5.37745630164491E-14,-5.37745630164491E-14,40.934092029066001,61.091579057498542,84.235303871661287,110.21483777371031,138.49736270202183,168.10829538810765,196.07128236328586,219.97321326179949,239.76313240486346,255.77183621534925,268.52888768407587,278.61205528840247,286.55637760838647,292.81482579451341,297.75123679034363,301.64885670645424,304.72413713365921,307.14060085279453,309.02072152989177,310.45533055000686,311.51072165416758,312.23382626686748,312.65583532770449,312.79457269319494,312.65583532770449,312.23382626686748,311.51072165416758,310.45533055000686,309.02072152989177,307.14060085279453,304.72413713365921,301.64885670645424,297.75123679034363,292.81482579451341,286.55637760838647,278.61205528840247,268.52888768407587,255.77183621534925,239.76313240486346,219.97321326179949,196.07128236328586,168.10829538810765,138.49736270202183,110.21483777371031,84.235303871661287,61.091579057498542,40.934092029066001,-5.37745630164491E-14,-5.37745630164491E-14,-5.37745630164491E-14,-5.37745630164491E-14,-5.37745630164491E-14,{"$f":"$C435*$C433*((PI()/24*(COS(BP442*PI()/180)-COS($C426)))/(SIN($C426)-$C426*COS($C426)))","v":-5.37745630164491E-14},-5.37745630164491E-14,-5.37745630164491E-14,-5.37745630164491E-14,-5.37745630164491E-14,-5.37745630164491E-14,-5.37745630164491E-14,-5.37745630164491E-14]
[null,"Total Directa",{"$f":"C$54*IF((C445-C446)*C444<0,0,(C445-C446)*C444)","v":0},{"$f":"D$54*IF((D445-D446)*D444<0,0,(D445-D446)*D444)","v":0},0,0,0,0,0,0,0,0,0,0,0,0,0,0,0,0,0,0,0,360.5114193269003,397.97785780885397,428.25710835392027,452.21151721263675,470.87903741957564,485.2568921346396,496.20521807652386,504.42255170229589,510.45598775159937,514.72393289859781,517.54046769801482,519.13676456877772,519.67821971681212,519.27734206651348,518.00291388271478,515.88599658095711,512.92324873411769,509.07786338092859,504.27826468472421,498.41454887540289,491.33252571624331,482.82514244712621,472.62111685797356,460.37090903217864,445.63099953550119,427.8493226583667,406.35844860979307,380.3897624520315,349.1319497133548,311.86806705731607,268.22678257197947,218.55153589504411,164.29958994250083,108.24757006207696,57.130253041798476,15.881199904809634,15.699993783014838,0,0,0,0,0,0,0,{"$f":"BP$54*IF((BP445-BP446)*BP444<0,0,(BP445-BP446)*BP444)","v":0},0,0,0,0,0,0,0]
[null,"Total Difusa (plano incl)",{"$f":"C$54*C446*(1+COS($E421))/2","v":0},{"$f":"D$54*D446*(1+COS($E421))/2","v":0},0,0,0,0,0,0,0,0,0,0,0,0,0,0,0,0,0,0,0,218.0827962297198,232.6439293613509,244.24743749056785,253.41884497072749,260.64481006517229,266.33734447110703,270.82738554836465,274.3725671674917,277.16976850544762,279.36772596275523,281.07783864938096,282.38272461522985,283.34268305755904,284.00040167477295,284.38425099763805,284.51044317866365,284.38425099763805,284.00040167477295,283.34268305755904,282.38272461522985,281.07783864938096,279.36772596275523,277.16976850544762,274.3725671674917,270.82738554836465,266.33734447110703,260.64481006517229,253.41884497072749,244.24743749056785,232.6439293613509,218.0827962297198,200.08236029701047,178.34173706876783,152.90727460860688,125.9738802440085,100.24877372351236,76.618412619718526,0,0,0,0,0,0,0,{"$f":"BP$54*BP446*(1+COS($E421))/2","v":0},0,0,0,0,0,0,0]
[null,"Total Reflejada (plano incl)",{"$f":"C$54*C445*$C422*(1-COS($E421))/2","v":0},{"$f":"D$54*D445*$C422*(1-COS($E421))/2","v":0},0,0,0,0,0,0,0,0,0,0,0,0,0,0,0,0,0,0,0,0,0,0,0,0,0,0,0,0,0,0,0,0,0,0,0,0,0,0,0,0,0,0,0,0,0,0,0,0,0,0,0,0,0,0,0,0,0,0,0,0,0,0,0,{"$f":"BP$54*BP445*$C422*(1-COS($E421))/2","v":0},0,0,0,0,0,0,0]
[null,"TOTAL (W/m2)",{"$f":"C447+C448+C449","v":0},0,0,0,0,0,0,0,0,0,0,0,0,0,0,0,0,0,0,0,0,578.59421555662016,630.62178717020493,672.50454584448812,705.63036218336424,731.52384748474788,751.59423660574657,767.03260362488845,778.79511886978753,787.62575625704699,794.09165886135304,798.61830634739579,801.51948918400763,803.02090277437117,803.27774374128649,802.38716488035288,800.39643975962076,797.3074997317558,793.07826505570154,787.62094774228331,780.79727349063273,772.41036436562422,762.19286840988138,749.79088536342124,734.74347619967034,716.45838508386578,694.18666712947379,667.00325867496531,633.808607422759,593.37938720392265,544.51199641866697,486.30957880169927,418.63389619205458,342.64132701126869,261.15484467068381,183.10413328580697,116.12997362832199,92.318406402733359,0,0,0,0,0,0,{"$f":"BO447+BO448+BO449","v":0},0,0,0,0,0,0,0,0]
[null,"Radiación Directa recibida",{"$f":"C447*C417","v":0},{"$f":"D447*D417","v":0},0,0,0,0,0,0,0,0,0,0,0,0,0,0,0,0,0,0,0,360.5114193269003,397.97785780885397,428.25710835392027,452.21151721263675,470.87903741957564,485.2568921346396,496.20521807652386,504.42255170229589,510.45598775159937,514.72393289859781,517.54046769801482,519.13676456877772,519.67821971681212,519.27734206651348,518.00291388271478,515.88599658095711,512.92324873411769,509.07786338092859,504.27826468472421,498.41454887540289,491.33252571624331,482.82514244712621,472.62111685797356,460.37090903217864,445.63099953550119,427.8493226583667,406.35844860979307,380.3897624520315,349.1319497133548,311.86806705731607,268.22678257197947,218.55153589504411,164.29958994250083,108.24757006207696,57.130253041798476,15.881199904809634,15.699993783014838,0,0,0,0,0,0,0,{"$f":"BP447*BP417","v":0},0,0,0,0,0,0,0]
[null,"Radiación Global recibida",{"$f":"C451+C449+C448","v":0},0,0,0,0,0,0,0,0,0,0,0,0,0,0,0,0,0,0,0,0,578.59421555662016,630.62178717020493,672.50454584448812,705.63036218336424,731.52384748474788,751.59423660574657,767.03260362488845,778.79511886978753,787.62575625704699,794.09165886135304,798.61830634739579,801.51948918400763,803.02090277437117,803.27774374128649,802.38716488035288,800.39643975962076,797.3074997317558,793.07826505570154,787.62094774228331,780.79727349063273,772.41036436562422,762.19286840988138,749.79088536342124,734.74347619967034,716.45838508386578,694.18666712947379,667.00325867496531,633.808607422759,593.37938720392265,544.51199641866697,486.30957880169927,418.63389619205458,342.64132701126869,261.15484467068381,183.10413328580697,116.12997362832199,92.318406402733359,0,0,0,0,0,0,{"$f":"BO451+BO449+BO448","v":0},0,0,0,0,0,0,0,0]
[null,"Total Directa recibida",{"$f":"SUM(C451:BW451)","v":14831.532322155614},"W/m2"]
[null,"Total Directa disponible",{"$f":"SUM(C447:BW447)","v":14831.532322155614},"W/m2"]
[null,"Obstruccion directa",{"$f":"IF(C453=0,1,1-(C453/C454))","v":0}]
[null,"Total global recibida",{"$f":"SUM(C452:BW452)","v":23934.816221430472}]
[null,"Total global ",{"$f":"SUM(C450:BW450)","v":23934.816221430472},"W/m2","% difusa","Fd"]
[null,"Obstrucción global",{"$f":"1-(C456/C457)","v":0},null,{"$f":"1-(C454/C457)","v":0.38033648619052562},{"$f":"C435","v":0.42010816836455672}]
[]
[null,"JUNIO"]
[null,"Declinacion dia tipo",{"$f":"D461*180/PI()","v":23.31440991666317},{"$f":"C480","v":0.40691321620538912}]
[null,"ocaso",{"$f":"-DEGREES(ACOS((SIN(D462*PI()/180)*SIN($E$182)-SIN($C$461*PI()/180))/(COS(D462*PI()/180)*COS($E$182))))","v":-121.31257244025271},0]
[null,"AZIMUT",-180,{"$f":"C463+5","v":-175},{"$f":"D463+5","v":-170},-165,-160,-155,-150,-145,-140,-135,-130,-125,-120,-115,-110,-105,-100,-95,-90,-85,-80,-75,-70,-65,-60,-55,-50,-45,-40,-35,-30,-25,-20,-15,-10,-5,0,5,10,15,20,25,30,35,40,45,50,55,60,65,70,75,80,85,90,95,100,105,110,115,120,125,130,135,140,145,{"$f":"BP463+5","v":150},155,160,165,170,175,180]
[null,"Az radianes",{"$f":"C463*PI()/180","v":-3.1415926535897931},{"$f":"D463*PI()/180","v":-3.0543261909900763},{"$f":"E463*PI()/180","v":-2.9670597283903604},{"$f":"F463*PI()/180","v":-2.8797932657906435},-2.7925268031909272,-2.7052603405912108,-2.6179938779914944,-2.5307274153917776,-2.4434609527920612,-2.3561944901923448,-2.2689280275926285,-2.1816615649929116,-2.0943951023931953,-2.0071286397934789,-1.9198621771937625,-1.8325957145940461,-1.7453292519943295,-1.6580627893946132,-1.5707963267948966,-1.4835298641951802,-1.3962634015954636,-1.3089969389957472,-1.2217304763960306,-1.1344640137963142,-1.0471975511965976,-0.95993108859688125,-0.87266462599716477,-0.78539816339744828,-0.69813170079773179,-0.6108652381980153,-0.52359877559829882,-0.43633231299858238,-0.3490658503988659,-0.26179938779914941,-0.17453292519943295,-8.7266462599716474E-2,0,8.7266462599716474E-2,0.17453292519943295,0.26179938779914941,0.3490658503988659,0.43633231299858238,0.52359877559829882,0.6108652381980153,0.69813170079773179,0.78539816339744828,0.87266462599716477,0.95993108859688125,1.0471975511965976,1.1344640137963142,1.2217304763960306,1.3089969389957472,1.3962634015954636,1.4835298641951802,1.5707963267948966,1.6580627893946132,1.7453292519943295,1.8325957145940461,1.9198621771937625,2.0071286397934789,2.0943951023931953,2.1816615649929116,2.2689280275926285,2.3561944901923448,2.4434609527920612,2.5307274153917776,2.6179938779914944,{"$f":"BR463*PI()/180","v":2.7052603405912108},2.7925268031909272,2.8797932657906435,2.9670597283903604,3.0543261909900763,3.1415926535897931]
[null,"a",{"$f":"SIN($E$182)^2+COS(C464)^2*COS($E$182)^2","v":1},{"$f":"SIN($E$182)^2+COS(D464)^2*COS($E$182)^2","v":0.99559469963002312},{"$f":"SIN($E$182)^2+COS(E464)^2*COS($E$182)^2","v":0.98251265134264432},0.96115134655524004,0.93215983770443378,0.89641901711624594,0.85501485153852075,0.80920538559081812,0.76038251671525159,0.71002970307704127,0.65967688943883074,0.61085402056326399,0.5650445546155618,0.5236403890378365,0.48789956844964866,0.4589080595988424,0.43754675481143818,0.42446470652405949,0.42005940615408255,0.42446470652405949,0.43754675481143818,0.45890805959884234,0.48789956844964866,0.52364038903783661,0.56504455461556202,0.61085402056326421,0.65967688943883074,0.71002970307704127,0.76038251671525181,0.80920538559081834,0.85501485153852075,0.89641901711624594,0.93215983770443389,0.96115134655524026,0.98251265134264432,0.99559469963002312,1,0.99559469963002312,0.98251265134264432,0.96115134655524026,0.93215983770443389,0.89641901711624594,0.85501485153852075,0.80920538559081834,0.76038251671525181,0.71002970307704127,0.65967688943883074,0.61085402056326421,0.56504455461556202,0.52364038903783661,0.48789956844964866,0.45890805959884234,0.43754675481143818,0.42446470652405949,0.42005940615408255,0.42446470652405949,0.43754675481143818,0.4589080595988424,0.48789956844964866,0.5236403890378365,0.5650445546155618,0.61085402056326399,0.65967688943883074,0.71002970307704127,0.76038251671525159,0.80920538559081812,{"$f":"SIN($E$182)^2+COS(BQ464)^2*COS($E$182)^2","v":0.85501485153852075},0.89641901711624594,0.93215983770443378,0.96115134655524004,0.98251265134264432,0.99559469963002312,1]
[null,"b",{"$f":"-2*SIN($E$182)*SIN($D461)","v":-0.51302122581876741},{"$f":"-2*SIN($E$182)*SIN($D461)","v":-0.51302122581876741},{"$f":"-2*SIN($E$182)*SIN($D461)","v":-0.51302122581876741},-0.51302122581876741,-0.51302122581876741,-0.51302122581876741,-0.51302122581876741,-0.51302122581876741,-0.51302122581876741,-0.51302122581876741,-0.51302122581876741,-0.51302122581876741,-0.51302122581876741,-0.51302122581876741,-0.51302122581876741,-0.51302122581876741,-0.51302122581876741,-0.51302122581876741,-0.51302122581876741,-0.51302122581876741,-0.51302122581876741,-0.51302122581876741,-0.51302122581876741,-0.51302122581876741,-0.51302122581876741,-0.51302122581876741,-0.51302122581876741,-0.51302122581876741,-0.51302122581876741,-0.51302122581876741,-0.51302122581876741,-0.51302122581876741,-0.51302122581876741,-0.51302122581876741,-0.51302122581876741,-0.51302122581876741,-0.51302122581876741,-0.51302122581876741,-0.51302122581876741,-0.51302122581876741,-0.51302122581876741,-0.51302122581876741,-0.51302122581876741,-0.51302122581876741,-0.51302122581876741,-0.51302122581876741,-0.51302122581876741,-0.51302122581876741,-0.51302122581876741,-0.51302122581876741,-0.51302122581876741,-0.51302122581876741,-0.51302122581876741,-0.51302122581876741,-0.51302122581876741,-0.51302122581876741,-0.51302122581876741,-0.51302122581876741,-0.51302122581876741,-0.51302122581876741,-0.51302122581876741,-0.51302122581876741,-0.51302122581876741,-0.51302122581876741,-0.51302122581876741,-0.51302122581876741,{"$f":"-2*SIN($E$182)*SIN($D461)","v":-0.51302122581876741},-0.51302122581876741,-0.51302122581876741,-0.51302122581876741,-0.51302122581876741,-0.51302122581876741,-0.51302122581876741]
[null,"c",{"$f":"SIN($D461)^2-COS($E$182)^2*COS(C464)^2","v":-0.42330157190954798},{"$f":"SIN($D461)^2-COS($E$182)^2*COS(D464)^2","v":-0.4188962715395711},{"$f":"SIN($D461)^2-COS($E$182)^2*COS(E464)^2","v":-0.4058142232521923},-0.38445291846478802,-0.35546140961398176,-0.31972058902579392,-0.27831642344806862,-0.23250695750036607,-0.18368408862479954,-0.13333127498658917,-8.2978461348378746E-2,-3.4155592472811996E-2,1.1653873474890275E-2,5.3058039052615538E-2,8.8798859640803404E-2,0.11779036849160965,0.1391516732790139,0.15223372156639253,0.1566390219363695,0.15223372156639256,0.13915167327901387,0.11779036849160968,8.8798859640803363E-2,5.3058039052615483E-2,1.1653873474890081E-2,-3.4155592472812218E-2,-8.2978461348378746E-2,-0.13333127498658928,-0.18368408862479971,-0.23250695750036629,-0.27831642344806862,-0.31972058902579392,-0.35546140961398187,-0.38445291846478824,-0.4058142232521923,-0.4188962715395711,-0.42330157190954798,-0.4188962715395711,-0.4058142232521923,-0.38445291846478824,-0.35546140961398187,-0.31972058902579392,-0.27831642344806862,-0.23250695750036629,-0.18368408862479971,-0.13333127498658928,-8.2978461348378746E-2,-3.4155592472812218E-2,1.1653873474890081E-2,5.3058039052615483E-2,8.8798859640803363E-2,0.11779036849160968,0.13915167327901387,0.15223372156639256,0.1566390219363695,0.15223372156639253,0.1391516732790139,0.11779036849160965,8.8798859640803404E-2,5.3058039052615538E-2,1.1653873474890275E-2,-3.4155592472811996E-2,-8.2978461348378746E-2,-0.13333127498658917,-0.18368408862479954,-0.23250695750036607,{"$f":"SIN($D461)^2-COS($E$182)^2*COS(BQ464)^2","v":-0.27831642344806862},-0.31972058902579392,-0.35546140961398176,-0.38445291846478802,-0.4058142232521923,-0.4188962715395711,-0.42330157190954798]
[null,"alt solar",{"$f":"IF(C463<=$C$462,0,IF(C463>=-$C$462,0,$U$468-(DEGREES(ASIN(((-C466+(C466^2-4*C465*C467)^0.5)/(2*C465))))-$U$468)))","v":0},0,0,0,0,0,0,0,0,0,0,0,13.069227733834389,15.708863282052562,18.865450530504653,22.609459165740809,26.991300881957656,{"$f":"IF(T463<=$C$462,0,IF(T463>=-$C$462,0,$U$468-(DEGREES(ASIN(((-T466+(T466^2-4*T465*T467)^0.5)/(2*T465))))-$U$468)))","v":32.019121055782165},{"$f":"IF(U463<=$C$462,0,IF(U463>=-$C$462,0,DEGREES(ASIN(((-U466/(2*U465)))))))","v":37.63674725939665},{"$f":"IF(V463<=$C$462,0,IF(V463>=-$C$462,0,DEGREES(ASIN(((-V466+(V466^2-4*V465*V467)^0.5)/(2*V465))))))","v":43.254373463011135},48.282193636835672,52.664035353052491,56.408043988288668,59.564631236740723,62.204266784958918,64.401369760754278,66.22514597303784,67.735622215033104,68.982767472237967,70.00712886691619,70.841040753517518,71.509921463408915,72.033442030112312,72.426491701588276,72.699930085806642,72.861141106608173,72.914409916663189,72.861141106608173,72.699930085806642,72.426491701588276,72.033442030112312,71.509921463408915,70.841040753517518,70.00712886691619,68.982767472237967,67.735622215033104,66.22514597303784,64.401369760754278,62.204266784958918,59.564631236740723,56.408043988288668,52.664035353052491,48.282193636835672,43.254373463011135,{"$f":"IF(BE463<=$C$462,0,IF(BE463>=-$C$462,0,DEGREES(ASIN(((-BE466/(2*BE465)))))))","v":37.63674725939665},{"$f":"IF(BF463<=$C$462,0,IF(BF463>=-$C$462,0,$BE$468-(DEGREES(ASIN(((-BF466+(BF466^2-4*BF465*BF467)^0.5)/(2*BF465))))-$BE$468)))","v":32.019121055782165},{"$f":"IF(BG463<=$C$462,0,IF(BG463>=-$C$462,0,$BE$468-(DEGREES(ASIN(((-BG466+(BG466^2-4*BG465*BG467)^0.5)/(2*BG465))))-$BE$468)))","v":26.991300881957656},22.609459165740809,18.865450530504653,15.708863282052562,13.069227733834389,0,0,0,0,0,0,0,0,0,0,0,0]
[]
[null,"obst. Inf.",{"$f":"IF($C$173>=C468,0,1)","v":0},{"$f":"IF($D$173>=D468,0,1)","v":0},{"$f":"IF($E$173>=E468,0,1)","v":0},{"$f":"IF($F$173>=F468,0,1)","v":0},{"$f":"IF($G$173>=G468,0,1)","v":0},{"$f":"IF($H$173>=H468,0,1)","v":0},{"$f":"IF($I$173>=I468,0,1)","v":0},{"$f":"IF($J$173>=J468,0,1)","v":0},{"$f":"IF($K$173>=K468,0,1)","v":0},{"$f":"IF($L$173>=L468,0,1)","v":0},{"$f":"IF($M$173>=M468,0,1)","v":0},{"$f":"IF($N$173>=N468,0,1)","v":0},{"$f":"IF($O$173>=O468,0,1)","v":0},{"$f":"IF($P$173>=P468,0,1)","v":0},{"$f":"IF($Q$173>=Q468,0,1)","v":0},{"$f":"IF($R$173>=R468,0,1)","v":0},{"$f":"IF($S$173>=S468,0,1)","v":0},{"$f":"IF($T$173>=T468,0,1)","v":0},{"$f":"IF($U$173>=U468,0,1)","v":0},{"$f":"IF($V$173>=V468,0,1)","v":0},{"$f":"IF($W$173>=W468,0,1)","v":0},{"$f":"IF($X$173>=X468,0,1)","v":1},{"$f":"IF($Y$173>=Y468,0,1)","v":1},{"$f":"IF($Z$173>=Z468,0,1)","v":1},{"$f":"IF($AA$173>=AA468,0,1)","v":1},{"$f":"IF($AB$173>=AB468,0,1)","v":1},{"$f":"IF($AC$173>=AC468,0,1)","v":1},{"$f":"IF($AD$173>=AD468,0,1)","v":1},{"$f":"IF($AE$173>=AE468,0,1)","v":1},{"$f":"IF($AF$173>=AF468,0,1)","v":1},{"$f":"IF($AG$173>=AG468,0,1)","v":1},{"$f":"IF($AH$173>=AH468,0,1)","v":1},{"$f":"IF($AI$173>=AI468,0,1)","v":1},{"$f":"IF($AJ$173>=AJ468,0,1)","v":1},{"$f":"IF($AK$173>=AK468,0,1)","v":1},{"$f":"IF($AL$173>=AL468,0,1)","v":1},{"$f":"IF($AM$173>=AM468,0,1)","v":1},{"$f":"IF($AN$173>=AN468,0,1)","v":1},{"$f":"IF($AO$173>=AO468,0,1)","v":1},{"$f":"IF($AP$173>=AP468,0,1)","v":1},{"$f":"IF($AQ$173>=AQ468,0,1)","v":1},{"$f":"IF($AR$173>=AR468,0,1)","v":1},{"$f":"IF($AS$173>=AS468,0,1)","v":1},{"$f":"IF($AT$173>=AT468,0,1)","v":1},{"$f":"IF($AU$173>=AU468,0,1)","v":1},{"$f":"IF($AV$173>=AV468,0,1)","v":1},{"$f":"IF($AW$173>=AW468,0,1)","v":1},{"$f":"IF($AX$173>=AX468,0,1)","v":1},{"$f":"IF($AY$173>=AY468,0,1)","v":1},{"$f":"IF($AZ$173>=AZ468,0,1)","v":1},{"$f":"IF($BA$173>=BA468,0,1)","v":1},{"$f":"IF($BB$173>=BB468,0,1)","v":1},{"$f":"IF($BC$173>=BC468,0,1)","v":1},{"$f":"IF($BD$173>=BD468,0,1)","v":1},{"$f":"IF($BE$173>=BE468,0,1)","v":1},{"$f":"IF($BF$173>=BF468,0,1)","v":1},{"$f":"IF($BG$173>=BG468,0,1)","v":1},{"$f":"IF($BH$173>=BH468,0,1)","v":1},{"$f":"IF($BI$173>=BI468,0,1)","v":0},{"$f":"IF($BJ$173>=BJ468,0,1)","v":0},{"$f":"IF($BK$173>=BK468,0,1)","v":0},{"$f":"IF($BL$173>=BL468,0,1)","v":0},{"$f":"IF($BM$173>=BM468,0,1)","v":0},{"$f":"IF($BN$173>=BN468,0,1)","v":0},{"$f":"IF($BO$173>=BO468,0,1)","v":0},{"$f":"IF($BP$173>=BP468,0,1)","v":0},{"$f":"IF($BQ$173>=BQ468,0,1)","v":0},{"$f":"IF($BR$173>=BR468,0,1)","v":0},{"$f":"IF($BS$173>=BS468,0,1)","v":0},{"$f":"IF($BT$173>=BT468,0,1)","v":0},{"$f":"IF($BU$173>=BU468,0,1)","v":0},{"$f":"IF($BV$173>=BV468,0,1)","v":0},{"$f":"IF($BW$173>=BW468,0,1)","v":0}]
[null,"obst. Sup",{"$f":"IF(C468>$C$176,0,1)","v":1},{"$f":"IF(D468>$D$176,0,1)","v":1},{"$f":"IF(E468>$E$176,0,1)","v":1},{"$f":"IF(F468>$F$176,0,1)","v":1},{"$f":"IF(G468>$G$176,0,1)","v":1},{"$f":"IF(H468>$H$176,0,1)","v":1},{"$f":"IF(I468>$I$176,0,1)","v":1},{"$f":"IF(J468>$J$176,0,1)","v":1},{"$f":"IF(K468>$K$176,0,1)","v":1},{"$f":"IF(L468>$L$176,0,1)","v":1},{"$f":"IF(M468>$M$176,0,1)","v":1},{"$f":"IF(N468>$N$176,0,1)","v":1},{"$f":"IF(O468>$O$176,0,1)","v":1},{"$f":"IF(P468>$P$176,0,1)","v":1},{"$f":"IF(Q468>$Q$176,0,1)","v":1},{"$f":"IF(R468>$R$176,0,1)","v":1},{"$f":"IF(S468>$S$176,0,1)","v":1},{"$f":"IF(T468>$T$176,0,1)","v":1},{"$f":"IF(U468>$U$176,0,1)","v":1},{"$f":"IF(V468>$V$176,0,1)","v":1},{"$f":"IF(W468>$W$176,0,1)","v":1},{"$f":"IF(X468>$X$176,0,1)","v":1},{"$f":"IF(Y468>$Y$176,0,1)","v":1},{"$f":"IF(Z468>$Z$176,0,1)","v":1},{"$f":"IF(AA468>$AA$176,0,1)","v":1},{"$f":"IF(AB468>$AB$176,0,1)","v":1},{"$f":"IF(AC468>$AC$176,0,1)","v":1},{"$f":"IF(AD468>$AD$176,0,1)","v":1},{"$f":"IF(AE468>$AE$176,0,1)","v":1},{"$f":"IF(AF468>$AF$176,0,1)","v":1},{"$f":"IF(AG468>$AG$176,0,1)","v":1},{"$f":"IF(AH468>$AH$176,0,1)","v":1},{"$f":"IF(AI468>$AI$176,0,1)","v":1},{"$f":"IF(AJ468>$AJ$176,0,1)","v":1},{"$f":"IF(AK468>$AK$176,0,1)","v":1},{"$f":"IF(AL468>$AL$176,0,1)","v":1},{"$f":"IF(AM468>$AM$176,0,1)","v":1},{"$f":"IF(AN468>$AN$176,0,1)","v":1},{"$f":"IF(AO468>$AO$176,0,1)","v":1},{"$f":"IF(AP468>$AP$176,0,1)","v":1},{"$f":"IF(AQ468>$AQ$176,0,1)","v":1},{"$f":"IF(AR468>$AR$176,0,1)","v":1},{"$f":"IF(AS468>$AS$176,0,1)","v":1},{"$f":"IF(AT468>$AT$176,0,1)","v":1},{"$f":"IF(AU468>$AU$176,0,1)","v":1},{"$f":"IF(AV468>$AV$176,0,1)","v":1},{"$f":"IF(AW468>$AW$176,0,1)","v":1},{"$f":"IF(AX468>$AX$176,0,1)","v":1},{"$f":"IF(AY468>$AY$176,0,1)","v":1},{"$f":"IF(AZ468>$AZ$176,0,1)","v":1},{"$f":"IF(BA468>$BA$176,0,1)","v":1},{"$f":"IF(BB468>$BB$176,0,1)","v":1},{"$f":"IF(BC468>$BC$176,0,1)","v":1},{"$f":"IF(BD468>$BD$176,0,1)","v":1},{"$f":"IF(BE468>$BE$176,0,1)","v":1},{"$f":"IF(BF468>$BF$176,0,1)","v":1},{"$f":"IF(BG468>$BG$176,0,1)","v":1},{"$f":"IF(BH468>$BH$176,0,1)","v":1},{"$f":"IF(BI468>$BI$176,0,1)","v":1},{"$f":"IF(BJ468>$BJ$176,0,1)","v":1},{"$f":"IF(BK468>$BK$176,0,1)","v":1},{"$f":"IF(BL468>$BL$176,0,1)","v":1},{"$f":"IF(BM468>$BM$176,0,1)","v":1},{"$f":"IF(BN468>$BN$176,0,1)","v":1},{"$f":"IF(BO468>$BO$176,0,1)","v":1},{"$f":"IF(BP468>$BP$176,0,1)","v":1},{"$f":"IF(BQ468>$BQ$176,0,1)","v":1},{"$f":"IF(BR468>$BR$176,0,1)","v":1},{"$f":"IF(BS468>$BS$176,0,1)","v":1},{"$f":"IF(BT468>$BT$176,0,1)","v":1},{"$f":"IF(BU468>$BU$176,0,1)","v":1},{"$f":"IF(BV468>$BV$176,0,1)","v":1},{"$f":"IF(BW468>$BW$176,0,1)","v":1}]
[null,"obst. TOTAL",{"$f":"C470*C471","v":0},{"$f":"D470*D471","v":0},0,0,0,0,0,0,0,0,0,0,0,0,0,0,0,0,0,0,0,1,1,1,1,1,1,1,1,1,1,1,1,1,1,1,1,1,1,1,1,1,1,1,1,1,1,1,1,1,1,1,1,1,1,1,1,1,0,0,0,0,0,0,0,{"$f":"BP470*BP471","v":0},0,0,0,0,0,0,0]
[]
[null,"Latitud",{"$f":"$C$182","v":40.4},null,{"$f":"PI()*(C474+D474/60)/180","v":0.70511301780570912}]
[null,"Azimut",{"$f":"$I$4","v":15},null,{"$f":"C475*PI()/180","v":0.26179938779914941}]
[null,"Inclinacion",{"$f":"$I$3","v":35},null,{"$f":"C476*PI()/180","v":0.6108652381980153}]
[null,"Coeficiente refexion",{"$f":"M278","v":0}]
[null,"Constante solar extraterrestre (Bo)",{"$f":"$G$182","v":1367},"W/m2"]
[null,"Dia del año",{"$f":"31+28+31+30+31+15","v":166}]
[null,"Declinacion . radianes",{"$f":"23.45*PI()/180*SIN(2*PI()*((C479+284)/365))","v":0.40691321620538912}]
[null,"Ángulo puesta de sol. Radianes. Ws",{"$f":"ACOS(-TAN(C480)*TAN($E$199))","v":1.9463428324428651}]
[null,"Distancia sol - tierra. Bo",{"$f":"1+0.033*COS((2*PI()*C479/365)*PI()/180)","v":1.0329589664737948},"expresion Duffi y Beckman"]
[null,"Factor angulo solar",{"$f":"(SIN(C480)*C481*SIN(E474))+COS(E474)*COS(C480)*SIN(C481)","v":1.1498738944831546}]
[null,"Ho. Irradiacion Extraterreste sobre sup. Horizontal",{"$f":"+($C$203*24/PI())*C482*C483","v":12404.040276648209}]
[null,"H1",{"$f":"+(3.6*C478*24/PI())*(1+0.033*COS(PI()/180*(360*C479/365)))","v":36404.266298958973}]
[null,"H2",{"$f":"COS(E474)*COS(C480)*SIN(C481)","v":0.65061630160144934}]
[null,"H3",{"$f":"+SIN(C480)*C481*SIN(E474)","v":0.49925759288170524}]
[null,"H horizontal diaria (W/m2 dia) s/ localidad",{"$f":"H6","v":7751.1799999999994},"W/m2 dia"]
[null,"Indice de claridad Kt",{"$f":"C488/C484","v":0.62489155364904259}]
[null,"Fraccion difusa diaria promedio",{"$f":"0.775+0.347*(C481-(PI()/2))-(0.505+0.261*(C481-(PI()/2)))*COS(2*C489-1.8)","v":0.39129568827183714},"Correlacion Collares-Pereira "]
[null,"Factor A Lui y Jordan",{"$f":"0.409+0.5016*SIN(C481-60*PI()/180)","v":0.80165013344866676},"parametros 5 estaciones EEUU"]
[null,"Factor B Lui y Jordan",{"$f":"0.6609-0.4767*SIN(C481-60*PI()/180)","v":0.28774147006583056},"parametros 5 estaciones EEUU"]
[]
[null,"AZIMUT",-180,{"$f":"C494+5","v":-175},{"$f":"D494+5","v":-170},-165,-160,-155,-150,-145,-140,-135,-130,-125,-120,-115,-110,-105,-100,-95,-90,-85,-80,-75,-70,-65,-60,-55,-50,-45,-40,-35,-30,-25,-20,-15,-10,-5,0,5,10,15,20,25,30,35,40,45,50,55,60,65,70,75,80,85,90,95,100,105,110,115,120,125,130,135,140,145,{"$f":"BP494+5","v":150},155,160,165,170,175,180]
[null,"Az radianes",{"$f":"C494*PI()/180","v":-3.1415926535897931},{"$f":"D494*PI()/180","v":-3.0543261909900763},{"$f":"E494*PI()/180","v":-2.9670597283903604},{"$f":"F494*PI()/180","v":-2.8797932657906435},-2.7925268031909272,-2.7052603405912108,-2.6179938779914944,-2.5307274153917776,-2.4434609527920612,-2.3561944901923448,-2.2689280275926285,-2.1816615649929116,-2.0943951023931953,-2.0071286397934789,-1.9198621771937625,-1.8325957145940461,-1.7453292519943295,-1.6580627893946132,-1.5707963267948966,-1.4835298641951802,-1.3962634015954636,-1.3089969389957472,-1.2217304763960306,-1.1344640137963142,-1.0471975511965976,-0.95993108859688125,-0.87266462599716477,-0.78539816339744828,-0.69813170079773179,-0.6108652381980153,-0.52359877559829882,-0.43633231299858238,-0.3490658503988659,-0.26179938779914941,-0.17453292519943295,-8.7266462599716474E-2,0,8.7266462599716474E-2,0.17453292519943295,0.26179938779914941,0.3490658503988659,0.43633231299858238,0.52359877559829882,0.6108652381980153,0.69813170079773179,0.78539816339744828,0.87266462599716477,0.95993108859688125,1.0471975511965976,1.1344640137963142,1.2217304763960306,1.3089969389957472,1.3962634015954636,1.4835298641951802,1.5707963267948966,1.6580627893946132,1.7453292519943295,1.8325957145940461,1.9198621771937625,2.0071286397934789,2.0943951023931953,2.1816615649929116,2.2689280275926285,2.3561944901923448,2.4434609527920612,2.5307274153917776,2.6179938779914944,{"$f":"BR494*PI()/180","v":2.7052603405912108},2.7925268031909272,2.8797932657906435,2.9670597283903604,3.0543261909900763,3.1415926535897931]
[null,"alt solar (grados)",{"$f":"C468","v":0},{"$f":"D468","v":0},{"$f":"E468","v":0},0,0,0,0,0,0,0,0,0,13.069227733834389,15.708863282052562,18.865450530504653,22.609459165740809,26.991300881957656,32.019121055782165,37.63674725939665,43.254373463011135,48.282193636835672,52.664035353052491,56.408043988288668,59.564631236740723,62.204266784958918,64.401369760754278,66.22514597303784,67.735622215033104,68.982767472237967,70.00712886691619,70.841040753517518,71.509921463408915,72.033442030112312,72.426491701588276,72.699930085806642,72.861141106608173,72.914409916663189,72.861141106608173,72.699930085806642,72.426491701588276,72.033442030112312,71.509921463408915,70.841040753517518,70.00712886691619,68.982767472237967,67.735622215033104,66.22514597303784,64.401369760754278,62.204266784958918,59.564631236740723,56.408043988288668,52.664035353052491,48.282193636835672,43.254373463011135,37.63674725939665,32.019121055782165,26.991300881957656,22.609459165740809,18.865450530504653,15.708863282052562,13.069227733834389,0,0,0,0,0,{"$f":"BQ468","v":0},0,0,0,0,0,0]
[null,"ang horario (grados)",{"$f":"DEGREES(ACOS((SIN(C496*PI()/180)-(SIN($E474)*SIN($C480)))/(COS($E474)*COS($C480))))","v":111.51722978451453},{"$f":"DEGREES(ACOS((SIN(D496*PI()/180)-(SIN($E474)*SIN($C480)))/(COS($E474)*COS($C480))))","v":111.51722978451453},111.51722978451453,111.51722978451453,111.51722978451453,111.51722978451453,111.51722978451453,111.51722978451453,111.51722978451453,111.51722978451453,111.51722978451453,111.51722978451453,92.489908911534741,88.833389020844407,84.515973444962611,79.459206879652939,73.609622878538204,66.961603524086968,59.576758386638467,52.190921948188276,45.530377223767211,39.636099475805693,34.481126627574533,29.995055422150703,26.088111268155991,22.66826254131869,19.650678081486252,16.961550006454754,14.538621382416363,12.330131672443677,10.293189594651729,8.3920819430014451,6.5967333529758134,4.881380252393388,3.2234520226201702,1.602624201927968,0,{"$f":"-DEGREES(ACOS((SIN(AN496*PI()/180)-(SIN($E474)*SIN($C480)))/(COS($E474)*COS($C480))))","v":-1.602624201927968},{"$f":"-DEGREES(ACOS((SIN(AO496*PI()/180)-(SIN($E474)*SIN($C480)))/(COS($E474)*COS($C480))))","v":-3.2234520226201702},-4.881380252393388,-6.5967333529758134,-8.3920819430014451,-10.293189594651729,-12.330131672443677,-14.538621382416363,-16.961550006454754,-19.650678081486252,-22.66826254131869,-26.088111268155991,-29.995055422150703,-34.481126627574533,-39.636099475805693,-45.530377223767211,-52.190921948188276,-59.576758386638467,-66.961603524086968,-73.609622878538204,-79.459206879652939,-84.515973444962611,-88.833389020844407,-92.489908911534741,-111.51722978451453,-111.51722978451453,-111.51722978451453,-111.51722978451453,-111.51722978451453,-111.51722978451453,-111.51722978451453,-111.51722978451453,-111.51722978451453,-111.51722978451453,-111.51722978451453,-111.51722978451453]
[null,"Factor inclinación",{"$f":"-(IF(C496=0,0,(SIN($C480)*SIN($E474)*COS($E476)-SIN($C480)*COS($E474)*SIN($E476)*COS($E475)+COS($C480)*COS($E474)*COS($E476)*COS(C497*PI()/180)+COS($C480)*SIN($E474)*SIN($E476)*COS(C497*PI()/180)*COS($E475)+COS($C480)*SIN($E476)*SIN(C497*PI()/180)*SIN($E475))/(COS($C480)*COS($E474)*COS(C497*PI()/180)+SIN($C480)*SIN($E474))))","v":0},{"$f":"-(IF(D496=0,0,(SIN($C480)*SIN($E474)*COS($E476)-SIN($C480)*COS($E474)*SIN($E476)*COS($E475)+COS($C480)*COS($E474)*COS($E476)*COS(D497*PI()/180)+COS($C480)*SIN($E474)*SIN($E476)*COS(D497*PI()/180)*COS($E475)+COS($C480)*SIN($E476)*SIN(D497*PI()/180)*SIN($E475))/(COS($C480)*COS($E474)*COS(D497*PI()/180)+SIN($C480)*SIN($E474))))","v":0},0,0,0,0,0,0,0,0,0,0,-0.61967027098404359,-0.73062632439993025,-0.81988397149183445,-0.89034574809066802,-0.94442869650208527,-0.98422759027239681,-1.0116660098260044,-1.0276599935718647,-1.0352611937754574,-1.0379107436377566,-1.037665859395916,-1.0357659496129619,-1.0329514103284334,-1.0296571676089818,-1.0261326872255452,-1.0225159022033066,-1.0188780996112006,-1.0152507969669424,-1.0116416354723041,-1.008043643053149,-1.0044404989001607,-1.000809360468975,-0.99712216112161334,-0.99334588979763128,-0.98944211795154313,-0.98536587710064227,-0.98106387041514498,-0.97647189488415909,-0.97151123337986622,-0.96608362473456999,-0.96006420496333844,-0.95329149128278667,-0.94555298743076333,-0.93656422239926229,-0.92593783593984957,-0.9131374430415139,-0.89740804357243542,-0.87766998917465533,-0.85235552450415975,-0.81915204428899169,-0.77458427440493993,-0.71328978404321608,-0.62663807875197908,-0.51098356369353415,-0.36807486977838844,-0.19308426587800684,1.9504962246060364E-2,0.27622837526800437,0.58497557206941753,0,0,0,0,{"$f":"-(IF(BP496=0,0,(SIN($C480)*SIN($E474)*COS($E476)-SIN($C480)*COS($E474)*SIN($E476)*COS($E475)+COS($C480)*COS($E474)*COS($E476)*COS(BP497*PI()/180)+COS($C480)*SIN($E474)*SIN($E476)*COS(BP497*PI()/180)*COS($E475)+COS($C480)*SIN($E476)*SIN(BP497*PI()/180)*SIN($E475))/(COS($C480)*COS($E474)*COS(BP497*PI()/180)+SIN($C480)*SIN($E474))))","v":0},0,0,0,0,0,0,0]
[null,"Correccion valores negativos",{"$f":"ABS(C498)","v":0},{"$f":"ABS(D498)","v":0},0,0,0,0,0,0,0,0,0,0,0.61967027098404359,0.73062632439993025,0.81988397149183445,0.89034574809066802,0.94442869650208527,0.98422759027239681,1.0116660098260044,1.0276599935718647,1.0352611937754574,1.0379107436377566,1.037665859395916,1.0357659496129619,1.0329514103284334,1.0296571676089818,1.0261326872255452,1.0225159022033066,1.0188780996112006,1.0152507969669424,1.0116416354723041,1.008043643053149,1.0044404989001607,1.000809360468975,0.99712216112161334,0.99334588979763128,0.98944211795154313,0.98536587710064227,0.98106387041514498,0.97647189488415909,0.97151123337986622,0.96608362473456999,0.96006420496333844,0.95329149128278667,0.94555298743076333,0.93656422239926229,0.92593783593984957,0.9131374430415139,0.89740804357243542,0.87766998917465533,0.85235552450415975,0.81915204428899169,0.77458427440493993,0.71328978404321608,0.62663807875197908,0.51098356369353415,0.36807486977838844,0.19308426587800684,1.9504962246060364E-2,0.27622837526800437,0.58497557206941753,0,0,0,0,{"$f":"ABS(BP498)","v":0},0,0,0,0,0,0,0]
[null,"Radiacion H GLOBAL (distribucion Lui y Jordan)",{"$f":"$C488*((PI()/24*($C491+$C492*COS(C497*PI()/180))*(COS(C497*PI()/180)-COS($C481)))/(SIN($C481)-$C481*COS($C481)))","v":9.5383687600694726E-14},{"$f":"$C488*((PI()/24*($C491+$C492*COS(D497*PI()/180))*(COS(D497*PI()/180)-COS($C481)))/(SIN($C481)-$C481*COS($C481)))","v":9.5383687600694726E-14},9.5383687600694726E-14,9.5383687600694726E-14,9.5383687600694726E-14,9.5383687600694726E-14,9.5383687600694726E-14,9.5383687600694726E-14,9.5383687600694726E-14,9.5383687600694726E-14,9.5383687600694726E-14,9.5383687600694726E-14,157.46001455387506,192.91712589883707,236.56882940001725,289.79973779346358,353.55589946574651,427.72651582515289,510.46368305862313,591.36668658594715,660.75912865534588,717.88186298978417,763.57018471297181,799.47924975480657,827.46180397252078,{"$f":"$C488*((PI()/24*($C491+$C492*COS(AB497*PI()/180))*(COS(AB497*PI()/180)-COS($C481)))/(SIN($C481)-$C481*COS($C481)))","v":849.21626145362347},{"$f":"$C488*((PI()/24*($C491+$C492*COS(AC497*PI()/180))*(COS(AC497*PI()/180)-COS($C481)))/(SIN($C481)-$C481*COS($C481)))","v":866.1510222900198},879.37150221905495,889.71934567869459,897.82495325589582,904.15633375532514,909.05885508771712,912.78552224157681,915.5191610263081,917.38819638729751,918.47749302665386,918.83536396992326,918.47749302665386,917.38819638729751,915.5191610263081,912.78552224157681,909.05885508771712,904.15633375532514,897.82495325589582,889.71934567869459,879.37150221905495,866.1510222900198,849.21626145362347,827.46180397252078,799.47924975480657,763.57018471297181,717.88186298978417,660.75912865534588,591.36668658594715,510.46368305862313,427.72651582515289,353.55589946574651,289.79973779346358,236.56882940001725,192.91712589883707,157.46001455387506,9.5383687600694726E-14,9.5383687600694726E-14,9.5383687600694726E-14,9.5383687600694726E-14,9.5383687600694726E-14,9.5383687600694726E-14,9.5383687600694726E-14,9.5383687600694726E-14,9.5383687600694726E-14,9.5383687600694726E-14,9.5383687600694726E-14,9.5383687600694726E-14]
[null,"Radiacion H DIFUSA (distribucion Lui y Jordan)",{"$f":"$C490*$C488*((PI()/24*(COS(C497*PI()/180)-COS($C481)))/(SIN($C481)-$C481*COS($C481)))","v":5.3616694079627044E-14},{"$f":"$C490*$C488*((PI()/24*(COS(D497*PI()/180)-COS($C481)))/(SIN($C481)-$C481*COS($C481)))","v":5.3616694079627044E-14},5.3616694079627044E-14,5.3616694079627044E-14,5.3616694079627044E-14,5.3616694079627044E-14,5.3616694079627044E-14,5.3616694079627044E-14,5.3616694079627044E-14,5.3616694079627044E-14,5.3616694079627044E-14,5.3616694079627044E-14,78.075716382552272,93.482161979404594,111.64260460965167,132.73901978094989,156.70347631235984,183.06396631371246,210.84141669267717,236.59366482006874,257.72182939933424,274.52329372099126,287.6111658329221,297.69386789440989,305.43299189834374,311.38104418763885,315.97103143737138,319.53036031804362,322.30190767901968,324.46419691519594,326.14792439528225,327.44852664273543,328.43535986229597,329.15823937045269,329.6520006197585,329.93958992510738,330.03404376645767,329.93958992510738,329.6520006197585,329.15823937045269,328.43535986229597,327.44852664273543,326.14792439528225,324.46419691519594,322.30190767901968,319.53036031804362,315.97103143737138,311.38104418763885,305.43299189834374,297.69386789440989,287.6111658329221,274.52329372099126,257.72182939933424,236.59366482006874,210.84141669267717,183.06396631371246,156.70347631235984,132.73901978094989,111.64260460965167,93.482161979404594,78.075716382552272,5.3616694079627044E-14,5.3616694079627044E-14,5.3616694079627044E-14,5.3616694079627044E-14,{"$f":"$C490*$C488*((PI()/24*(COS(BP497*PI()/180)-COS($C481)))/(SIN($C481)-$C481*COS($C481)))","v":5.3616694079627044E-14},5.3616694079627044E-14,5.3616694079627044E-14,5.3616694079627044E-14,5.3616694079627044E-14,5.3616694079627044E-14,5.3616694079627044E-14,5.3616694079627044E-14]
[null,"Total Directa",{"$f":"C$54*IF((C500-C501)*C499<0,0,(C500-C501)*C499)","v":0},{"$f":"D$54*IF((D500-D501)*D499<0,0,(D500-D501)*D499)","v":0},0,0,0,0,0,0,0,0,0,0,0,0,0,0,0,0,0,0,0,460.16662232794465,493.88642436340382,519.73221254453642,539.23039766409795,553.78588645045511,564.55767247135395,572.44647030144188,578.129200915365,582.10496482446445,584.73737256173877,586.28859432301783,586.94496863263475,586.83549900639548,586.04478569312414,584.62170703603783,582.58482531478171,579.92516709662812,576.60674700277514,572.5649602553151,567.70274697882019,561.88421428719164,554.92518399437336,546.57993045505236,536.52325362090255,524.32718373163573,509.43247010750753,491.11747507193826,468.47285493192976,440.40197066541464,405.68629917999004,363.17807836957422,312.18635400234439,253.05597207974262,187.7547213468701,125.01854145170158,72.456430017743017,30.325953435718851,0,0,0,0,0,0,0,{"$f":"BP$54*IF((BP500-BP501)*BP499<0,0,(BP500-BP501)*BP499)","v":0},0,0,0,0,0,0,0]
[null,"Total Difusa (plano incl)",{"$f":"C$54*C501*(1+COS($E476))/2","v":0},{"$f":"D$54*D501*(1+COS($E476))/2","v":0},0,0,0,0,0,0,0,0,0,0,0,0,0,0,0,0,0,0,0,249.69980548874432,261.60422014265026,270.77520417620644,277.81452580258758,283.22473154339207,287.39967388769776,290.63715409248363,293.15808711626528,295.12485355843233,296.65633170214466,297.83932832077528,298.73692815514323,299.39444202266219,299.84355541569482,300.10513975206538,300.19105270135702,300.10513975206538,299.84355541569482,299.39444202266219,298.73692815514323,297.83932832077528,296.65633170214466,295.12485355843233,293.15808711626528,290.63715409248363,287.39967388769776,283.22473154339207,277.81452580258758,270.77520417620644,261.60422014265026,249.69980548874432,234.41759640484884,215.19992451162631,191.77629709863544,166.51059427762058,142.5337246404105,120.73622959571597,0,0,0,0,0,0,0,{"$f":"BP$54*BP501*(1+COS($E476))/2","v":0},0,0,0,0,0,0,0]
[null,"Total Reflejada (plano incl)",{"$f":"C$54*C500*$C477*(1-COS($E476))/2","v":0},{"$f":"D$54*D500*$C477*(1-COS($E476))/2","v":0},0,0,0,0,0,0,0,0,0,0,0,0,0,0,0,0,0,0,0,0,0,0,0,0,0,0,0,0,0,0,0,0,0,0,0,0,0,0,0,0,0,0,0,0,0,0,0,0,0,0,0,0,0,0,0,0,0,0,0,0,0,0,0,{"$f":"BP$54*BP500*$C477*(1-COS($E476))/2","v":0},0,0,0,0,0,0,0]
[null,"TOTAL (W/m2)",{"$f":"C502+C503+C504","v":0},0,0,0,0,0,0,0,0,0,0,0,0,0,0,0,0,0,0,0,0,709.866427816689,755.49064450605408,790.50741672074287,817.04492346668553,837.01061799384718,851.95734635905171,863.08362439392545,871.28728803163028,877.22981838289684,881.39370426388336,884.12792264379311,885.68189678777799,886.22994102905773,885.88834110881896,884.72684678810322,882.77587801613868,880.0303068486935,876.45030241846996,871.95940227797723,866.43967513396342,859.72354260796692,851.58151569651795,841.70478401348464,829.68134073716783,814.96433782411941,796.83214399520534,774.34220661533027,746.28738073451734,711.17717484162108,667.29051932264031,612.87788385831857,546.60395040719322,468.25589659136892,379.53101844550554,291.52913572932215,214.99015465815353,151.06218303143481,0,0,0,0,0,0,{"$f":"BO502+BO503+BO504","v":0},0,0,0,0,0,0,0,0]
[null,"Radiación Directa recibida",{"$f":"C502*C472","v":0},{"$f":"D502*D472","v":0},0,0,0,0,0,0,0,0,0,0,0,0,0,0,0,0,0,0,0,460.16662232794465,493.88642436340382,519.73221254453642,539.23039766409795,553.78588645045511,564.55767247135395,572.44647030144188,578.129200915365,582.10496482446445,584.73737256173877,586.28859432301783,586.94496863263475,586.83549900639548,586.04478569312414,584.62170703603783,582.58482531478171,579.92516709662812,576.60674700277514,572.5649602553151,567.70274697882019,561.88421428719164,554.92518399437336,546.57993045505236,536.52325362090255,524.32718373163573,509.43247010750753,491.11747507193826,468.47285493192976,440.40197066541464,405.68629917999004,363.17807836957422,312.18635400234439,253.05597207974262,187.7547213468701,125.01854145170158,72.456430017743017,30.325953435718851,0,0,0,0,0,0,0,{"$f":"BP502*BP472","v":0},0,0,0,0,0,0,0]
[null,"Radiación Global recibida",{"$f":"C506+C504+C503","v":0},0,0,0,0,0,0,0,0,0,0,0,0,0,0,0,0,0,0,0,0,709.866427816689,755.49064450605408,790.50741672074287,817.04492346668553,837.01061799384718,851.95734635905171,863.08362439392545,871.28728803163028,877.22981838289684,881.39370426388336,884.12792264379311,885.68189678777799,886.22994102905773,885.88834110881896,884.72684678810322,882.77587801613868,880.0303068486935,876.45030241846996,871.95940227797723,866.43967513396342,859.72354260796692,851.58151569651795,841.70478401348464,829.68134073716783,814.96433782411941,796.83214399520534,774.34220661533027,746.28738073451734,711.17717484162108,667.29051932264031,612.87788385831857,546.60395040719322,468.25589659136892,379.53101844550554,291.52913572932215,214.99015465815353,151.06218303143481,0,0,0,0,0,0,{"$f":"BO506+BO504+BO503","v":0},0,0,0,0,0,0,0,0]
[null,"Total Directa recibida",{"$f":"SUM(C506:BW506)","v":17642.224112513963},"W/m2"]
[null,"Total Directa disponible",{"$f":"SUM(C502:BW502)","v":17642.224112513963},"W/m2"]
[null,"Obstruccion directa",{"$f":"IF(C508=0,1,1-(C508/C509))","v":0}]
[null,"Total global recibida",{"$f":"SUM(C507:BW507)","v":27617.617494098064}]
[null,"Total global ",{"$f":"SUM(C505:BW505)","v":27617.617494098064},"W/m2","% difusa","Fd"]
[null,"Obstrucción global",{"$f":"1-(C511/C512)","v":0},null,{"$f":"1-(C509/C512)","v":0.3611967391363814},{"$f":"C490","v":0.39129568827183714}]
[]
[null,"JULIO"]
[null,"Declinacion dia tipo",{"$f":"D516*180/PI()","v":21.436301322946079},{"$f":"C535","v":0.37413403753502533}]
[null,"ocaso",{"$f":"-DEGREES(ACOS((SIN(D517*PI()/180)*SIN($E$182)-SIN($C$516*PI()/180))/(COS(D517*PI()/180)*COS($E$182))))","v":-118.67924611233082},0]
[null,"AZIMUT",-180,{"$f":"C518+5","v":-175},{"$f":"D518+5","v":-170},-165,-160,-155,-150,-145,-140,-135,-130,-125,-120,-115,-110,-105,-100,-95,-90,-85,-80,-75,-70,-65,-60,-55,-50,-45,-40,-35,-30,-25,-20,-15,-10,-5,0,5,10,15,20,25,30,35,40,45,50,55,60,65,70,75,80,85,90,95,100,105,110,115,120,125,130,135,140,145,{"$f":"BP518+5","v":150},155,160,165,170,175,180]
[null,"Az radianes",{"$f":"C518*PI()/180","v":-3.1415926535897931},{"$f":"D518*PI()/180","v":-3.0543261909900763},{"$f":"E518*PI()/180","v":-2.9670597283903604},{"$f":"F518*PI()/180","v":-2.8797932657906435},-2.7925268031909272,-2.7052603405912108,-2.6179938779914944,-2.5307274153917776,-2.4434609527920612,-2.3561944901923448,-2.2689280275926285,-2.1816615649929116,-2.0943951023931953,-2.0071286397934789,-1.9198621771937625,-1.8325957145940461,-1.7453292519943295,-1.6580627893946132,-1.5707963267948966,-1.4835298641951802,-1.3962634015954636,-1.3089969389957472,-1.2217304763960306,-1.1344640137963142,-1.0471975511965976,-0.95993108859688125,-0.87266462599716477,-0.78539816339744828,-0.69813170079773179,-0.6108652381980153,-0.52359877559829882,-0.43633231299858238,-0.3490658503988659,-0.26179938779914941,-0.17453292519943295,-8.7266462599716474E-2,0,8.7266462599716474E-2,0.17453292519943295,0.26179938779914941,0.3490658503988659,0.43633231299858238,0.52359877559829882,0.6108652381980153,0.69813170079773179,0.78539816339744828,0.87266462599716477,0.95993108859688125,1.0471975511965976,1.1344640137963142,1.2217304763960306,1.3089969389957472,1.3962634015954636,1.4835298641951802,1.5707963267948966,1.6580627893946132,1.7453292519943295,1.8325957145940461,1.9198621771937625,2.0071286397934789,2.0943951023931953,2.1816615649929116,2.2689280275926285,2.3561944901923448,2.4434609527920612,2.5307274153917776,2.6179938779914944,{"$f":"BR518*PI()/180","v":2.7052603405912108},2.7925268031909272,2.8797932657906435,2.9670597283903604,3.0543261909900763,3.1415926535897931]
[null,"a",{"$f":"SIN($E$182)^2+COS(C519)^2*COS($E$182)^2","v":1},{"$f":"SIN($E$182)^2+COS(D519)^2*COS($E$182)^2","v":0.99559469963002312},{"$f":"SIN($E$182)^2+COS(E519)^2*COS($E$182)^2","v":0.98251265134264432},0.96115134655524004,0.93215983770443378,0.89641901711624594,0.85501485153852075,0.80920538559081812,0.76038251671525159,0.71002970307704127,0.65967688943883074,0.61085402056326399,0.5650445546155618,0.5236403890378365,0.48789956844964866,0.4589080595988424,0.43754675481143818,0.42446470652405949,0.42005940615408255,0.42446470652405949,0.43754675481143818,0.45890805959884234,0.48789956844964866,0.52364038903783661,0.56504455461556202,0.61085402056326421,0.65967688943883074,0.71002970307704127,0.76038251671525181,0.80920538559081834,0.85501485153852075,0.89641901711624594,0.93215983770443389,0.96115134655524026,0.98251265134264432,0.99559469963002312,1,0.99559469963002312,0.98251265134264432,0.96115134655524026,0.93215983770443389,0.89641901711624594,0.85501485153852075,0.80920538559081834,0.76038251671525181,0.71002970307704127,0.65967688943883074,0.61085402056326421,0.56504455461556202,0.52364038903783661,0.48789956844964866,0.45890805959884234,0.43754675481143818,0.42446470652405949,0.42005940615408255,0.42446470652405949,0.43754675481143818,0.4589080595988424,0.48789956844964866,0.5236403890378365,0.5650445546155618,0.61085402056326399,0.65967688943883074,0.71002970307704127,0.76038251671525159,0.80920538559081812,{"$f":"SIN($E$182)^2+COS(BQ519)^2*COS($E$182)^2","v":0.85501485153852075},0.89641901711624594,0.93215983770443378,0.96115134655524004,0.98251265134264432,0.99559469963002312,1]
[null,"b",{"$f":"-2*SIN($E$182)*SIN($D516)","v":-0.47373236257551232},{"$f":"-2*SIN($E$182)*SIN($D516)","v":-0.47373236257551232},{"$f":"-2*SIN($E$182)*SIN($D516)","v":-0.47373236257551232},-0.47373236257551232,-0.47373236257551232,-0.47373236257551232,-0.47373236257551232,-0.47373236257551232,-0.47373236257551232,-0.47373236257551232,-0.47373236257551232,-0.47373236257551232,-0.47373236257551232,-0.47373236257551232,-0.47373236257551232,-0.47373236257551232,-0.47373236257551232,-0.47373236257551232,-0.47373236257551232,-0.47373236257551232,-0.47373236257551232,-0.47373236257551232,-0.47373236257551232,-0.47373236257551232,-0.47373236257551232,-0.47373236257551232,-0.47373236257551232,-0.47373236257551232,-0.47373236257551232,-0.47373236257551232,-0.47373236257551232,-0.47373236257551232,-0.47373236257551232,-0.47373236257551232,-0.47373236257551232,-0.47373236257551232,-0.47373236257551232,-0.47373236257551232,-0.47373236257551232,-0.47373236257551232,-0.47373236257551232,-0.47373236257551232,-0.47373236257551232,-0.47373236257551232,-0.47373236257551232,-0.47373236257551232,-0.47373236257551232,-0.47373236257551232,-0.47373236257551232,-0.47373236257551232,-0.47373236257551232,-0.47373236257551232,-0.47373236257551232,-0.47373236257551232,-0.47373236257551232,-0.47373236257551232,-0.47373236257551232,-0.47373236257551232,-0.47373236257551232,-0.47373236257551232,-0.47373236257551232,-0.47373236257551232,-0.47373236257551232,-0.47373236257551232,-0.47373236257551232,-0.47373236257551232,{"$f":"-2*SIN($E$182)*SIN($D516)","v":-0.47373236257551232},-0.47373236257551232,-0.47373236257551232,-0.47373236257551232,-0.47373236257551232,-0.47373236257551232,-0.47373236257551232]
[null,"c",{"$f":"SIN($D516)^2-COS($E$182)^2*COS(C519)^2","v":-0.44637475288183248},{"$f":"SIN($D516)^2-COS($E$182)^2*COS(D519)^2","v":-0.4419694525118556},{"$f":"SIN($D516)^2-COS($E$182)^2*COS(E519)^2","v":-0.4288874042244768},-0.40752609943707252,-0.37853459058626626,-0.34279376999807842,-0.30138960442035317,-0.2555801384726506,-0.20675726959708407,-0.1564044559588737,-0.10605164232066328,-5.7228773445096526E-2,-1.1419307497394254E-2,2.9984858080331009E-2,6.5725678668518875E-2,9.4717187519325119E-2,0.11607849230672937,0.129160540594108,0.13356584096408497,0.12916054059410803,0.11607849230672934,9.4717187519325147E-2,6.5725678668518833E-2,2.9984858080330953E-2,-1.1419307497394449E-2,-5.7228773445096748E-2,-0.10605164232066328,-0.15640445595887381,-0.20675726959708424,-0.25558013847265082,-0.30138960442035317,-0.34279376999807842,-0.37853459058626637,-0.40752609943707274,-0.4288874042244768,-0.4419694525118556,-0.44637475288183248,-0.4419694525118556,-0.4288874042244768,-0.40752609943707274,-0.37853459058626637,-0.34279376999807842,-0.30138960442035317,-0.25558013847265082,-0.20675726959708424,-0.15640445595887381,-0.10605164232066328,-5.7228773445096748E-2,-1.1419307497394449E-2,2.9984858080330953E-2,6.5725678668518833E-2,9.4717187519325147E-2,0.11607849230672934,0.12916054059410803,0.13356584096408497,0.129160540594108,0.11607849230672937,9.4717187519325119E-2,6.5725678668518875E-2,2.9984858080331009E-2,-1.1419307497394254E-2,-5.7228773445096526E-2,-0.10605164232066328,-0.1564044559588737,-0.20675726959708407,-0.2555801384726506,{"$f":"SIN($D516)^2-COS($E$182)^2*COS(BQ519)^2","v":-0.30138960442035317},-0.34279376999807842,-0.37853459058626626,-0.40752609943707252,-0.4288874042244768,-0.4419694525118556,-0.44637475288183248]
[null,"alt solar",{"$f":"IF(C518<=$C$517,0,IF(C518>=-$C$517,0,$U$523-(DEGREES(ASIN(((-C521+(C521^2-4*C520*C522)^0.5)/(2*C520))))-$U$523)))","v":0},0,0,0,0,0,0,0,0,0,0,0,0,11.907866950511554,15.207953550342403,19.085960873935591,23.579045964790808,{"$f":"IF(T518<=$C$517,0,IF(T518>=-$C$517,0,$U$523-(DEGREES(ASIN(((-T521+(T521^2-4*T520*T522)^0.5)/(2*T520))))-$U$523)))","v":28.681212477524639},{"$f":"IF(U518<=$C$517,0,IF(U518>=-$C$517,0,DEGREES(ASIN(((-U521/(2*U520)))))))","v":34.325061857142252},{"$f":"IF(V518<=$C$517,0,IF(V518>=-$C$517,0,DEGREES(ASIN(((-V521+(V521^2-4*V520*V522)^0.5)/(2*V520))))))","v":39.968911236759858},45.07107774949371,49.564162840348914,53.442170163942116,56.742256763772929,59.524642930558706,61.856933927156909,63.804421764635038,65.425290895484068,66.768982841715001,67.876266693845167,68.780069839736882,69.50653928698263,70.076071876338659,70.504202362018361,70.802314592133897,70.978175197585614,71.036301322946073,70.978175197585614,70.802314592133897,70.504202362018361,70.076071876338659,69.50653928698263,68.780069839736882,67.876266693845167,66.768982841715001,65.425290895484068,63.804421764635038,61.856933927156909,59.524642930558706,56.742256763772929,53.442170163942116,49.564162840348914,45.07107774949371,39.968911236759858,{"$f":"IF(BE518<=$C$517,0,IF(BE518>=-$C$517,0,DEGREES(ASIN(((-BE521/(2*BE520)))))))","v":34.325061857142252},{"$f":"IF(BF518<=$C$517,0,IF(BF518>=-$C$517,0,$BE$523-(DEGREES(ASIN(((-BF521+(BF521^2-4*BF520*BF522)^0.5)/(2*BF520))))-$BE$523)))","v":28.681212477524639},{"$f":"IF(BG518<=$C$517,0,IF(BG518>=-$C$517,0,$BE$523-(DEGREES(ASIN(((-BG521+(BG521^2-4*BG520*BG522)^0.5)/(2*BG520))))-$BE$523)))","v":23.579045964790808},19.085960873935591,15.207953550342403,11.907866950511554,0,0,0,0,0,0,0,0,0,0,0,0,0]
[]
[null,"obst. Inf.",{"$f":"IF($C$173>=C523,0,1)","v":0},{"$f":"IF($D$173>=D523,0,1)","v":0},{"$f":"IF($E$173>=E523,0,1)","v":0},{"$f":"IF($F$173>=F523,0,1)","v":0},{"$f":"IF($G$173>=G523,0,1)","v":0},{"$f":"IF($H$173>=H523,0,1)","v":0},{"$f":"IF($I$173>=I523,0,1)","v":0},{"$f":"IF($J$173>=J523,0,1)","v":0},{"$f":"IF($K$173>=K523,0,1)","v":0},{"$f":"IF($L$173>=L523,0,1)","v":0},{"$f":"IF($M$173>=M523,0,1)","v":0},{"$f":"IF($N$173>=N523,0,1)","v":0},{"$f":"IF($O$173>=O523,0,1)","v":0},{"$f":"IF($P$173>=P523,0,1)","v":0},{"$f":"IF($Q$173>=Q523,0,1)","v":0},{"$f":"IF($R$173>=R523,0,1)","v":0},{"$f":"IF($S$173>=S523,0,1)","v":0},{"$f":"IF($T$173>=T523,0,1)","v":0},{"$f":"IF($U$173>=U523,0,1)","v":0},{"$f":"IF($V$173>=V523,0,1)","v":0},{"$f":"IF($W$173>=W523,0,1)","v":0},{"$f":"IF($X$173>=X523,0,1)","v":1},{"$f":"IF($Y$173>=Y523,0,1)","v":1},{"$f":"IF($Z$173>=Z523,0,1)","v":1},{"$f":"IF($AA$173>=AA523,0,1)","v":1},{"$f":"IF($AB$173>=AB523,0,1)","v":1},{"$f":"IF($AC$173>=AC523,0,1)","v":1},{"$f":"IF($AD$173>=AD523,0,1)","v":1},{"$f":"IF($AE$173>=AE523,0,1)","v":1},{"$f":"IF($AF$173>=AF523,0,1)","v":1},{"$f":"IF($AG$173>=AG523,0,1)","v":1},{"$f":"IF($AH$173>=AH523,0,1)","v":1},{"$f":"IF($AI$173>=AI523,0,1)","v":1},{"$f":"IF($AJ$173>=AJ523,0,1)","v":1},{"$f":"IF($AK$173>=AK523,0,1)","v":1},{"$f":"IF($AL$173>=AL523,0,1)","v":1},{"$f":"IF($AM$173>=AM523,0,1)","v":1},{"$f":"IF($AN$173>=AN523,0,1)","v":1},{"$f":"IF($AO$173>=AO523,0,1)","v":1},{"$f":"IF($AP$173>=AP523,0,1)","v":1},{"$f":"IF($AQ$173>=AQ523,0,1)","v":1},{"$f":"IF($AR$173>=AR523,0,1)","v":1},{"$f":"IF($AS$173>=AS523,0,1)","v":1},{"$f":"IF($AT$173>=AT523,0,1)","v":1},{"$f":"IF($AU$173>=AU523,0,1)","v":1},{"$f":"IF($AV$173>=AV523,0,1)","v":1},{"$f":"IF($AW$173>=AW523,0,1)","v":1},{"$f":"IF($AX$173>=AX523,0,1)","v":1},{"$f":"IF($AY$173>=AY523,0,1)","v":1},{"$f":"IF($AZ$173>=AZ523,0,1)","v":1},{"$f":"IF($BA$173>=BA523,0,1)","v":1},{"$f":"IF($BB$173>=BB523,0,1)","v":1},{"$f":"IF($BC$173>=BC523,0,1)","v":1},{"$f":"IF($BD$173>=BD523,0,1)","v":1},{"$f":"IF($BE$173>=BE523,0,1)","v":1},{"$f":"IF($BF$173>=BF523,0,1)","v":1},{"$f":"IF($BG$173>=BG523,0,1)","v":1},{"$f":"IF($BH$173>=BH523,0,1)","v":1},{"$f":"IF($BI$173>=BI523,0,1)","v":0},{"$f":"IF($BJ$173>=BJ523,0,1)","v":0},{"$f":"IF($BK$173>=BK523,0,1)","v":0},{"$f":"IF($BL$173>=BL523,0,1)","v":0},{"$f":"IF($BM$173>=BM523,0,1)","v":0},{"$f":"IF($BN$173>=BN523,0,1)","v":0},{"$f":"IF($BO$173>=BO523,0,1)","v":0},{"$f":"IF($BP$173>=BP523,0,1)","v":0},{"$f":"IF($BQ$173>=BQ523,0,1)","v":0},{"$f":"IF($BR$173>=BR523,0,1)","v":0},{"$f":"IF($BS$173>=BS523,0,1)","v":0},{"$f":"IF($BT$173>=BT523,0,1)","v":0},{"$f":"IF($BU$173>=BU523,0,1)","v":0},{"$f":"IF($BV$173>=BV523,0,1)","v":0},{"$f":"IF($BW$173>=BW523,0,1)","v":0}]
[null,"obst. Sup",{"$f":"IF(C523>$C$176,0,1)","v":1},{"$f":"IF(D523>$D$176,0,1)","v":1},{"$f":"IF(E523>$E$176,0,1)","v":1},{"$f":"IF(F523>$F$176,0,1)","v":1},{"$f":"IF(G523>$G$176,0,1)","v":1},{"$f":"IF(H523>$H$176,0,1)","v":1},{"$f":"IF(I523>$I$176,0,1)","v":1},{"$f":"IF(J523>$J$176,0,1)","v":1},{"$f":"IF(K523>$K$176,0,1)","v":1},{"$f":"IF(L523>$L$176,0,1)","v":1},{"$f":"IF(M523>$M$176,0,1)","v":1},{"$f":"IF(N523>$N$176,0,1)","v":1},{"$f":"IF(O523>$O$176,0,1)","v":1},{"$f":"IF(P523>$P$176,0,1)","v":1},{"$f":"IF(Q523>$Q$176,0,1)","v":1},{"$f":"IF(R523>$R$176,0,1)","v":1},{"$f":"IF(S523>$S$176,0,1)","v":1},{"$f":"IF(T523>$T$176,0,1)","v":1},{"$f":"IF(U523>$U$176,0,1)","v":1},{"$f":"IF(V523>$V$176,0,1)","v":1},{"$f":"IF(W523>$W$176,0,1)","v":1},{"$f":"IF(X523>$X$176,0,1)","v":1},{"$f":"IF(Y523>$Y$176,0,1)","v":1},{"$f":"IF(Z523>$Z$176,0,1)","v":1},{"$f":"IF(AA523>$AA$176,0,1)","v":1},{"$f":"IF(AB523>$AB$176,0,1)","v":1},{"$f":"IF(AC523>$AC$176,0,1)","v":1},{"$f":"IF(AD523>$AD$176,0,1)","v":1},{"$f":"IF(AE523>$AE$176,0,1)","v":1},{"$f":"IF(AF523>$AF$176,0,1)","v":1},{"$f":"IF(AG523>$AG$176,0,1)","v":1},{"$f":"IF(AH523>$AH$176,0,1)","v":1},{"$f":"IF(AI523>$AI$176,0,1)","v":1},{"$f":"IF(AJ523>$AJ$176,0,1)","v":1},{"$f":"IF(AK523>$AK$176,0,1)","v":1},{"$f":"IF(AL523>$AL$176,0,1)","v":1},{"$f":"IF(AM523>$AM$176,0,1)","v":1},{"$f":"IF(AN523>$AN$176,0,1)","v":1},{"$f":"IF(AO523>$AO$176,0,1)","v":1},{"$f":"IF(AP523>$AP$176,0,1)","v":1},{"$f":"IF(AQ523>$AQ$176,0,1)","v":1},{"$f":"IF(AR523>$AR$176,0,1)","v":1},{"$f":"IF(AS523>$AS$176,0,1)","v":1},{"$f":"IF(AT523>$AT$176,0,1)","v":1},{"$f":"IF(AU523>$AU$176,0,1)","v":1},{"$f":"IF(AV523>$AV$176,0,1)","v":1},{"$f":"IF(AW523>$AW$176,0,1)","v":1},{"$f":"IF(AX523>$AX$176,0,1)","v":1},{"$f":"IF(AY523>$AY$176,0,1)","v":1},{"$f":"IF(AZ523>$AZ$176,0,1)","v":1},{"$f":"IF(BA523>$BA$176,0,1)","v":1},{"$f":"IF(BB523>$BB$176,0,1)","v":1},{"$f":"IF(BC523>$BC$176,0,1)","v":1},{"$f":"IF(BD523>$BD$176,0,1)","v":1},{"$f":"IF(BE523>$BE$176,0,1)","v":1},{"$f":"IF(BF523>$BF$176,0,1)","v":1},{"$f":"IF(BG523>$BG$176,0,1)","v":1},{"$f":"IF(BH523>$BH$176,0,1)","v":1},{"$f":"IF(BI523>$BI$176,0,1)","v":1},{"$f":"IF(BJ523>$BJ$176,0,1)","v":1},{"$f":"IF(BK523>$BK$176,0,1)","v":1},{"$f":"IF(BL523>$BL$176,0,1)","v":1},{"$f":"IF(BM523>$BM$176,0,1)","v":1},{"$f":"IF(BN523>$BN$176,0,1)","v":1},{"$f":"IF(BO523>$BO$176,0,1)","v":1},{"$f":"IF(BP523>$BP$176,0,1)","v":1},{"$f":"IF(BQ523>$BQ$176,0,1)","v":1},{"$f":"IF(BR523>$BR$176,0,1)","v":1},{"$f":"IF(BS523>$BS$176,0,1)","v":1},{"$f":"IF(BT523>$BT$176,0,1)","v":1},{"$f":"IF(BU523>$BU$176,0,1)","v":1},{"$f":"IF(BV523>$BV$176,0,1)","v":1},{"$f":"IF(BW523>$BW$176,0,1)","v":1}]
[null,"obst. TOTAL",{"$f":"C525*C526","v":0},{"$f":"D525*D526","v":0},0,0,0,0,0,0,0,0,0,0,0,0,0,0,0,0,0,0,0,1,1,1,1,1,1,1,1,1,1,1,1,1,1,1,1,1,1,1,1,1,1,1,1,1,1,1,1,1,1,1,1,1,1,1,1,1,0,0,0,0,0,0,0,{"$f":"BP525*BP526","v":0},0,0,0,0,0,0,0]
[]
[null,"Latitud",{"$f":"$C$182","v":40.4},null,{"$f":"PI()*(C529+D529/60)/180","v":0.70511301780570912}]
[null,"Azimut",{"$f":"$I$4","v":15},null,{"$f":"C530*PI()/180","v":0.26179938779914941}]
[null,"Inclinacion",{"$f":"$I$3","v":35},null,{"$f":"C531*PI()/180","v":0.6108652381980153}]
[null,"Coeficiente refexion",{"$f":"M333","v":0}]
[null,"Constante solar extraterrestre (Bo)",{"$f":"$G$182","v":1367},"W/m2"]
[null,"Dia del año",{"$f":"31+28+31+30+31+30+15.5","v":196.5}]
[null,"Declinacion . radianes",{"$f":"23.45*PI()/180*SIN(2*PI()*((C534+284)/365))","v":0.37413403753502533}]
[null,"Ángulo puesta de sol. Radianes. Ws",{"$f":"ACOS(-TAN(C535)*TAN($E$199))","v":1.9115012528916773}]
[null,"Distancia sol - tierra. Bo",{"$f":"1+0.033*COS((2*PI()*C534/365)*PI()/180)","v":1.032942507439385},"expresion Duffi y Beckman"]
[null,"Factor angulo solar",{"$f":"(SIN(C535)*C536*SIN(E529))+COS(E529)*COS(C535)*SIN(C536)","v":1.120882831753814}]
[null,"Ho. Irradiacion Extraterreste sobre sup. Horizontal",{"$f":"+($C$203*24/PI())*C537*C538","v":12091.112182822633}]
[null,"H1",{"$f":"+(3.6*C533*24/PI())*(1+0.033*COS(PI()/180*(360*C534/365)))","v":36390.41160530709}]
[null,"H2",{"$f":"COS(E529)*COS(C535)*SIN(C536)","v":0.66811282945460082}]
[null,"H3",{"$f":"+SIN(C535)*C536*SIN(E529)","v":0.4527700022992131}]
[null,"H horizontal diaria (W/m2 dia) s/ localidad",{"$f":"I6","v":8051.613333333331},"W/m2 dia"]
[null,"Indice de claridad Kt",{"$f":"C543/C539","v":0.66591172189866377}]
[null,"Fraccion difusa diaria promedio",{"$f":"0.775+0.347*(C536-(PI()/2))-(0.505+0.261*(C536-(PI()/2)))*COS(2*C544-1.8)","v":0.3632112287246575},"Correlacion Collares-Pereira "]
[null,"Factor A Lui y Jordan",{"$f":"0.409+0.5016*SIN(C536-60*PI()/180)","v":0.79053874556814496},"parametros 5 estaciones EEUU"]
[null,"Factor B Lui y Jordan",{"$f":"0.6609-0.4767*SIN(C536-60*PI()/180)","v":0.29830127589247474},"parametros 5 estaciones EEUU"]
[]
[null,"AZIMUT",-180,{"$f":"C549+5","v":-175},{"$f":"D549+5","v":-170},-165,-160,-155,-150,-145,-140,-135,-130,-125,-120,-115,-110,-105,-100,-95,-90,-85,-80,-75,-70,-65,-60,-55,-50,-45,-40,-35,-30,-25,-20,-15,-10,-5,0,5,10,15,20,25,30,35,40,45,50,55,60,65,70,75,80,85,90,95,100,105,110,115,120,125,130,135,140,145,{"$f":"BP549+5","v":150},155,160,165,170,175,180]
[null,"Az radianes",{"$f":"C549*PI()/180","v":-3.1415926535897931},{"$f":"D549*PI()/180","v":-3.0543261909900763},{"$f":"E549*PI()/180","v":-2.9670597283903604},{"$f":"F549*PI()/180","v":-2.8797932657906435},-2.7925268031909272,-2.7052603405912108,-2.6179938779914944,-2.5307274153917776,-2.4434609527920612,-2.3561944901923448,-2.2689280275926285,-2.1816615649929116,-2.0943951023931953,-2.0071286397934789,-1.9198621771937625,-1.8325957145940461,-1.7453292519943295,-1.6580627893946132,-1.5707963267948966,-1.4835298641951802,-1.3962634015954636,-1.3089969389957472,-1.2217304763960306,-1.1344640137963142,-1.0471975511965976,-0.95993108859688125,-0.87266462599716477,-0.78539816339744828,-0.69813170079773179,-0.6108652381980153,-0.52359877559829882,-0.43633231299858238,-0.3490658503988659,-0.26179938779914941,-0.17453292519943295,-8.7266462599716474E-2,0,8.7266462599716474E-2,0.17453292519943295,0.26179938779914941,0.3490658503988659,0.43633231299858238,0.52359877559829882,0.6108652381980153,0.69813170079773179,0.78539816339744828,0.87266462599716477,0.95993108859688125,1.0471975511965976,1.1344640137963142,1.2217304763960306,1.3089969389957472,1.3962634015954636,1.4835298641951802,1.5707963267948966,1.6580627893946132,1.7453292519943295,1.8325957145940461,1.9198621771937625,2.0071286397934789,2.0943951023931953,2.1816615649929116,2.2689280275926285,2.3561944901923448,2.4434609527920612,2.5307274153917776,2.6179938779914944,{"$f":"BR549*PI()/180","v":2.7052603405912108},2.7925268031909272,2.8797932657906435,2.9670597283903604,3.0543261909900763,3.1415926535897931]
[null,"alt solar (grados)",{"$f":"C523","v":0},{"$f":"D523","v":0},{"$f":"E523","v":0},0,0,0,0,0,0,0,0,0,0,11.907866950511554,15.207953550342403,19.085960873935591,23.579045964790808,28.681212477524639,34.325061857142252,39.968911236759858,45.07107774949371,49.564162840348914,53.442170163942116,56.742256763772929,59.524642930558706,61.856933927156909,63.804421764635038,65.425290895484068,66.768982841715001,67.876266693845167,68.780069839736882,69.50653928698263,70.076071876338659,70.504202362018361,70.802314592133897,70.978175197585614,71.036301322946073,70.978175197585614,70.802314592133897,70.504202362018361,70.076071876338659,69.50653928698263,68.780069839736882,67.876266693845167,66.768982841715001,65.425290895484068,63.804421764635038,61.856933927156909,59.524642930558706,56.742256763772929,53.442170163942116,49.564162840348914,45.07107774949371,39.968911236759858,34.325061857142252,28.681212477524639,23.579045964790808,19.085960873935591,15.207953550342403,11.907866950511554,0,0,0,0,0,0,{"$f":"BQ523","v":0},0,0,0,0,0,0]
[null,"ang horario (grados)",{"$f":"DEGREES(ACOS((SIN(C551*PI()/180)-(SIN($E529)*SIN($C535)))/(COS($E529)*COS($C535))))","v":109.52095432466216},{"$f":"DEGREES(ACOS((SIN(D551*PI()/180)-(SIN($E529)*SIN($C535)))/(COS($E529)*COS($C535))))","v":109.52095432466216},109.52095432466216,109.52095432466216,109.52095432466216,109.52095432466216,109.52095432466216,109.52095432466216,109.52095432466216,109.52095432466216,109.52095432466216,109.52095432466216,109.52095432466216,92.468258987543848,87.94191677314835,82.695979078845781,76.693771660758486,69.946162859730364,62.526719855072564,55.106383555996608,48.347282567463168,42.303263964593071,36.963674523302714,32.273541549276729,28.155192630194836,24.524811838528986,21.302439987447524,18.416692357479612,15.806119854664475,13.418785726058509,11.211065573574961,9.1462242884834168,7.1930339270255796,5.3245346467415349,3.5169588225451709,1.7488008430056301,0,{"$f":"-DEGREES(ACOS((SIN(AN551*PI()/180)-(SIN($E529)*SIN($C535)))/(COS($E529)*COS($C535))))","v":-1.7488008430056301},{"$f":"-DEGREES(ACOS((SIN(AO551*PI()/180)-(SIN($E529)*SIN($C535)))/(COS($E529)*COS($C535))))","v":-3.5169588225451709},-5.3245346467415349,-7.1930339270255796,-9.1462242884834168,-11.211065573574961,-13.418785726058509,-15.806119854664475,-18.416692357479612,-21.302439987447524,-24.524811838528986,-28.155192630194836,-32.273541549276729,-36.963674523302714,-42.303263964593071,-48.347282567463168,-55.106383555996608,-62.526719855072564,-69.946162859730364,-76.693771660758486,-82.695979078845781,-87.94191677314835,-92.468258987543848,-109.52095432466216,-109.52095432466216,-109.52095432466216,-109.52095432466216,-109.52095432466216,-109.52095432466216,-109.52095432466216,-109.52095432466216,-109.52095432466216,-109.52095432466216,-109.52095432466216,-109.52095432466216,-109.52095432466216]
[null,"Factor inclinación",{"$f":"-(IF(C551=0,0,(SIN($C535)*SIN($E529)*COS($E531)-SIN($C535)*COS($E529)*SIN($E531)*COS($E530)+COS($C535)*COS($E529)*COS($E531)*COS(C552*PI()/180)+COS($C535)*SIN($E529)*SIN($E531)*COS(C552*PI()/180)*COS($E530)+COS($C535)*SIN($E531)*SIN(C552*PI()/180)*SIN($E530))/(COS($C535)*COS($E529)*COS(C552*PI()/180)+SIN($C535)*SIN($E529))))","v":0},{"$f":"-(IF(D551=0,0,(SIN($C535)*SIN($E529)*COS($E531)-SIN($C535)*COS($E529)*SIN($E531)*COS($E530)+COS($C535)*COS($E529)*COS($E531)*COS(D552*PI()/180)+COS($C535)*SIN($E529)*SIN($E531)*COS(D552*PI()/180)*COS($E530)+COS($C535)*SIN($E531)*SIN(D552*PI()/180)*SIN($E530))/(COS($C535)*COS($E529)*COS(D552*PI()/180)+SIN($C535)*SIN($E529))))","v":0},0,0,0,0,0,0,0,0,0,0,0,-0.67116304293728635,-0.80352628282185412,-0.89670498098005946,-0.96215752261373477,-1.0071367779806542,-1.0365709304007413,-1.0532017339952617,-1.0609552418783754,-1.0635374203346981,-1.0631060410315989,-1.060945625813404,-1.0578218903561956,-1.0541863978914332,-1.0503000529419155,-1.046308433619594,-1.0422875645587131,-1.0382714952544241,-1.0342687506290018,-1.0302720091780686,-1.0262636528972,-1.0222187699515997,-1.0181065379853307,-1.0138905143566077,-1.0095281068802393,-1.0049693296890672,-1.0001548214050766,-0.99501298737613519,-0.98945599984344157,-0.98337422414092679,-0.97662840288675323,-0.9690385763382694,-0.96036817237514249,-0.95030084681715865,-0.93840630276613846,-0.9240891455598611,-0.90651127106690987,-0.88447224363718679,-0.85622119573047251,-0.81915204428899191,-0.7692854408018196,-0.70032190257331794,-0.60173315817724216,-0.46620911975895246,-0.28981316791217193,-5.8370672969894191E-2,0.24932850639859769,0.66697788087757448,0,0,0,0,0,{"$f":"-(IF(BP551=0,0,(SIN($C535)*SIN($E529)*COS($E531)-SIN($C535)*COS($E529)*SIN($E531)*COS($E530)+COS($C535)*COS($E529)*COS($E531)*COS(BP552*PI()/180)+COS($C535)*SIN($E529)*SIN($E531)*COS(BP552*PI()/180)*COS($E530)+COS($C535)*SIN($E531)*SIN(BP552*PI()/180)*SIN($E530))/(COS($C535)*COS($E529)*COS(BP552*PI()/180)+SIN($C535)*SIN($E529))))","v":0},0,0,0,0,0,0,0]
[null,"Correccion valores negativos",{"$f":"ABS(C553)","v":0},{"$f":"ABS(D553)","v":0},0,0,0,0,0,0,0,0,0,0,0,0.67116304293728635,0.80352628282185412,0.89670498098005946,0.96215752261373477,1.0071367779806542,1.0365709304007413,1.0532017339952617,1.0609552418783754,1.0635374203346981,1.0631060410315989,1.060945625813404,1.0578218903561956,1.0541863978914332,1.0503000529419155,1.046308433619594,1.0422875645587131,1.0382714952544241,1.0342687506290018,1.0302720091780686,1.0262636528972,1.0222187699515997,1.0181065379853307,1.0138905143566077,1.0095281068802393,1.0049693296890672,1.0001548214050766,0.99501298737613519,0.98945599984344157,0.98337422414092679,0.97662840288675323,0.9690385763382694,0.96036817237514249,0.95030084681715865,0.93840630276613846,0.9240891455598611,0.90651127106690987,0.88447224363718679,0.85622119573047251,0.81915204428899191,0.7692854408018196,0.70032190257331794,0.60173315817724216,0.46620911975895246,0.28981316791217193,5.8370672969894191E-2,0.24932850639859769,0.66697788087757448,0,0,0,0,0,{"$f":"ABS(BP553)","v":0},0,0,0,0,0,0,0]
[null,"Radiacion H GLOBAL (distribucion Lui y Jordan)",{"$f":"$C543*((PI()/24*($C546+$C547*COS(C552*PI()/180))*(COS(C552*PI()/180)-COS($C536)))/(SIN($C536)-$C536*COS($C536)))","v":-1.0224726562082261E-13},{"$f":"$C543*((PI()/24*($C546+$C547*COS(D552*PI()/180))*(COS(D552*PI()/180)-COS($C536)))/(SIN($C536)-$C536*COS($C536)))","v":-1.0224726562082261E-13},-1.0224726562082261E-13,-1.0224726562082261E-13,-1.0224726562082261E-13,-1.0224726562082261E-13,-1.0224726562082261E-13,-1.0224726562082261E-13,-1.0224726562082261E-13,-1.0224726562082261E-13,-1.0224726562082261E-13,-1.0224726562082261E-13,-1.0224726562082261E-13,150.88614832772751,197.6363324051371,254.72061074065999,323.16761673925419,402.91357427232379,492.12386730938903,580.56929245805316,658.24901151487256,723.6719142297045,777.11057574290044,819.89838374776707,853.7758954064235,{"$f":"$C543*((PI()/24*($C546+$C547*COS(AB552*PI()/180))*(COS(AB552*PI()/180)-COS($C536)))/(SIN($C536)-$C536*COS($C536)))","v":880.46660574188047},{"$f":"$C543*((PI()/24*($C546+$C547*COS(AC552*PI()/180))*(COS(AC552*PI()/180)-COS($C536)))/(SIN($C536)-$C536*COS($C536)))","v":901.47381898601145},918.02168087613859,931.06881437333266,941.34920755272242,949.41734486846156,955.68811244251299,960.46879323687131,963.98334825805205,966.39012880687153,967.7942707879331,968.25581164280322,967.7942707879331,966.39012880687153,963.98334825805205,960.46879323687131,955.68811244251299,949.41734486846156,941.34920755272242,931.06881437333266,918.02168087613859,901.47381898601145,880.46660574188047,853.7758954064235,819.89838374776707,777.11057574290044,723.6719142297045,658.24901151487256,580.56929245805316,492.12386730938903,402.91357427232379,323.16761673925419,254.72061074065999,197.6363324051371,150.88614832772751,-1.0224726562082261E-13,-1.0224726562082261E-13,-1.0224726562082261E-13,-1.0224726562082261E-13,-1.0224726562082261E-13,-1.0224726562082261E-13,-1.0224726562082261E-13,-1.0224726562082261E-13,-1.0224726562082261E-13,-1.0224726562082261E-13,-1.0224726562082261E-13,-1.0224726562082261E-13,-1.0224726562082261E-13]
[null,"Radiacion H DIFUSA (distribucion Lui y Jordan)",{"$f":"$C545*$C543*((PI()/24*(COS(C552*PI()/180)-COS($C536)))/(SIN($C536)-$C536*COS($C536)))","v":-5.3755184073763081E-14},{"$f":"$C545*$C543*((PI()/24*(COS(D552*PI()/180)-COS($C536)))/(SIN($C536)-$C536*COS($C536)))","v":-5.3755184073763081E-14},-5.3755184073763081E-14,-5.3755184073763081E-14,-5.3755184073763081E-14,-5.3755184073763081E-14,-5.3755184073763081E-14,-5.3755184073763081E-14,-5.3755184073763081E-14,-5.3755184073763081E-14,-5.3755184073763081E-14,-5.3755184073763081E-14,-5.3755184073763081E-14,70.469458941358283,89.589514929561503,111.67352191982188,136.61413846793982,163.90937107880239,192.58077711341684,219.38508430975435,241.79297833881134,259.94472797411049,274.33082790388954,285.58606437345463,294.34112990323774,301.14605736780402,306.44645311568644,310.58822155104451,313.83343685096924,316.37804873146274,318.36750667268274,319.90921144292628,321.0819147210309,321.94258039661941,322.53125869177973,322.87443466779501,322.98719383478539,322.87443466779501,322.53125869177973,321.94258039661941,321.0819147210309,319.90921144292628,318.36750667268274,316.37804873146274,313.83343685096924,310.58822155104451,306.44645311568644,301.14605736780402,294.34112990323774,285.58606437345463,274.33082790388954,259.94472797411049,241.79297833881134,219.38508430975435,192.58077711341684,163.90937107880239,136.61413846793982,111.67352191982188,89.589514929561503,70.469458941358283,-5.3755184073763081E-14,-5.3755184073763081E-14,-5.3755184073763081E-14,-5.3755184073763081E-14,-5.3755184073763081E-14,{"$f":"$C545*$C543*((PI()/24*(COS(BP552*PI()/180)-COS($C536)))/(SIN($C536)-$C536*COS($C536)))","v":-5.3755184073763081E-14},-5.3755184073763081E-14,-5.3755184073763081E-14,-5.3755184073763081E-14,-5.3755184073763081E-14,-5.3755184073763081E-14,-5.3755184073763081E-14,-5.3755184073763081E-14]
[null,"Total Directa",{"$f":"C$54*IF((C555-C556)*C554<0,0,(C555-C556)*C554)","v":0},{"$f":"D$54*IF((D555-D556)*D554<0,0,(D555-D556)*D554)","v":0},0,0,0,0,0,0,0,0,0,0,0,0,0,0,0,0,0,0,0,493.19121540934253,534.5081872359965,566.87631805839135,591.78234117555496,610.71184211495745,624.95727387549084,635.56275135457054,643.33675839726209,648.88973956023949,652.67512773538192,655.02520572586866,656.17951356020467,656.30612398209416,655.51692520402275,653.878104362626,651.41680616495682,648.12465540883829,643.95855325003402,638.83890244707186,632.64518316866793,625.20858349563969,616.30119561908759,605.62116199663194,592.77321143643337,577.24453078171302,558.37743045104605,535.34383055227045,507.1339203553116,472.58441591998724,430.49067688378335,379.86307261365192,320.37356305642345,252.94521182985392,180.24500967379285,111.42593918954142,54.065654522844149,8.3497548408565478,0,0,0,0,0,0,0,{"$f":"BP$54*IF((BP555-BP556)*BP554<0,0,(BP555-BP556)*BP554)","v":0},0,0,0,0,0,0,0]
[null,"Total Difusa (plano incl)",{"$f":"C$54*C556*(1+COS($E531))/2","v":0},{"$f":"D$54*D556*(1+COS($E531))/2","v":0},0,0,0,0,0,0,0,0,0,0,0,0,0,0,0,0,0,0,0,236.43949164812452,249.52474319642613,259.76223641270883,267.72563409090333,273.91523294510534,278.73634582525585,282.50359908333246,285.45536910684046,287.76988705900135,289.57945029940004,290.98174799163934,292.04841077449356,292.83125163609168,293.36669929812638,293.67884393728593,293.78140697185734,293.67884393728593,293.36669929812638,292.83125163609168,292.04841077449356,290.98174799163934,289.57945029940004,287.76988705900135,285.45536910684046,282.50359908333246,278.73634582525585,273.91523294510534,267.72563409090333,259.76223641270883,249.52474319642613,236.43949164812452,219.92909541988629,199.54741230430122,175.16685718831746,149.08803373806316,124.26094463636608,101.57555784669776,0,0,0,0,0,0,0,{"$f":"BP$54*BP556*(1+COS($E531))/2","v":0},0,0,0,0,0,0,0]
[null,"Total Reflejada (plano incl)",{"$f":"C$54*C555*$C532*(1-COS($E531))/2","v":0},{"$f":"D$54*D555*$C532*(1-COS($E531))/2","v":0},0,0,0,0,0,0,0,0,0,0,0,0,0,0,0,0,0,0,0,0,0,0,0,0,0,0,0,0,0,0,0,0,0,0,0,0,0,0,0,0,0,0,0,0,0,0,0,0,0,0,0,0,0,0,0,0,0,0,0,0,0,0,0,{"$f":"BP$54*BP555*$C532*(1-COS($E531))/2","v":0},0,0,0,0,0,0,0]
[null,"TOTAL (W/m2)",{"$f":"C557+C558+C559","v":0},0,0,0,0,0,0,0,0,0,0,0,0,0,0,0,0,0,0,0,0,729.63070705746702,784.03293043242263,826.63855447110018,859.50797526645829,884.62707506006279,903.69361970074669,918.066350437903,928.79212750410261,936.65962661924084,942.25457803478196,946.00695371750794,948.22792433469817,949.13737561818584,948.88362450214913,947.55694829991194,945.19821313681416,941.80349934612423,937.32525254816039,931.67015408316354,924.69359394316143,916.19033148727908,905.88064591848763,893.39104905563329,878.22858054327389,859.74812986504548,837.11377627630191,809.25906349737579,774.85955444621493,732.34665233269607,680.01542008020942,616.30256426177641,540.30265847630972,452.49262413415511,355.41186686211029,260.51397292760458,178.32659915921022,109.92531268755431,0,0,0,0,0,0,{"$f":"BO557+BO558+BO559","v":0},0,0,0,0,0,0,0,0]
[null,"Radiación Directa recibida",{"$f":"C557*C527","v":0},{"$f":"D557*D527","v":0},0,0,0,0,0,0,0,0,0,0,0,0,0,0,0,0,0,0,0,493.19121540934253,534.5081872359965,566.87631805839135,591.78234117555496,610.71184211495745,624.95727387549084,635.56275135457054,643.33675839726209,648.88973956023949,652.67512773538192,655.02520572586866,656.17951356020467,656.30612398209416,655.51692520402275,653.878104362626,651.41680616495682,648.12465540883829,643.95855325003402,638.83890244707186,632.64518316866793,625.20858349563969,616.30119561908759,605.62116199663194,592.77321143643337,577.24453078171302,558.37743045104605,535.34383055227045,507.1339203553116,472.58441591998724,430.49067688378335,379.86307261365192,320.37356305642345,252.94521182985392,180.24500967379285,111.42593918954142,54.065654522844149,8.3497548408565478,0,0,0,0,0,0,0,{"$f":"BP557*BP527","v":0},0,0,0,0,0,0,0]
[null,"Radiación Global recibida",{"$f":"C561+C559+C558","v":0},0,0,0,0,0,0,0,0,0,0,0,0,0,0,0,0,0,0,0,0,729.63070705746702,784.03293043242263,826.63855447110018,859.50797526645829,884.62707506006279,903.69361970074669,918.066350437903,928.79212750410261,936.65962661924084,942.25457803478196,946.00695371750794,948.22792433469817,949.13737561818584,948.88362450214913,947.55694829991194,945.19821313681416,941.80349934612423,937.32525254816039,931.67015408316354,924.69359394316143,916.19033148727908,905.88064591848763,893.39104905563329,878.22858054327389,859.74812986504548,837.11377627630191,809.25906349737579,774.85955444621493,732.34665233269607,680.01542008020942,616.30256426177641,540.30265847630972,452.49262413415511,355.41186686211029,260.51397292760458,178.32659915921022,109.92531268755431,0,0,0,0,0,0,{"$f":"BO561+BO559+BO558","v":0},0,0,0,0,0,0,0,0]
[null,"Total Directa recibida",{"$f":"SUM(C561:BW561)","v":19322.728691410441},"W/m2"]
[null,"Total Directa disponible",{"$f":"SUM(C557:BW557)","v":19322.728691410441},"W/m2"]
[null,"Obstruccion directa",{"$f":"IF(C563=0,1,1-(C563/C564))","v":0}]
[null,"Total global recibida",{"$f":"SUM(C562:BW562)","v":28934.715886125403}]
[null,"Total global ",{"$f":"SUM(C560:BW560)","v":28934.715886125403},"W/m2","% difusa","Fd"]
[null,"Obstrucción global",{"$f":"1-(C566/C567)","v":0},null,{"$f":"1-(C564/C567)","v":0.33219566532270817},{"$f":"C545","v":0.3632112287246575}]
[]
[null,"AGOSTO"]
[null,"Declinacion dia tipo",{"$f":"D571*180/PI()","v":13.619766412491641},{"$f":"C590","v":0.23770976725051529}]
[null,"ocaso",{"$f":"-DEGREES(ACOS((SIN(D572*PI()/180)*SIN($E$182)-SIN($C$571*PI()/180))/(COS(D572*PI()/180)*COS($E$182))))","v":-108.01179836130972},0]
[null,"AZIMUT",-180,{"$f":"C573+5","v":-175},{"$f":"D573+5","v":-170},-165,-160,-155,-150,-145,-140,-135,-130,-125,-120,-115,-110,-105,-100,-95,-90,-85,-80,-75,-70,-65,-60,-55,-50,-45,-40,-35,-30,-25,-20,-15,-10,-5,0,5,10,15,20,25,30,35,40,45,50,55,60,65,70,75,80,85,90,95,100,105,110,115,120,125,130,135,140,145,{"$f":"BP573+5","v":150},155,160,165,170,175,180]
[null,"Az radianes",{"$f":"C573*PI()/180","v":-3.1415926535897931},{"$f":"D573*PI()/180","v":-3.0543261909900763},{"$f":"E573*PI()/180","v":-2.9670597283903604},{"$f":"F573*PI()/180","v":-2.8797932657906435},-2.7925268031909272,-2.7052603405912108,-2.6179938779914944,-2.5307274153917776,-2.4434609527920612,-2.3561944901923448,-2.2689280275926285,-2.1816615649929116,-2.0943951023931953,-2.0071286397934789,-1.9198621771937625,-1.8325957145940461,-1.7453292519943295,-1.6580627893946132,-1.5707963267948966,-1.4835298641951802,-1.3962634015954636,-1.3089969389957472,-1.2217304763960306,-1.1344640137963142,-1.0471975511965976,-0.95993108859688125,-0.87266462599716477,-0.78539816339744828,-0.69813170079773179,-0.6108652381980153,-0.52359877559829882,-0.43633231299858238,-0.3490658503988659,-0.26179938779914941,-0.17453292519943295,-8.7266462599716474E-2,0,8.7266462599716474E-2,0.17453292519943295,0.26179938779914941,0.3490658503988659,0.43633231299858238,0.52359877559829882,0.6108652381980153,0.69813170079773179,0.78539816339744828,0.87266462599716477,0.95993108859688125,1.0471975511965976,1.1344640137963142,1.2217304763960306,1.3089969389957472,1.3962634015954636,1.4835298641951802,1.5707963267948966,1.6580627893946132,1.7453292519943295,1.8325957145940461,1.9198621771937625,2.0071286397934789,2.0943951023931953,2.1816615649929116,2.2689280275926285,2.3561944901923448,2.4434609527920612,2.5307274153917776,2.6179938779914944,{"$f":"BR573*PI()/180","v":2.7052603405912108},2.7925268031909272,2.8797932657906435,2.9670597283903604,3.0543261909900763,3.1415926535897931]
[null,"a",{"$f":"SIN($E$182)^2+COS(C574)^2*COS($E$182)^2","v":1},{"$f":"SIN($E$182)^2+COS(D574)^2*COS($E$182)^2","v":0.99559469963002312},{"$f":"SIN($E$182)^2+COS(E574)^2*COS($E$182)^2","v":0.98251265134264432},0.96115134655524004,0.93215983770443378,0.89641901711624594,0.85501485153852075,0.80920538559081812,0.76038251671525159,0.71002970307704127,0.65967688943883074,0.61085402056326399,0.5650445546155618,0.5236403890378365,0.48789956844964866,0.4589080595988424,0.43754675481143818,0.42446470652405949,0.42005940615408255,0.42446470652405949,0.43754675481143818,0.45890805959884234,0.48789956844964866,0.52364038903783661,0.56504455461556202,0.61085402056326421,0.65967688943883074,0.71002970307704127,0.76038251671525181,0.80920538559081834,0.85501485153852075,0.89641901711624594,0.93215983770443389,0.96115134655524026,0.98251265134264432,0.99559469963002312,1,0.99559469963002312,0.98251265134264432,0.96115134655524026,0.93215983770443389,0.89641901711624594,0.85501485153852075,0.80920538559081834,0.76038251671525181,0.71002970307704127,0.65967688943883074,0.61085402056326421,0.56504455461556202,0.52364038903783661,0.48789956844964866,0.45890805959884234,0.43754675481143818,0.42446470652405949,0.42005940615408255,0.42446470652405949,0.43754675481143818,0.4589080595988424,0.48789956844964866,0.5236403890378365,0.5650445546155618,0.61085402056326399,0.65967688943883074,0.71002970307704127,0.76038251671525159,0.80920538559081812,{"$f":"SIN($E$182)^2+COS(BQ574)^2*COS($E$182)^2","v":0.85501485153852075},0.89641901711624594,0.93215983770443378,0.96115134655524004,0.98251265134264432,0.99559469963002312,1]
[null,"b",{"$f":"-2*SIN($E$182)*SIN($D571)","v":-0.30523519774240637},{"$f":"-2*SIN($E$182)*SIN($D571)","v":-0.30523519774240637},{"$f":"-2*SIN($E$182)*SIN($D571)","v":-0.30523519774240637},-0.30523519774240637,-0.30523519774240637,-0.30523519774240637,-0.30523519774240637,-0.30523519774240637,-0.30523519774240637,-0.30523519774240637,-0.30523519774240637,-0.30523519774240637,-0.30523519774240637,-0.30523519774240637,-0.30523519774240637,-0.30523519774240637,-0.30523519774240637,-0.30523519774240637,-0.30523519774240637,-0.30523519774240637,-0.30523519774240637,-0.30523519774240637,-0.30523519774240637,-0.30523519774240637,-0.30523519774240637,-0.30523519774240637,-0.30523519774240637,-0.30523519774240637,-0.30523519774240637,-0.30523519774240637,-0.30523519774240637,-0.30523519774240637,-0.30523519774240637,-0.30523519774240637,-0.30523519774240637,-0.30523519774240637,-0.30523519774240637,-0.30523519774240637,-0.30523519774240637,-0.30523519774240637,-0.30523519774240637,-0.30523519774240637,-0.30523519774240637,-0.30523519774240637,-0.30523519774240637,-0.30523519774240637,-0.30523519774240637,-0.30523519774240637,-0.30523519774240637,-0.30523519774240637,-0.30523519774240637,-0.30523519774240637,-0.30523519774240637,-0.30523519774240637,-0.30523519774240637,-0.30523519774240637,-0.30523519774240637,-0.30523519774240637,-0.30523519774240637,-0.30523519774240637,-0.30523519774240637,-0.30523519774240637,-0.30523519774240637,-0.30523519774240637,-0.30523519774240637,-0.30523519774240637,{"$f":"-2*SIN($E$182)*SIN($D571)","v":-0.30523519774240637},-0.30523519774240637,-0.30523519774240637,-0.30523519774240637,-0.30523519774240637,-0.30523519774240637,-0.30523519774240637]
[null,"c",{"$f":"SIN($D571)^2-COS($E$182)^2*COS(C574)^2","v":-0.52449098090077206},{"$f":"SIN($D571)^2-COS($E$182)^2*COS(D574)^2","v":-0.52008568053079518},{"$f":"SIN($D571)^2-COS($E$182)^2*COS(E574)^2","v":-0.50700363224341638},-0.48564232745601216,-0.4566508186052059,-0.42090999801701806,-0.37950583243929281,-0.33369636649159024,-0.28487349761602371,-0.23452068397781334,-0.18416787033960291,-0.13534500146403616,-8.9535535516333892E-2,-4.8131369938608629E-2,-1.2390549350420763E-2,1.6600959500385482E-2,3.7962264287789725E-2,5.1044312575168373E-2,5.5449612945145332E-2,5.104431257516838E-2,3.7962264287789704E-2,1.6600959500385516E-2,-1.2390549350420804E-2,-4.8131369938608684E-2,-8.9535535516334086E-2,-0.13534500146403639,-0.18416787033960291,-0.23452068397781345,-0.28487349761602387,-0.33369636649159046,-0.37950583243929281,-0.42090999801701806,-0.45665081860520601,-0.48564232745601238,-0.50700363224341638,-0.52008568053079518,-0.52449098090077206,-0.52008568053079518,-0.50700363224341638,-0.48564232745601238,-0.45665081860520601,-0.42090999801701806,-0.37950583243929281,-0.33369636649159046,-0.28487349761602387,-0.23452068397781345,-0.18416787033960291,-0.13534500146403639,-8.9535535516334086E-2,-4.8131369938608684E-2,-1.2390549350420804E-2,1.6600959500385516E-2,3.7962264287789704E-2,5.104431257516838E-2,5.5449612945145332E-2,5.1044312575168373E-2,3.7962264287789725E-2,1.6600959500385482E-2,-1.2390549350420763E-2,-4.8131369938608629E-2,-8.9535535516333892E-2,-0.13534500146403616,-0.18416787033960291,-0.23452068397781334,-0.28487349761602371,-0.33369636649159024,{"$f":"SIN($D571)^2-COS($E$182)^2*COS(BQ574)^2","v":-0.37950583243929281},-0.42090999801701806,-0.4566508186052059,-0.48564232745601216,-0.50700363224341638,-0.52008568053079518,-0.52449098090077206]
[null,"alt solar",{"$f":"IF(C573<=$C$572,0,IF(C573>=-$C$572,0,$U$578-(DEGREES(ASIN(((-C576+(C576^2-4*C575*C577)^0.5)/(2*C575))))-$U$578)))","v":0},0,0,0,0,0,0,0,0,0,0,0,0,0,0,5.3529038862475105,10.222732610973168,{"$f":"IF(T573<=$C$572,0,IF(T573>=-$C$572,0,$U$578-(DEGREES(ASIN(((-T576+(T576^2-4*T575*T577)^0.5)/(2*T575))))-$U$578)))","v":15.573527004199107},{"$f":"IF(U573<=$C$572,0,IF(U573>=-$C$572,0,DEGREES(ASIN(((-U576/(2*U575)))))))","v":21.304465653205753},{"$f":"IF(V573<=$C$572,0,IF(V573>=-$C$572,0,DEGREES(ASIN(((-V576+(V576^2-4*V575*V577)^0.5)/(2*V575))))))","v":27.035404302212395},32.386198695438345,37.256027420163996,41.59531177861728,45.398333654757622,48.690083798218815,51.512927342423311,53.916146184616906,55.949064051106376,57.65718751923832,59.080434974663767,60.252626199337712,61.201641206361117,61.949875704996728,62.514778673358165,62.909357938633434,63.142598083144009,63.219766412491637,63.142598083144009,62.909357938633434,62.514778673358165,61.949875704996728,61.201641206361117,60.252626199337712,59.080434974663767,57.65718751923832,55.949064051106376,53.916146184616906,51.512927342423311,48.690083798218815,45.398333654757622,41.59531177861728,37.256027420163996,32.386198695438345,27.035404302212395,{"$f":"IF(BE573<=$C$572,0,IF(BE573>=-$C$572,0,DEGREES(ASIN(((-BE576/(2*BE575)))))))","v":21.304465653205753},{"$f":"IF(BF573<=$C$572,0,IF(BF573>=-$C$572,0,$BE$578-(DEGREES(ASIN(((-BF576+(BF576^2-4*BF575*BF577)^0.5)/(2*BF575))))-BE578)))","v":15.573527004199107},{"$f":"IF(BG573<=$C$572,0,IF(BG573>=-$C$572,0,$BE$578-(DEGREES(ASIN(((-BG576+(BG576^2-4*BG575*BG577)^0.5)/(2*BG575))))-$BE$578)))","v":10.222732610973168},{"$f":"IF(BH573<=$C$572,0,IF(BH573>=-$C$572,0,$BE$578-(DEGREES(ASIN(((-BH576+(BH576^2-4*BH575*BH577)^0.5)/(2*BH575))))-$BE$578)))","v":5.3529038862475105},0,0,0,0,0,0,0,0,0,0,0,0,0,0,0]
[]
[null,"obst. Inf.",{"$f":"IF($C$173>=C578,0,1)","v":0},{"$f":"IF($D$173>=D578,0,1)","v":0},{"$f":"IF($E$173>=E578,0,1)","v":0},{"$f":"IF($F$173>=F578,0,1)","v":0},{"$f":"IF($G$173>=G578,0,1)","v":0},{"$f":"IF($H$173>=H578,0,1)","v":0},{"$f":"IF($I$173>=I578,0,1)","v":0},{"$f":"IF($J$173>=J578,0,1)","v":0},{"$f":"IF($K$173>=K578,0,1)","v":0},{"$f":"IF($L$173>=L578,0,1)","v":0},{"$f":"IF($M$173>=M578,0,1)","v":0},{"$f":"IF($N$173>=N578,0,1)","v":0},{"$f":"IF($O$173>=O578,0,1)","v":0},{"$f":"IF($P$173>=P578,0,1)","v":0},{"$f":"IF($Q$173>=Q578,0,1)","v":0},{"$f":"IF($R$173>=R578,0,1)","v":0},{"$f":"IF($S$173>=S578,0,1)","v":0},{"$f":"IF($T$173>=T578,0,1)","v":0},{"$f":"IF($U$173>=U578,0,1)","v":0},{"$f":"IF($V$173>=V578,0,1)","v":0},{"$f":"IF($W$173>=W578,0,1)","v":0},{"$f":"IF($X$173>=X578,0,1)","v":1},{"$f":"IF($Y$173>=Y578,0,1)","v":1},{"$f":"IF($Z$173>=Z578,0,1)","v":1},{"$f":"IF($AA$173>=AA578,0,1)","v":1},{"$f":"IF($AB$173>=AB578,0,1)","v":1},{"$f":"IF($AC$173>=AC578,0,1)","v":1},{"$f":"IF($AD$173>=AD578,0,1)","v":1},{"$f":"IF($AE$173>=AE578,0,1)","v":1},{"$f":"IF($AF$173>=AF578,0,1)","v":1},{"$f":"IF($AG$173>=AG578,0,1)","v":1},{"$f":"IF($AH$173>=AH578,0,1)","v":1},{"$f":"IF($AI$173>=AI578,0,1)","v":1},{"$f":"IF($AJ$173>=AJ578,0,1)","v":1},{"$f":"IF($AK$173>=AK578,0,1)","v":1},{"$f":"IF($AL$173>=AL578,0,1)","v":1},{"$f":"IF($AM$173>=AM578,0,1)","v":1},{"$f":"IF($AN$173>=AN578,0,1)","v":1},{"$f":"IF($AO$173>=AO578,0,1)","v":1},{"$f":"IF($AP$173>=AP578,0,1)","v":1},{"$f":"IF($AQ$173>=AQ578,0,1)","v":1},{"$f":"IF($AR$173>=AR578,0,1)","v":1},{"$f":"IF($AS$173>=AS578,0,1)","v":1},{"$f":"IF($AT$173>=AT578,0,1)","v":1},{"$f":"IF($AU$173>=AU578,0,1)","v":1},{"$f":"IF($AV$173>=AV578,0,1)","v":1},{"$f":"IF($AW$173>=AW578,0,1)","v":1},{"$f":"IF($AX$173>=AX578,0,1)","v":1},{"$f":"IF($AY$173>=AY578,0,1)","v":1},{"$f":"IF($AZ$173>=AZ578,0,1)","v":1},{"$f":"IF($BA$173>=BA578,0,1)","v":1},{"$f":"IF($BB$173>=BB578,0,1)","v":1},{"$f":"IF($BC$173>=BC578,0,1)","v":1},{"$f":"IF($BD$173>=BD578,0,1)","v":1},{"$f":"IF($BE$173>=BE578,0,1)","v":1},{"$f":"IF($BF$173>=BF578,0,1)","v":1},{"$f":"IF($BG$173>=BG578,0,1)","v":1},{"$f":"IF($BH$173>=BH578,0,1)","v":0},{"$f":"IF($BI$173>=BI578,0,1)","v":0},{"$f":"IF($BJ$173>=BJ578,0,1)","v":0},{"$f":"IF($BK$173>=BK578,0,1)","v":0},{"$f":"IF($BL$173>=BL578,0,1)","v":0},{"$f":"IF($BM$173>=BM578,0,1)","v":0},{"$f":"IF($BN$173>=BN578,0,1)","v":0},{"$f":"IF($BO$173>=BO578,0,1)","v":0},{"$f":"IF($BP$173>=BP578,0,1)","v":0},{"$f":"IF($BQ$173>=BQ578,0,1)","v":0},{"$f":"IF($BR$173>=BR578,0,1)","v":0},{"$f":"IF($BS$173>=BS578,0,1)","v":0},{"$f":"IF($BT$173>=BT578,0,1)","v":0},{"$f":"IF($BU$173>=BU578,0,1)","v":0},{"$f":"IF($BV$173>=BV578,0,1)","v":0},{"$f":"IF($BW$173>=BW578,0,1)","v":0}]
[null,"obst. Sup",{"$f":"IF(C578>$C$176,0,1)","v":1},{"$f":"IF(D578>$D$176,0,1)","v":1},{"$f":"IF(E578>$E$176,0,1)","v":1},{"$f":"IF(F578>$F$176,0,1)","v":1},{"$f":"IF(G578>$G$176,0,1)","v":1},{"$f":"IF(H578>$H$176,0,1)","v":1},{"$f":"IF(I578>$I$176,0,1)","v":1},{"$f":"IF(J578>$J$176,0,1)","v":1},{"$f":"IF(K578>$K$176,0,1)","v":1},{"$f":"IF(L578>$L$176,0,1)","v":1},{"$f":"IF(M578>$M$176,0,1)","v":1},{"$f":"IF(N578>$N$176,0,1)","v":1},{"$f":"IF(O578>$O$176,0,1)","v":1},{"$f":"IF(P578>$P$176,0,1)","v":1},{"$f":"IF(Q578>$Q$176,0,1)","v":1},{"$f":"IF(R578>$R$176,0,1)","v":1},{"$f":"IF(S578>$S$176,0,1)","v":1},{"$f":"IF(T578>$T$176,0,1)","v":1},{"$f":"IF(U578>$U$176,0,1)","v":1},{"$f":"IF(V578>$V$176,0,1)","v":1},{"$f":"IF(W578>$W$176,0,1)","v":1},{"$f":"IF(X578>$X$176,0,1)","v":1},{"$f":"IF(Y578>$Y$176,0,1)","v":1},{"$f":"IF(Z578>$Z$176,0,1)","v":1},{"$f":"IF(AA578>$AA$176,0,1)","v":1},{"$f":"IF(AB578>$AB$176,0,1)","v":1},{"$f":"IF(AC578>$AC$176,0,1)","v":1},{"$f":"IF(AD578>$AD$176,0,1)","v":1},{"$f":"IF(AE578>$AE$176,0,1)","v":1},{"$f":"IF(AF578>$AF$176,0,1)","v":1},{"$f":"IF(AG578>$AG$176,0,1)","v":1},{"$f":"IF(AH578>$AH$176,0,1)","v":1},{"$f":"IF(AI578>$AI$176,0,1)","v":1},{"$f":"IF(AJ578>$AJ$176,0,1)","v":1},{"$f":"IF(AK578>$AK$176,0,1)","v":1},{"$f":"IF(AL578>$AL$176,0,1)","v":1},{"$f":"IF(AM578>$AM$176,0,1)","v":1},{"$f":"IF(AN578>$AN$176,0,1)","v":1},{"$f":"IF(AO578>$AO$176,0,1)","v":1},{"$f":"IF(AP578>$AP$176,0,1)","v":1},{"$f":"IF(AQ578>$AQ$176,0,1)","v":1},{"$f":"IF(AR578>$AR$176,0,1)","v":1},{"$f":"IF(AS578>$AS$176,0,1)","v":1},{"$f":"IF(AT578>$AT$176,0,1)","v":1},{"$f":"IF(AU578>$AU$176,0,1)","v":1},{"$f":"IF(AV578>$AV$176,0,1)","v":1},{"$f":"IF(AW578>$AW$176,0,1)","v":1},{"$f":"IF(AX578>$AX$176,0,1)","v":1},{"$f":"IF(AY578>$AY$176,0,1)","v":1},{"$f":"IF(AZ578>$AZ$176,0,1)","v":1},{"$f":"IF(BA578>$BA$176,0,1)","v":1},{"$f":"IF(BB578>$BB$176,0,1)","v":1},{"$f":"IF(BC578>$BC$176,0,1)","v":1},{"$f":"IF(BD578>$BD$176,0,1)","v":1},{"$f":"IF(BE578>$BE$176,0,1)","v":1},{"$f":"IF(BF578>$BF$176,0,1)","v":1},{"$f":"IF(BG578>$BG$176,0,1)","v":1},{"$f":"IF(BH578>$BH$176,0,1)","v":1},{"$f":"IF(BI578>$BI$176,0,1)","v":1},{"$f":"IF(BJ578>$BJ$176,0,1)","v":1},{"$f":"IF(BK578>$BK$176,0,1)","v":1},{"$f":"IF(BL578>$BL$176,0,1)","v":1},{"$f":"IF(BM578>$BM$176,0,1)","v":1},{"$f":"IF(BN578>$BN$176,0,1)","v":1},{"$f":"IF(BO578>$BO$176,0,1)","v":1},{"$f":"IF(BP578>$BP$176,0,1)","v":1},{"$f":"IF(BQ578>$BQ$176,0,1)","v":1},{"$f":"IF(BR578>$BR$176,0,1)","v":1},{"$f":"IF(BS578>$BS$176,0,1)","v":1},{"$f":"IF(BT578>$BT$176,0,1)","v":1},{"$f":"IF(BU578>$BU$176,0,1)","v":1},{"$f":"IF(BV578>$BV$176,0,1)","v":1},{"$f":"IF(BW578>$BW$176,0,1)","v":1}]
[null,"obst. TOTAL",{"$f":"C580*C581","v":0},{"$f":"D580*D581","v":0},0,0,0,0,0,0,0,0,0,0,0,0,0,0,0,0,0,0,0,1,1,1,1,1,1,1,1,1,1,1,1,1,1,1,1,1,1,1,1,1,1,1,1,1,1,1,1,1,1,1,1,1,1,1,1,0,0,0,0,0,0,0,0,{"$f":"BP580*BP581","v":0},0,0,0,0,0,0,0]
[]
[null,"Latitud",{"$f":"$C$182","v":40.4},null,{"$f":"PI()*(C584+D584/60)/180","v":0.70511301780570912}]
[null,"Azimut",{"$f":"$I$4","v":15},null,{"$f":"C585*PI()/180","v":0.26179938779914941}]
[null,"Inclinacion",{"$f":"$I$3","v":35},null,{"$f":"C586*PI()/180","v":0.6108652381980153}]
[null,"Coeficiente refexion",{"$f":"M388","v":0}]
[null,"Constante solar extraterrestre (Bo)",{"$f":"$G$182","v":1367},"W/m2"]
[null,"Dia del año",{"$f":"31+28+31+30+31+30+31+15.5","v":227.5}]
[null,"Declinacion . radianes",{"$f":"23.45*PI()/180*SIN(2*PI()*((C589+284)/365))","v":0.23770976725051529}]
[null,"Ángulo puesta de sol. Radianes. Ws",{"$f":"ACOS(-TAN(C590)*TAN($E$199))","v":1.7784918765460298}]
[null,"Distancia sol - tierra. Bo",{"$f":"1+0.033*COS((2*PI()*C589/365)*PI()/180)","v":1.0329229440105085},"expresion Duffi y Beckman"]
[null,"Factor angulo solar",{"$f":"(SIN(C590)*C591*SIN(E584))+COS(E584)*COS(C590)*SIN(C591)","v":0.99564665538805142}]
[null,"Ho. Irradiacion Extraterreste sobre sup. Horizontal",{"$f":"+($C$203*24/PI())*C592*C593","v":10739.969478381681}]
[null,"H1",{"$f":"+(3.6*C588*24/PI())*(1+0.033*COS(PI()/180*(360*C589/365)))","v":36708.545183172413}]
[null,"H2",{"$f":"COS(E584)*COS(C590)*SIN(C591)","v":0.72421749557765602}]
[null,"H3",{"$f":"+SIN(C590)*C591*SIN(E584)","v":0.27142915981039539}]
[null,"H horizontal diaria (W/m2 dia) s/ localidad",{"$f":"J6","v":7010.1111111111113},"W/m2 dia"]
[null,"Indice de claridad Kt",{"$f":"C598/C594","v":0.65271238668058185}]
[null,"Fraccion difusa diaria promedio",{"$f":"0.775+0.347*(C591-(PI()/2))-(0.505+0.261*(C591-(PI()/2)))*COS(2*C599-1.8)","v":0.35487154647976893},"Correlacion Collares-Pereira "]
[null,"Factor A Lui y Jordan",{"$f":"0.409+0.5016*SIN(C591-60*PI()/180)","v":0.74398532084737512},"parametros 5 estaciones EEUU"]
[null,"Factor B Lui y Jordan",{"$f":"0.6609-0.4767*SIN(C591-60*PI()/180)","v":0.34254373515162739},"parametros 5 estaciones EEUU"]
[]
[null,"AZIMUT",-180,{"$f":"C604+5","v":-175},{"$f":"D604+5","v":-170},-165,-160,-155,-150,-145,-140,-135,-130,-125,-120,-115,-110,-105,-100,-95,-90,-85,-80,-75,-70,-65,-60,-55,-50,-45,-40,-35,-30,-25,-20,-15,-10,-5,0,5,10,15,20,25,30,35,40,45,50,55,60,65,70,75,80,85,90,95,100,105,110,115,120,125,130,135,140,145,{"$f":"BP604+5","v":150},155,160,165,170,175,180]
[null,"Az radianes",{"$f":"C604*PI()/180","v":-3.1415926535897931},{"$f":"D604*PI()/180","v":-3.0543261909900763},{"$f":"E604*PI()/180","v":-2.9670597283903604},{"$f":"F604*PI()/180","v":-2.8797932657906435},-2.7925268031909272,-2.7052603405912108,-2.6179938779914944,-2.5307274153917776,-2.4434609527920612,-2.3561944901923448,-2.2689280275926285,-2.1816615649929116,-2.0943951023931953,-2.0071286397934789,-1.9198621771937625,-1.8325957145940461,-1.7453292519943295,-1.6580627893946132,-1.5707963267948966,-1.4835298641951802,-1.3962634015954636,-1.3089969389957472,-1.2217304763960306,-1.1344640137963142,-1.0471975511965976,-0.95993108859688125,-0.87266462599716477,-0.78539816339744828,-0.69813170079773179,-0.6108652381980153,-0.52359877559829882,-0.43633231299858238,-0.3490658503988659,-0.26179938779914941,-0.17453292519943295,-8.7266462599716474E-2,0,8.7266462599716474E-2,0.17453292519943295,0.26179938779914941,0.3490658503988659,0.43633231299858238,0.52359877559829882,0.6108652381980153,0.69813170079773179,0.78539816339744828,0.87266462599716477,0.95993108859688125,1.0471975511965976,1.1344640137963142,1.2217304763960306,1.3089969389957472,1.3962634015954636,1.4835298641951802,1.5707963267948966,1.6580627893946132,1.7453292519943295,1.8325957145940461,1.9198621771937625,2.0071286397934789,2.0943951023931953,2.1816615649929116,2.2689280275926285,2.3561944901923448,2.4434609527920612,2.5307274153917776,2.6179938779914944,{"$f":"BR604*PI()/180","v":2.7052603405912108},2.7925268031909272,2.8797932657906435,2.9670597283903604,3.0543261909900763,3.1415926535897931]
[null,"alt solar (grados)",{"$f":"C578","v":0},{"$f":"D578","v":0},{"$f":"E578","v":0},0,0,0,0,0,0,0,0,0,0,0,0,5.3529038862475105,10.222732610973168,15.573527004199107,21.304465653205753,27.035404302212395,32.386198695438345,37.256027420163996,41.59531177861728,45.398333654757622,48.690083798218815,51.512927342423311,53.916146184616906,55.949064051106376,57.65718751923832,59.080434974663767,60.252626199337712,61.201641206361117,61.949875704996728,62.514778673358165,62.909357938633434,63.142598083144009,63.219766412491637,63.142598083144009,62.909357938633434,62.514778673358165,61.949875704996728,61.201641206361117,60.252626199337712,59.080434974663767,57.65718751923832,55.949064051106376,53.916146184616906,51.512927342423311,48.690083798218815,45.398333654757622,41.59531177861728,37.256027420163996,32.386198695438345,27.035404302212395,21.304465653205753,15.573527004199107,10.222732610973168,5.3529038862475105,0,0,0,0,0,0,0,0,{"$f":"BQ578","v":0},0,0,0,0,0,0]
[null,"ang horario (grados)",{"$f":"DEGREES(ACOS((SIN(C606*PI()/180)-(SIN($E584)*SIN($C590)))/(COS($E584)*COS($C590))))","v":101.90007842438935},{"$f":"DEGREES(ACOS((SIN(D606*PI()/180)-(SIN($E584)*SIN($C590)))/(COS($E584)*COS($C590))))","v":101.90007842438935},101.90007842438935,101.90007842438935,101.90007842438935,101.90007842438935,101.90007842438935,101.90007842438935,101.90007842438935,101.90007842438935,101.90007842438935,101.90007842438935,101.90007842438935,101.90007842438935,101.90007842438935,94.597710918016475,88.075315863782762,80.994018458535763,73.459646254498253,65.924733020751503,58.836038471557458,52.284886042894115,46.309746842794468,40.904380568753794,36.031645200431541,31.637256539993778,27.660425889658953,24.040723335708492,20.72180007583076,17.652950876025081,14.789376722490397,12.091754476510104,9.5254894596697213,7.0598610394670489,4.667165892583653,2.3219017263130506,0,{"$f":"-DEGREES(ACOS((SIN(AN606*PI()/180)-(SIN($E584)*SIN($C590)))/(COS($E584)*COS($C590))))","v":-2.3219017263130506},{"$f":"-DEGREES(ACOS((SIN(AO606*PI()/180)-(SIN($E584)*SIN($C590)))/(COS($E584)*COS($C590))))","v":-4.667165892583653},-7.0598610394670489,-9.5254894596697213,-12.091754476510104,-14.789376722490397,-17.652950876025081,-20.72180007583076,-24.040723335708492,-27.660425889658953,-31.637256539993778,-36.031645200431541,-40.904380568753794,-46.309746842794468,-52.284886042894115,-58.836038471557458,-65.924733020751503,-73.459646254498253,-80.994018458535763,-88.075315863782762,-94.597710918016475,-101.90007842438935,-101.90007842438935,-101.90007842438935,-101.90007842438935,-101.90007842438935,-101.90007842438935,-101.90007842438935,-101.90007842438935,-101.90007842438935,-101.90007842438935,-101.90007842438935,-101.90007842438935,-101.90007842438935,-101.90007842438935,-101.90007842438935]
[null,"Factor inclinación",{"$f":"-(IF(C606=0,0,(SIN($C590)*SIN($E584)*COS($E586)-SIN($C590)*COS($E584)*SIN($E586)*COS($E585)+COS($C590)*COS($E584)*COS($E586)*COS(C607*PI()/180)+COS($C590)*SIN($E584)*SIN($E586)*COS(C607*PI()/180)*COS($E585)+COS($C590)*SIN($E586)*SIN(C607*PI()/180)*SIN($E585))/(COS($C590)*COS($E584)*COS(C607*PI()/180)+SIN($C590)*SIN($E584))))","v":0},{"$f":"-(IF(D606=0,0,(SIN($C590)*SIN($E584)*COS($E586)-SIN($C590)*COS($E584)*SIN($E586)*COS($E585)+COS($C590)*COS($E584)*COS($E586)*COS(D607*PI()/180)+COS($C590)*SIN($E584)*SIN($E586)*COS(D607*PI()/180)*COS($E585)+COS($C590)*SIN($E586)*SIN(D607*PI()/180)*SIN($E585))/(COS($C590)*COS($E584)*COS(D607*PI()/180)+SIN($C590)*SIN($E584))))","v":0},0,0,0,0,0,0,0,0,0,0,0,0,0,-0.99588874141145034,-1.1378756590172583,-1.183343613940663,-1.1998253619624633,-1.2035791309688548,-1.2013228817871255,-1.1962153629724883,-1.1897633942783259,-1.1827487753099615,-1.1755869823224727,-1.1684928554551339,-1.1615670975395072,-1.154844739134858,-1.1483231448358016,-1.1419782632356206,-1.1357738986111132,-1.1296667733274921,-1.1236090148360944,-1.117549024986594,-1.1114312745303145,-1.1051953031990922,-1.0987740298289206,-1.092091345184242,-1.0850588422916376,-1.0775714099856897,-1.069501248414874,-1.0606896255671416,-1.050935328439456,-1.0399781836358111,-1.0274750770400676,-1.0129643120232437,-0.99581137830089417,-0.97512418843519266,-0.94961628640557816,-0.91737719486125324,-0.87546695792896512,-0.8191520442889918,-0.74033769523210957,-0.62397329721677153,-0.43847872661552073,-0.12179630158773094,0.48710165171301656,2.0872670294819251,0,0,0,0,0,0,0,{"$f":"-(IF(BP606=0,0,(SIN($C590)*SIN($E584)*COS($E586)-SIN($C590)*COS($E584)*SIN($E586)*COS($E585)+COS($C590)*COS($E584)*COS($E586)*COS(BP607*PI()/180)+COS($C590)*SIN($E584)*SIN($E586)*COS(BP607*PI()/180)*COS($E585)+COS($C590)*SIN($E586)*SIN(BP607*PI()/180)*SIN($E585))/(COS($C590)*COS($E584)*COS(BP607*PI()/180)+SIN($C590)*SIN($E584))))","v":0},0,0,0,0,0,0,0]
[null,"Correccion valores negativos",{"$f":"ABS(C608)","v":0},{"$f":"ABS(D608)","v":0},0,0,0,0,0,0,0,0,0,0,0,0,0,0.99588874141145034,1.1378756590172583,1.183343613940663,1.1998253619624633,1.2035791309688548,1.2013228817871255,1.1962153629724883,1.1897633942783259,1.1827487753099615,1.1755869823224727,1.1684928554551339,1.1615670975395072,1.154844739134858,1.1483231448358016,1.1419782632356206,1.1357738986111132,1.1296667733274921,1.1236090148360944,1.117549024986594,1.1114312745303145,1.1051953031990922,1.0987740298289206,1.092091345184242,1.0850588422916376,1.0775714099856897,1.069501248414874,1.0606896255671416,1.050935328439456,1.0399781836358111,1.0274750770400676,1.0129643120232437,0.99581137830089417,0.97512418843519266,0.94961628640557816,0.91737719486125324,0.87546695792896512,0.8191520442889918,0.74033769523210957,0.62397329721677153,0.43847872661552073,0.12179630158773094,0.48710165171301656,2.0872670294819251,0,0,0,0,0,0,0,{"$f":"ABS(BP608)","v":0},0,0,0,0,0,0,0]
[null,"Radiacion H GLOBAL (distribucion Lui y Jordan)",{"$f":"$C598*((PI()/24*($C601+$C602*COS(C607*PI()/180))*(COS(C607*PI()/180)-COS($C591)))/(SIN($C591)-$C591*COS($C591)))","v":0},{"$f":"$C598*((PI()/24*($C601+$C602*COS(D607*PI()/180))*(COS(D607*PI()/180)-COS($C591)))/(SIN($C591)-$C591*COS($C591)))","v":0},0,0,0,0,0,0,0,0,0,0,0,0,0,61.606409349516085,123.57330816860453,197.3560040570008,281.77894090649329,370.20876778810782,454.77265696305597,532.0100085608608,599.97098557066886,658.09886276919735,706.82141878164214,{"$f":"$C598*((PI()/24*($C601+$C602*COS(AB607*PI()/180))*(COS(AB607*PI()/180)-COS($C591)))/(SIN($C591)-$C591*COS($C591)))","v":747.10556313177108},{"$f":"$C598*((PI()/24*($C601+$C602*COS(AC607*PI()/180))*(COS(AC607*PI()/180)-COS($C591)))/(SIN($C591)-$C591*COS($C591)))","v":780.11429829289875},806.99530382612261,828.77519779067427,846.32139223973388,860.34051013638384,871.39324813355222,879.91437685721098,886.23224119571705,890.58532370644571,893.13505655489985,893.97478837998403,893.13505655489985,890.58532370644571,886.23224119571705,879.91437685721098,871.39324813355222,860.34051013638384,846.32139223973388,828.77519779067427,806.99530382612261,780.11429829289875,747.10556313177108,706.82141878164214,658.09886276919735,599.97098557066886,532.0100085608608,454.77265696305597,370.20876778810782,281.77894090649329,197.3560040570008,123.57330816860453,61.606409349516085,0,0,0,0,0,0,0,0,0,0,0,0,0,0,0]
[null,"Radiacion H DIFUSA (distribucion Lui y Jordan)",{"$f":"$C600*$C598*((PI()/24*(COS(C607*PI()/180)-COS($C591)))/(SIN($C591)-$C591*COS($C591)))","v":0},{"$f":"$C600*$C598*((PI()/24*(COS(D607*PI()/180)-COS($C591)))/(SIN($C591)-$C591*COS($C591)))","v":0},0,0,0,0,0,0,0,0,0,0,0,0,0,30.511553512317665,58.045316407667265,87.807771214550343,118.82925518838807,148.66287299063998,175.18181188617581,197.99576811103861,217.12471403202073,232.86965357901386,245.67223889369743,256.00695698275831,264.31670695141378,270.98360543786708,276.32196816034616,280.58265618233173,283.96187671613291,286.61072232225223,288.64375845236731,290.14606987578691,291.17869797843247,291.78260479648384,291.98134547321337,291.78260479648384,291.17869797843247,290.14606987578691,288.64375845236731,286.61072232225223,283.96187671613291,280.58265618233173,276.32196816034616,270.98360543786708,264.31670695141378,256.00695698275831,245.67223889369743,232.86965357901386,217.12471403202073,197.99576811103861,175.18181188617581,148.66287299063998,118.82925518838807,87.807771214550343,58.045316407667265,30.511553512317665,0,0,0,0,0,0,0,{"$f":"$C600*$C598*((PI()/24*(COS(BP607*PI()/180)-COS($C591)))/(SIN($C591)-$C591*COS($C591)))","v":0},0,0,0,0,0,0,0]
[null,"Total Directa",{"$f":"C$54*IF((C610-C611)*C609<0,0,(C610-C611)*C609)","v":0},{"$f":"D$54*IF((D610-D611)*D609<0,0,(D610-D611)*D609)","v":0},0,0,0,0,0,0,0,0,0,0,0,0,0,0,0,0,0,0,0,399.55296587766401,455.49647951262364,502.93932639571295,542.12097278495207,573.84521260909617,599.13351109239761,619.01028999841719,634.39483002379359,646.06133924794722,654.63580755586406,660.60938903155215,664.35699704739466,666.15551956657976,666.19926999480106,664.61190525066002,661.45476119325872,656.73180797069051,650.39145937437502,642.32541610218846,632.36466453501487,620.27275834099521,605.73666841899626,588.35594313739659,567.63192467545548,542.96072129426966,513.63711035804556,478.88212976271041,437.91477168416799,390.09557909995959,335.16926069838684,273.60844788610672,206.99164185221525,138.23872246161599,71.449970696074089,13.342569605682067,31.918793020189476,64.903267375477839,0,0,0,0,0,0,0,{"$f":"BP$54*IF((BP610-BP611)*BP609<0,0,(BP610-BP611)*BP609)","v":0},0,0,0,0,0,0,0]
[null,"Total Difusa (plano incl)",{"$f":"C$54*C611*(1+COS($E586))/2","v":0},{"$f":"D$54*D611*(1+COS($E586))/2","v":0},0,0,0,0,0,0,0,0,0,0,0,0,0,0,0,0,0,0,0,180.09220315988256,197.49143369850665,211.8126531805662,223.45757780426163,232.85778957369439,240.4161388951994,246.48018990054874,251.33583663042572,255.21125629306206,258.28491426414593,260.69424071383486,262.54344162994101,263.9099080784772,264.84916184043618,265.39846100174532,265.57923075592322,265.39846100174532,264.84916184043618,263.9099080784772,262.54344162994101,260.69424071383486,258.28491426414593,255.21125629306206,251.33583663042572,246.48018990054874,240.4161388951994,232.85778957369439,223.45757780426163,211.8126531805662,197.49143369850665,180.09220315988256,159.34117560749317,135.22018465539875,108.08424124864723,79.867843254704681,52.796628002204635,27.752577473182825,0,0,0,0,0,0,0,{"$f":"BP$54*BP611*(1+COS($E586))/2","v":0},0,0,0,0,0,0,0]
[null,"Total Reflejada (plano incl)",{"$f":"C$54*C610*$C587*(1-COS($E586))/2","v":0},{"$f":"D$54*D610*$C587*(1-COS($E586))/2","v":0},0,0,0,0,0,0,0,0,0,0,0,0,0,0,0,0,0,0,0,0,0,0,0,0,0,0,0,0,0,0,0,0,0,0,0,0,0,0,0,0,0,0,0,0,0,0,0,0,0,0,0,0,0,0,0,0,0,0,0,0,0,0,0,{"$f":"BP$54*BP610*$C587*(1-COS($E586))/2","v":0},0,0,0,0,0,0,0]
[null,"TOTAL (W/m2)",{"$f":"C612+C613+C614","v":0},0,0,0,0,0,0,0,0,0,0,0,0,0,0,0,0,0,0,0,0,579.64516903754657,652.98791321113026,714.75197957627915,765.57855058921371,806.70300218279056,839.54964998759704,865.49047989896599,885.73066665421925,901.27259554100931,912.92072182000993,921.30362974538707,926.90043867733561,930.06542764505696,931.04843183523724,930.01036625240533,927.03399194918188,922.13026897243583,915.2406212148112,906.23532418066566,894.90810616495583,880.96699905483001,864.02158268314224,843.56719943045869,818.96776130588114,789.44091119481845,754.05324925324499,711.7399193364048,661.37234948842956,601.90823228052579,532.66069439689352,453.70065104598928,366.33281745970839,273.45890711701475,179.53421194472133,93.210412860386754,84.715421022394111,92.655844848660664,0,0,0,0,0,0,{"$f":"BO612+BO613+BO614","v":0},0,0,0,0,0,0,0,0]
[null,"Radiación Directa recibida",{"$f":"C612*C582","v":0},{"$f":"D612*D582","v":0},0,0,0,0,0,0,0,0,0,0,0,0,0,0,0,0,0,0,0,399.55296587766401,455.49647951262364,502.93932639571295,542.12097278495207,573.84521260909617,599.13351109239761,619.01028999841719,634.39483002379359,646.06133924794722,654.63580755586406,660.60938903155215,664.35699704739466,666.15551956657976,666.19926999480106,664.61190525066002,661.45476119325872,656.73180797069051,650.39145937437502,642.32541610218846,632.36466453501487,620.27275834099521,605.73666841899626,588.35594313739659,567.63192467545548,542.96072129426966,513.63711035804556,478.88212976271041,437.91477168416799,390.09557909995959,335.16926069838684,273.60844788610672,206.99164185221525,138.23872246161599,71.449970696074089,13.342569605682067,31.918793020189476,0,0,0,0,0,0,0,0,{"$f":"BP612*BP582","v":0},0,0,0,0,0,0,0]
[null,"Radiación Global recibida",{"$f":"C616+C614+C613","v":0},0,0,0,0,0,0,0,0,0,0,0,0,0,0,0,0,0,0,0,0,579.64516903754657,652.98791321113026,714.75197957627915,765.57855058921371,806.70300218279056,839.54964998759704,865.49047989896599,885.73066665421925,901.27259554100931,912.92072182000993,921.30362974538707,926.90043867733561,930.06542764505696,931.04843183523724,930.01036625240533,927.03399194918188,922.13026897243583,915.2406212148112,906.23532418066566,894.90810616495583,880.96699905483001,864.02158268314224,843.56719943045869,818.96776130588114,789.44091119481845,754.05324925324499,711.7399193364048,661.37234948842956,601.90823228052579,532.66069439689352,453.70065104598928,366.33281745970839,273.45890711701475,179.53421194472133,93.210412860386754,84.715421022394111,27.752577473182825,0,0,0,0,0,0,{"$f":"BO616+BO614+BO613","v":0},0,0,0,0,0,0,0,0]
[null,"Total Directa recibida",{"$f":"SUM(C616:BW616)","v":18008.598938157254},"W/m2"]
[null,"Total Directa disponible",{"$f":"SUM(C612:BW612)","v":18073.502205532732},"W/m2"]
[null,"Obstruccion directa",{"$f":"IF(C618=0,1,1-(C618/C619))","v":3.5910730879601394E-3}]
[null,"Total global recibida",{"$f":"SUM(C617:BW617)","v":26066.911232484257}]
[null,"Total global ",{"$f":"SUM(C615:BW615)","v":26131.814499859734},"W/m2","% difusa","Fd"]
[null,"Obstrucción global",{"$f":"1-(C621/C622)","v":2.4836877429933457E-3},null,{"$f":"1-(C619/C622)","v":0.30837170891329635},{"$f":"C600","v":0.35487154647976893}]
[]
[null,"SEPTIEMBRE"]
[null,"Declinacion dia tipo",{"$f":"D626*180/PI()","v":2.2168867832133459},{"$f":"C645","v":3.8691973511018642E-2}]
[null,"ocaso",{"$f":"-DEGREES(ACOS((SIN(D627*PI()/180)*SIN($E$182)-SIN($C$626*PI()/180))/(COS(D627*PI()/180)*COS($E$182))))","v":-92.911590715300164},0]
[null,"AZIMUT",-180,{"$f":"C628+5","v":-175},{"$f":"D628+5","v":-170},-165,-160,-155,-150,-145,-140,-135,-130,-125,-120,-115,-110,-105,-100,-95,-90,-85,-80,-75,-70,-65,-60,-55,-50,-45,-40,-35,-30,-25,-20,-15,-10,-5,0,5,10,15,20,25,30,35,40,45,50,55,60,65,70,75,80,85,90,95,100,105,110,115,120,125,130,135,140,145,{"$f":"BP628+5","v":150},155,160,165,170,175,180]
[null,"Az radianes",{"$f":"C628*PI()/180","v":-3.1415926535897931},{"$f":"D628*PI()/180","v":-3.0543261909900763},{"$f":"E628*PI()/180","v":-2.9670597283903604},{"$f":"F628*PI()/180","v":-2.8797932657906435},-2.7925268031909272,-2.7052603405912108,-2.6179938779914944,-2.5307274153917776,-2.4434609527920612,-2.3561944901923448,-2.2689280275926285,-2.1816615649929116,-2.0943951023931953,-2.0071286397934789,-1.9198621771937625,-1.8325957145940461,-1.7453292519943295,-1.6580627893946132,-1.5707963267948966,-1.4835298641951802,-1.3962634015954636,-1.3089969389957472,-1.2217304763960306,-1.1344640137963142,-1.0471975511965976,-0.95993108859688125,-0.87266462599716477,-0.78539816339744828,-0.69813170079773179,-0.6108652381980153,-0.52359877559829882,-0.43633231299858238,-0.3490658503988659,-0.26179938779914941,-0.17453292519943295,-8.7266462599716474E-2,0,8.7266462599716474E-2,0.17453292519943295,0.26179938779914941,0.3490658503988659,0.43633231299858238,0.52359877559829882,0.6108652381980153,0.69813170079773179,0.78539816339744828,0.87266462599716477,0.95993108859688125,1.0471975511965976,1.1344640137963142,1.2217304763960306,1.3089969389957472,1.3962634015954636,1.4835298641951802,1.5707963267948966,1.6580627893946132,1.7453292519943295,1.8325957145940461,1.9198621771937625,2.0071286397934789,2.0943951023931953,2.1816615649929116,2.2689280275926285,2.3561944901923448,2.4434609527920612,2.5307274153917776,2.6179938779914944,{"$f":"BR628*PI()/180","v":2.7052603405912108},2.7925268031909272,2.8797932657906435,2.9670597283903604,3.0543261909900763,3.1415926535897931]
[null,"a",{"$f":"SIN($E$182)^2+COS(C629)^2*COS($E$182)^2","v":1},{"$f":"SIN($E$182)^2+COS(D629)^2*COS($E$182)^2","v":0.99559469963002312},{"$f":"SIN($E$182)^2+COS(E629)^2*COS($E$182)^2","v":0.98251265134264432},0.96115134655524004,0.93215983770443378,0.89641901711624594,0.85501485153852075,0.80920538559081812,0.76038251671525159,0.71002970307704127,0.65967688943883074,0.61085402056326399,0.5650445546155618,0.5236403890378365,0.48789956844964866,0.4589080595988424,0.43754675481143818,0.42446470652405949,0.42005940615408255,0.42446470652405949,0.43754675481143818,0.45890805959884234,0.48789956844964866,0.52364038903783661,0.56504455461556202,0.61085402056326421,0.65967688943883074,0.71002970307704127,0.76038251671525181,0.80920538559081834,0.85501485153852075,0.89641901711624594,0.93215983770443389,0.96115134655524026,0.98251265134264432,0.99559469963002312,1,0.99559469963002312,0.98251265134264432,0.96115134655524026,0.93215983770443389,0.89641901711624594,0.85501485153852075,0.80920538559081834,0.76038251671525181,0.71002970307704127,0.65967688943883074,0.61085402056326421,0.56504455461556202,0.52364038903783661,0.48789956844964866,0.45890805959884234,0.43754675481143818,0.42446470652405949,0.42005940615408255,0.42446470652405949,0.43754675481143818,0.4589080595988424,0.48789956844964866,0.5236403890378365,0.5650445546155618,0.61085402056326399,0.65967688943883074,0.71002970307704127,0.76038251671525159,0.80920538559081812,{"$f":"SIN($E$182)^2+COS(BQ629)^2*COS($E$182)^2","v":0.85501485153852075},0.89641901711624594,0.93215983770443378,0.96115134655524004,0.98251265134264432,0.99559469963002312,1]
[null,"b",{"$f":"-2*SIN($E$182)*SIN($D626)","v":-5.0141563007278733E-2},{"$f":"-2*SIN($E$182)*SIN($D626)","v":-5.0141563007278733E-2},{"$f":"-2*SIN($E$182)*SIN($D626)","v":-5.0141563007278733E-2},-5.0141563007278733E-2,-5.0141563007278733E-2,-5.0141563007278733E-2,-5.0141563007278733E-2,-5.0141563007278733E-2,-5.0141563007278733E-2,-5.0141563007278733E-2,-5.0141563007278733E-2,-5.0141563007278733E-2,-5.0141563007278733E-2,-5.0141563007278733E-2,-5.0141563007278733E-2,-5.0141563007278733E-2,-5.0141563007278733E-2,-5.0141563007278733E-2,-5.0141563007278733E-2,-5.0141563007278733E-2,-5.0141563007278733E-2,-5.0141563007278733E-2,-5.0141563007278733E-2,-5.0141563007278733E-2,-5.0141563007278733E-2,-5.0141563007278733E-2,-5.0141563007278733E-2,-5.0141563007278733E-2,-5.0141563007278733E-2,-5.0141563007278733E-2,-5.0141563007278733E-2,-5.0141563007278733E-2,-5.0141563007278733E-2,-5.0141563007278733E-2,-5.0141563007278733E-2,-5.0141563007278733E-2,-5.0141563007278733E-2,-5.0141563007278733E-2,-5.0141563007278733E-2,-5.0141563007278733E-2,-5.0141563007278733E-2,-5.0141563007278733E-2,-5.0141563007278733E-2,-5.0141563007278733E-2,-5.0141563007278733E-2,-5.0141563007278733E-2,-5.0141563007278733E-2,-5.0141563007278733E-2,-5.0141563007278733E-2,-5.0141563007278733E-2,-5.0141563007278733E-2,-5.0141563007278733E-2,-5.0141563007278733E-2,-5.0141563007278733E-2,-5.0141563007278733E-2,-5.0141563007278733E-2,-5.0141563007278733E-2,-5.0141563007278733E-2,-5.0141563007278733E-2,-5.0141563007278733E-2,-5.0141563007278733E-2,-5.0141563007278733E-2,-5.0141563007278733E-2,-5.0141563007278733E-2,-5.0141563007278733E-2,-5.0141563007278733E-2,{"$f":"-2*SIN($E$182)*SIN($D626)","v":-5.0141563007278733E-2},-5.0141563007278733E-2,-5.0141563007278733E-2,-5.0141563007278733E-2,-5.0141563007278733E-2,-5.0141563007278733E-2,-5.0141563007278733E-2]
[null,"c",{"$f":"SIN($D626)^2-COS($E$182)^2*COS(C629)^2","v":-0.57844427195431181},{"$f":"SIN($D626)^2-COS($E$182)^2*COS(D629)^2","v":-0.57403897158433492},{"$f":"SIN($D626)^2-COS($E$182)^2*COS(E629)^2","v":-0.56095692329695612},-0.53959561850955184,-0.51060410965874559,-0.47486328907055775,-0.4334591234928325,-0.38764965754512992,-0.33882678866956339,-0.28847397503135302,-0.2381211613931426,-0.18929829251757585,-0.14348882656987358,-0.1020846609921483,-6.6343840403960436E-2,-3.7352331553154192E-2,-1.5991026765749951E-2,-2.9089784783713039E-3,1.4963218916056568E-3,-2.9089784783712935E-3,-1.5991026765749972E-2,-3.7352331553154157E-2,-6.6343840403960477E-2,-0.10208466099214836,-0.14348882656987377,-0.18929829251757607,-0.2381211613931426,-0.28847397503135314,-0.33882678866956356,-0.38764965754513014,-0.4334591234928325,-0.47486328907055775,-0.5106041096587457,-0.53959561850955207,-0.56095692329695612,-0.57403897158433492,-0.57844427195431181,-0.57403897158433492,-0.56095692329695612,-0.53959561850955207,-0.5106041096587457,-0.47486328907055775,-0.4334591234928325,-0.38764965754513014,-0.33882678866956356,-0.28847397503135314,-0.2381211613931426,-0.18929829251757607,-0.14348882656987377,-0.10208466099214836,-6.6343840403960477E-2,-3.7352331553154157E-2,-1.5991026765749972E-2,-2.9089784783712935E-3,1.4963218916056568E-3,-2.9089784783713039E-3,-1.5991026765749951E-2,-3.7352331553154192E-2,-6.6343840403960436E-2,-0.1020846609921483,-0.14348882656987358,-0.18929829251757585,-0.2381211613931426,-0.28847397503135302,-0.33882678866956339,-0.38764965754512992,{"$f":"SIN($D626)^2-COS($E$182)^2*COS(BQ629)^2","v":-0.4334591234928325},-0.47486328907055775,-0.51060410965874559,-0.53959561850955184,-0.56095692329695612,-0.57403897158433492,-0.57844427195431181]
[null,"alt solar",{"$f":"IF(C628<=$C$627,0,IF(C628>=-$C$627,0,$U$633-(DEGREES(ASIN(((-C631+(C631^2-4*C630*C632)^0.5)/(2*C630))))-$U$633)))","v":0},0,0,0,0,0,0,0,0,0,0,0,0,0,0,0,0,{"$f":"IF(T628<=$C$627,0,IF(T628>=-$C$627,0,$U$633-(DEGREES(ASIN(((-T631+(T631^2-4*T630*T632)^0.5)/(2*T630))))-$U$633)))","v":0},{"$f":"IF(U628<=$C$627,0,IF(U628>=-$C$627,0,DEGREES(ASIN(((-U631/(2*U630)))))))","v":3.4216687703294322},{"$f":"IF(V628<=$C$627,0,IF(V628>=-$C$627,0,DEGREES(ASIN(((-V631+(V631^2-4*V630*V632)^0.5)/(2*V630))))))","v":9.2509883251288194},14.884621350607713,20.188583508382532,25.068451596431913,29.472095681856231,33.383904198982428,36.814900564359121,39.792580696422725,42.352591728594135,44.532855655742097,46.369882913658273,47.896718648499494,49.141969379190648,50.129477344687579,50.878342599326523,51.403100608203637,51.713939032219074,51.816886783213349,51.713939032219074,51.403100608203637,50.878342599326523,50.129477344687579,49.141969379190648,47.896718648499494,46.369882913658273,44.532855655742097,42.352591728594135,39.792580696422725,36.814900564359121,33.383904198982428,29.472095681856231,25.068451596431913,20.188583508382532,14.884621350607713,9.2509883251288194,{"$f":"IF(BE628<=$C$627,0,IF(BE628>=-$C$627,0,DEGREES(ASIN(((-BE631/(2*BE630)))))))","v":3.4216687703294322},{"$f":"IF(BF628<=$C$627,0,IF(BF628>=-$C$627,0,$BE$633-(DEGREES(ASIN(((-BF631+(BF631^2-4*BF630*BF632)^0.5)/(2*BF630))))-$BE$633)))","v":0},{"$f":"IF(BG628<=$C$627,0,IF(BG628>=-$C$627,0,$BE$633-(DEGREES(ASIN(((-BG631+(BG631^2-4*BG630*BG632)^0.5)/(2*BG630))))-$BE$633)))","v":0},0,0,0,0,0,0,0,0,0,0,0,0,0,0,0,0]
[]
[null,"obst. Inf.",{"$f":"IF($C$173>=C633,0,1)","v":0},{"$f":"IF($D$173>=D633,0,1)","v":0},{"$f":"IF($E$173>=E633,0,1)","v":0},{"$f":"IF($F$173>=F633,0,1)","v":0},{"$f":"IF($G$173>=G633,0,1)","v":0},{"$f":"IF($H$173>=H633,0,1)","v":0},{"$f":"IF($I$173>=I633,0,1)","v":0},{"$f":"IF($J$173>=J633,0,1)","v":0},{"$f":"IF($K$173>=K633,0,1)","v":0},{"$f":"IF($L$173>=L633,0,1)","v":0},{"$f":"IF($M$173>=M633,0,1)","v":0},{"$f":"IF($N$173>=N633,0,1)","v":0},{"$f":"IF($O$173>=O633,0,1)","v":0},{"$f":"IF($P$173>=P633,0,1)","v":0},{"$f":"IF($Q$173>=Q633,0,1)","v":0},{"$f":"IF($R$173>=R633,0,1)","v":0},{"$f":"IF($S$173>=S633,0,1)","v":0},{"$f":"IF($T$173>=T633,0,1)","v":0},{"$f":"IF($U$173>=U633,0,1)","v":0},{"$f":"IF($V$173>=V633,0,1)","v":0},{"$f":"IF($W$173>=W633,0,1)","v":0},{"$f":"IF($X$173>=X633,0,1)","v":1},{"$f":"IF($Y$173>=Y633,0,1)","v":1},{"$f":"IF($Z$173>=Z633,0,1)","v":1},{"$f":"IF($AA$173>=AA633,0,1)","v":1},{"$f":"IF($AB$173>=AB633,0,1)","v":1},{"$f":"IF($AC$173>=AC633,0,1)","v":1},{"$f":"IF($AD$173>=AD633,0,1)","v":1},{"$f":"IF($AE$173>=AE633,0,1)","v":1},{"$f":"IF($AF$173>=AF633,0,1)","v":1},{"$f":"IF($AG$173>=AG633,0,1)","v":1},{"$f":"IF($AH$173>=AH633,0,1)","v":1},{"$f":"IF($AI$173>=AI633,0,1)","v":1},{"$f":"IF($AJ$173>=AJ633,0,1)","v":1},{"$f":"IF($AK$173>=AK633,0,1)","v":1},{"$f":"IF($AL$173>=AL633,0,1)","v":1},{"$f":"IF($AM$173>=AM633,0,1)","v":1},{"$f":"IF($AN$173>=AN633,0,1)","v":1},{"$f":"IF($AO$173>=AO633,0,1)","v":1},{"$f":"IF($AP$173>=AP633,0,1)","v":1},{"$f":"IF($AQ$173>=AQ633,0,1)","v":1},{"$f":"IF($AR$173>=AR633,0,1)","v":1},{"$f":"IF($AS$173>=AS633,0,1)","v":1},{"$f":"IF($AT$173>=AT633,0,1)","v":1},{"$f":"IF($AU$173>=AU633,0,1)","v":1},{"$f":"IF($AV$173>=AV633,0,1)","v":1},{"$f":"IF($AW$173>=AW633,0,1)","v":1},{"$f":"IF($AX$173>=AX633,0,1)","v":1},{"$f":"IF($AY$173>=AY633,0,1)","v":1},{"$f":"IF($AZ$173>=AZ633,0,1)","v":1},{"$f":"IF($BA$173>=BA633,0,1)","v":1},{"$f":"IF($BB$173>=BB633,0,1)","v":1},{"$f":"IF($BC$173>=BC633,0,1)","v":1},{"$f":"IF($BD$173>=BD633,0,1)","v":1},{"$f":"IF($BE$173>=BE633,0,1)","v":0},{"$f":"IF($BF$173>=BF633,0,1)","v":0},{"$f":"IF($BG$173>=BG633,0,1)","v":0},{"$f":"IF($BH$173>=BH633,0,1)","v":0},{"$f":"IF($BI$173>=BI633,0,1)","v":0},{"$f":"IF($BJ$173>=BJ633,0,1)","v":0},{"$f":"IF($BK$173>=BK633,0,1)","v":0},{"$f":"IF($BL$173>=BL633,0,1)","v":0},{"$f":"IF($BM$173>=BM633,0,1)","v":0},{"$f":"IF($BN$173>=BN633,0,1)","v":0},{"$f":"IF($BO$173>=BO633,0,1)","v":0},{"$f":"IF($BP$173>=BP633,0,1)","v":0},{"$f":"IF($BQ$173>=BQ633,0,1)","v":0},{"$f":"IF($BR$173>=BR633,0,1)","v":0},{"$f":"IF($BS$173>=BS633,0,1)","v":0},{"$f":"IF($BT$173>=BT633,0,1)","v":0},{"$f":"IF($BU$173>=BU633,0,1)","v":0},{"$f":"IF($BV$173>=BV633,0,1)","v":0},{"$f":"IF($BW$173>=BW633,0,1)","v":0}]
[null,"obst. Sup",{"$f":"IF(C633>$C$176,0,1)","v":1},{"$f":"IF(D633>$D$176,0,1)","v":1},{"$f":"IF(E633>$E$176,0,1)","v":1},{"$f":"IF(F633>$F$176,0,1)","v":1},{"$f":"IF(G633>$G$176,0,1)","v":1},{"$f":"IF(H633>$H$176,0,1)","v":1},{"$f":"IF(I633>$I$176,0,1)","v":1},{"$f":"IF(J633>$J$176,0,1)","v":1},{"$f":"IF(K633>$K$176,0,1)","v":1},{"$f":"IF(L633>$L$176,0,1)","v":1},{"$f":"IF(M633>$M$176,0,1)","v":1},{"$f":"IF(N633>$N$176,0,1)","v":1},{"$f":"IF(O633>$O$176,0,1)","v":1},{"$f":"IF(P633>$P$176,0,1)","v":1},{"$f":"IF(Q633>$Q$176,0,1)","v":1},{"$f":"IF(R633>$R$176,0,1)","v":1},{"$f":"IF(S633>$S$176,0,1)","v":1},{"$f":"IF(T633>$T$176,0,1)","v":1},{"$f":"IF(U633>$U$176,0,1)","v":1},{"$f":"IF(V633>$V$176,0,1)","v":1},{"$f":"IF(W633>$W$176,0,1)","v":1},{"$f":"IF(X633>$X$176,0,1)","v":1},{"$f":"IF(Y633>$Y$176,0,1)","v":1},{"$f":"IF(Z633>$Z$176,0,1)","v":1},{"$f":"IF(AA633>$AA$176,0,1)","v":1},{"$f":"IF(AB633>$AB$176,0,1)","v":1},{"$f":"IF(AC633>$AC$176,0,1)","v":1},{"$f":"IF(AD633>$AD$176,0,1)","v":1},{"$f":"IF(AE633>$AE$176,0,1)","v":1},{"$f":"IF(AF633>$AF$176,0,1)","v":1},{"$f":"IF(AG633>$AG$176,0,1)","v":1},{"$f":"IF(AH633>$AH$176,0,1)","v":1},{"$f":"IF(AI633>$AI$176,0,1)","v":1},{"$f":"IF(AJ633>$AJ$176,0,1)","v":1},{"$f":"IF(AK633>$AK$176,0,1)","v":1},{"$f":"IF(AL633>$AL$176,0,1)","v":1},{"$f":"IF(AM633>$AM$176,0,1)","v":1},{"$f":"IF(AN633>$AN$176,0,1)","v":1},{"$f":"IF(AO633>$AO$176,0,1)","v":1},{"$f":"IF(AP633>$AP$176,0,1)","v":1},{"$f":"IF(AQ633>$AQ$176,0,1)","v":1},{"$f":"IF(AR633>$AR$176,0,1)","v":1},{"$f":"IF(AS633>$AS$176,0,1)","v":1},{"$f":"IF(AT633>$AT$176,0,1)","v":1},{"$f":"IF(AU633>$AU$176,0,1)","v":1},{"$f":"IF(AV633>$AV$176,0,1)","v":1},{"$f":"IF(AW633>$AW$176,0,1)","v":1},{"$f":"IF(AX633>$AX$176,0,1)","v":1},{"$f":"IF(AY633>$AY$176,0,1)","v":1},{"$f":"IF(AZ633>$AZ$176,0,1)","v":1},{"$f":"IF(BA633>$BA$176,0,1)","v":1},{"$f":"IF(BB633>$BB$176,0,1)","v":1},{"$f":"IF(BC633>$BC$176,0,1)","v":1},{"$f":"IF(BD633>$BD$176,0,1)","v":1},{"$f":"IF(BE633>$BE$176,0,1)","v":1},{"$f":"IF(BF633>$BF$176,0,1)","v":1},{"$f":"IF(BG633>$BG$176,0,1)","v":1},{"$f":"IF(BH633>$BH$176,0,1)","v":1},{"$f":"IF(BI633>$BI$176,0,1)","v":1},{"$f":"IF(BJ633>$BJ$176,0,1)","v":1},{"$f":"IF(BK633>$BK$176,0,1)","v":1},{"$f":"IF(BL633>$BL$176,0,1)","v":1},{"$f":"IF(BM633>$BM$176,0,1)","v":1},{"$f":"IF(BN633>$BN$176,0,1)","v":1},{"$f":"IF(BO633>$BO$176,0,1)","v":1},{"$f":"IF(BP633>$BP$176,0,1)","v":1},{"$f":"IF(BQ633>$BQ$176,0,1)","v":1},{"$f":"IF(BR633>$BR$176,0,1)","v":1},{"$f":"IF(BS633>$BS$176,0,1)","v":1},{"$f":"IF(BT633>$BT$176,0,1)","v":1},{"$f":"IF(BU633>$BU$176,0,1)","v":1},{"$f":"IF(BV633>$BV$176,0,1)","v":1},{"$f":"IF(BW633>$BW$176,0,1)","v":1}]
[null,"obst. TOTAL",{"$f":"C635*C636","v":0},{"$f":"D635*D636","v":0},0,0,0,0,0,0,0,0,0,0,0,0,0,0,0,0,0,0,0,1,1,1,1,1,1,1,1,1,1,1,1,1,1,1,1,1,1,1,1,1,1,1,1,1,1,1,1,1,1,1,1,1,0,0,0,0,0,0,0,0,0,0,0,{"$f":"BP635*BP636","v":0},0,0,0,0,0,0,0]
[]
[null,"Latitud",{"$f":"$C$182","v":40.4},null,{"$f":"PI()*(C639+D639/60)/180","v":0.70511301780570912}]
[null,"Azimut",{"$f":"$I$4","v":15},null,{"$f":"C640*PI()/180","v":0.26179938779914941}]
[null,"Inclinacion",{"$f":"$I$3","v":35},null,{"$f":"C641*PI()/180","v":0.6108652381980153}]
[null,"Coeficiente refexion",{"$f":"M443","v":0}]
[null,"Constante solar extraterrestre (Bo)",{"$f":"$G$182","v":1367},"W/m2"]
[null,"Dia del año",{"$f":"31+28+31+30+31+30+31+31+15","v":258}]
[null,"Declinacion . radianes",{"$f":"23.45*PI()/180*SIN(2*PI()*((C644+284)/365))","v":3.8691973511018642E-2}]
[null,"Ángulo puesta de sol. Radianes. Ws",{"$f":"ACOS(-TAN(C645)*TAN($E$199))","v":1.6037481827475057}]
[null,"Distancia sol - tierra. Bo",{"$f":"1+0.033*COS((2*PI()*C644/365)*PI()/180)","v":1.0329009089039181},"expresion Duffi y Beckman"]
[null,"Factor angulo solar",{"$f":"(SIN(C645)*C646*SIN(E639))+COS(E639)*COS(C645)*SIN(C646)","v":0.80076245952894554}]
[null,"Ho. Irradiacion Extraterreste sobre sup. Horizontal",{"$f":"+($C$203*24/PI())*C647*C648","v":8637.5832861133531}]
[null,"H1",{"$f":"+(3.6*C643*24/PI())*(1+0.033*COS(PI()/180*(360*C644/365)))","v":37262.937128863916}]
[null,"H2",{"$f":"COS(E639)*COS(C645)*SIN(C646)","v":0.76055523925242408}]
[null,"H3",{"$f":"+SIN(C645)*C646*SIN(E639)","v":4.0207220276521412E-2}]
[null,"H horizontal diaria (W/m2 dia) s/ localidad",{"$f":"K6","v":5477.9011111111113},"W/m2 dia"]
[null,"Indice de claridad Kt",{"$f":"C653/C649","v":0.63419372406144381}]
[null,"Fraccion difusa diaria promedio",{"$f":"0.775+0.347*(C646-(PI()/2))-(0.505+0.261*(C646-(PI()/2)))*COS(2*C654-1.8)","v":0.34371547018839144},"Correlacion Collares-Pereira "]
[null,"Factor A Lui y Jordan",{"$f":"0.409+0.5016*SIN(C646-60*PI()/180)","v":0.67397549118103939},"parametros 5 estaciones EEUU"]
[null,"Factor B Lui y Jordan",{"$f":"0.6609-0.4767*SIN(C646-60*PI()/180)","v":0.40907819647926341},"parametros 5 estaciones EEUU"]
[]
[null,"AZIMUT",-180,{"$f":"C659+5","v":-175},{"$f":"D659+5","v":-170},-165,-160,-155,-150,-145,-140,-135,-130,-125,-120,-115,-110,-105,-100,-95,-90,-85,-80,-75,-70,-65,-60,-55,-50,-45,-40,-35,-30,-25,-20,-15,-10,-5,0,5,10,15,20,25,30,35,40,45,50,55,60,65,70,75,80,85,90,95,100,105,110,115,120,125,130,135,140,145,{"$f":"BP659+5","v":150},155,160,165,170,175,180]
[null,"Az radianes",{"$f":"C659*PI()/180","v":-3.1415926535897931},{"$f":"D659*PI()/180","v":-3.0543261909900763},{"$f":"E659*PI()/180","v":-2.9670597283903604},{"$f":"F659*PI()/180","v":-2.8797932657906435},-2.7925268031909272,-2.7052603405912108,-2.6179938779914944,-2.5307274153917776,-2.4434609527920612,-2.3561944901923448,-2.2689280275926285,-2.1816615649929116,-2.0943951023931953,-2.0071286397934789,-1.9198621771937625,-1.8325957145940461,-1.7453292519943295,-1.6580627893946132,-1.5707963267948966,-1.4835298641951802,-1.3962634015954636,-1.3089969389957472,-1.2217304763960306,-1.1344640137963142,-1.0471975511965976,-0.95993108859688125,-0.87266462599716477,-0.78539816339744828,-0.69813170079773179,-0.6108652381980153,-0.52359877559829882,-0.43633231299858238,-0.3490658503988659,-0.26179938779914941,-0.17453292519943295,-8.7266462599716474E-2,0,8.7266462599716474E-2,0.17453292519943295,0.26179938779914941,0.3490658503988659,0.43633231299858238,0.52359877559829882,0.6108652381980153,0.69813170079773179,0.78539816339744828,0.87266462599716477,0.95993108859688125,1.0471975511965976,1.1344640137963142,1.2217304763960306,1.3089969389957472,1.3962634015954636,1.4835298641951802,1.5707963267948966,1.6580627893946132,1.7453292519943295,1.8325957145940461,1.9198621771937625,2.0071286397934789,2.0943951023931953,2.1816615649929116,2.2689280275926285,2.3561944901923448,2.4434609527920612,2.5307274153917776,2.6179938779914944,{"$f":"BR659*PI()/180","v":2.7052603405912108},2.7925268031909272,2.8797932657906435,2.9670597283903604,3.0543261909900763,3.1415926535897931]
[null,"alt solar (grados)",{"$f":"C633","v":0},{"$f":"D633","v":0},{"$f":"E633","v":0},0,0,0,0,0,0,0,0,0,0,0,0,0,0,0,3.4216687703294322,9.2509883251288194,14.884621350607713,20.188583508382532,25.068451596431913,29.472095681856231,33.383904198982428,36.814900564359121,39.792580696422725,42.352591728594135,44.532855655742097,46.369882913658273,47.896718648499494,49.141969379190648,50.129477344687579,50.878342599326523,51.403100608203637,51.713939032219074,51.816886783213349,51.713939032219074,51.403100608203637,50.878342599326523,50.129477344687579,49.141969379190648,47.896718648499494,46.369882913658273,44.532855655742097,42.352591728594135,39.792580696422725,36.814900564359121,33.383904198982428,29.472095681856231,25.068451596431913,20.188583508382532,14.884621350607713,9.2509883251288194,3.4216687703294322,0,0,0,0,0,0,0,0,0,0,0,{"$f":"BQ633","v":0},0,0,0,0,0,0]
[null,"ang horario (grados)",{"$f":"DEGREES(ACOS((SIN(C661*PI()/180)-(SIN($E639)*SIN($C645)))/(COS($E639)*COS($C645))))","v":91.888002273207547},{"$f":"DEGREES(ACOS((SIN(D661*PI()/180)-(SIN($E639)*SIN($C645)))/(COS($E639)*COS($C645))))","v":91.888002273207547},91.888002273207547,91.888002273207547,91.888002273207547,91.888002273207547,91.888002273207547,91.888002273207547,91.888002273207547,91.888002273207547,91.888002273207547,91.888002273207547,91.888002273207547,91.888002273207547,91.888002273207547,91.888002273207547,91.888002273207547,91.888002273207547,87.392966697277046,79.728620804615943,72.264977500471716,65.129424477998541,58.409435067208861,52.149863345656726,46.358733342367429,41.017103979301687,36.089174156121004,31.530509985850227,27.293795290308946,23.332363987775469,19.602072572330524,16.062063152329571,12.674845524872191,9.4059920268492032,6.2236296147899415,3.0978364362590183,0,{"$f":"-DEGREES(ACOS((SIN(AN661*PI()/180)-(SIN($E639)*SIN($C645)))/(COS($E639)*COS($C645))))","v":-3.0978364362590183},{"$f":"-DEGREES(ACOS((SIN(AO661*PI()/180)-(SIN($E639)*SIN($C645)))/(COS($E639)*COS($C645))))","v":-6.2236296147899415},-9.4059920268492032,-12.674845524872191,-16.062063152329571,-19.602072572330524,-23.332363987775469,-27.293795290308946,-31.530509985850227,-36.089174156121004,-41.017103979301687,-46.358733342367429,-52.149863345656726,-58.409435067208861,-65.129424477998541,-72.264977500471716,-79.728620804615943,-87.392966697277046,-91.888002273207547,-91.888002273207547,-91.888002273207547,-91.888002273207547,-91.888002273207547,-91.888002273207547,-91.888002273207547,-91.888002273207547,-91.888002273207547,-91.888002273207547,-91.888002273207547,-91.888002273207547,-91.888002273207547,-91.888002273207547,-91.888002273207547,-91.888002273207547,-91.888002273207547,-91.888002273207547]
[null,"Factor inclinación",{"$f":"-(IF(C661=0,0,(SIN($C645)*SIN($E639)*COS($E641)-SIN($C645)*COS($E639)*SIN($E641)*COS($E640)+COS($C645)*COS($E639)*COS($E641)*COS(C662*PI()/180)+COS($C645)*SIN($E639)*SIN($E641)*COS(C662*PI()/180)*COS($E640)+COS($C645)*SIN($E641)*SIN(C662*PI()/180)*SIN($E640))/(COS($C645)*COS($E639)*COS(C662*PI()/180)+SIN($C645)*SIN($E639))))","v":0},{"$f":"-(IF(D661=0,0,(SIN($C645)*SIN($E639)*COS($E641)-SIN($C645)*COS($E639)*SIN($E641)*COS($E640)+COS($C645)*COS($E639)*COS($E641)*COS(D662*PI()/180)+COS($C645)*SIN($E639)*SIN($E641)*COS(D662*PI()/180)*COS($E640)+COS($C645)*SIN($E641)*SIN(D662*PI()/180)*SIN($E640))/(COS($C645)*COS($E639)*COS(D662*PI()/180)+SIN($C645)*SIN($E639))))","v":0},0,0,0,0,0,0,0,0,0,0,0,0,0,0,0,0,-3.3020306039974869,-2.0235788919306437,-1.7311578359715174,-1.5990991283741622,-1.5224782150525422,-1.4715467178279711,-1.4346222336192633,-1.4061718154924849,-1.383227610913921,-1.3640475088257715,-1.3475353799481047,-1.3329615492802989,-1.3198162742451969,-1.3077275368745758,-1.2964121505806014,-1.2856450781241846,-1.2752391015883575,-1.2650304946125799,-1.2548681228208078,-1.2446043097235198,-1.2340862457948267,-1.223146862278742,-1.2115939961235402,-1.1991963118067195,-1.1856636981492816,-1.1706184453674273,-1.1535508379764796,-1.1337475874195075,-1.110170832704938,-1.0812420419196345,-1.044429768855889,-0.99539555687770076,-0.92602344088389443,-0.81915204428899135,-0.6310708623806105,-0.20764850770649637,1.6637265154195018,0,0,0,0,0,0,0,0,0,0,{"$f":"-(IF(BP661=0,0,(SIN($C645)*SIN($E639)*COS($E641)-SIN($C645)*COS($E639)*SIN($E641)*COS($E640)+COS($C645)*COS($E639)*COS($E641)*COS(BP662*PI()/180)+COS($C645)*SIN($E639)*SIN($E641)*COS(BP662*PI()/180)*COS($E640)+COS($C645)*SIN($E641)*SIN(BP662*PI()/180)*SIN($E640))/(COS($C645)*COS($E639)*COS(BP662*PI()/180)+SIN($C645)*SIN($E639))))","v":0},0,0,0,0,0,0,0]
[null,"Correccion valores negativos",{"$f":"ABS(C663)","v":0},{"$f":"ABS(D663)","v":0},0,0,0,0,0,0,0,0,0,0,0,0,0,0,0,0,3.3020306039974869,2.0235788919306437,1.7311578359715174,1.5990991283741622,1.5224782150525422,1.4715467178279711,1.4346222336192633,1.4061718154924849,1.383227610913921,1.3640475088257715,1.3475353799481047,1.3329615492802989,1.3198162742451969,1.3077275368745758,1.2964121505806014,1.2856450781241846,1.2752391015883575,1.2650304946125799,1.2548681228208078,1.2446043097235198,1.2340862457948267,1.223146862278742,1.2115939961235402,1.1991963118067195,1.1856636981492816,1.1706184453674273,1.1535508379764796,1.1337475874195075,1.110170832704938,1.0812420419196345,1.044429768855889,0.99539555687770076,0.92602344088389443,0.81915204428899135,0.6310708623806105,0.20764850770649637,1.6637265154195018,0,0,0,0,0,0,0,0,0,0,{"$f":"ABS(BP663)","v":0},0,0,0,0,0,0,0]
[null,"Radiacion H GLOBAL (distribucion Lui y Jordan)",{"$f":"$C653*((PI()/24*($C656+$C657*COS(C662*PI()/180))*(COS(C662*PI()/180)-COS($C646)))/(SIN($C646)-$C646*COS($C646)))","v":-9.9937266147393019E-14},{"$f":"$C653*((PI()/24*($C656+$C657*COS(D662*PI()/180))*(COS(D662*PI()/180)-COS($C646)))/(SIN($C646)-$C646*COS($C646)))","v":-9.9937266147393019E-14},-9.9937266147393019E-14,-9.9937266147393019E-14,-9.9937266147393019E-14,-9.9937266147393019E-14,-9.9937266147393019E-14,-9.9937266147393019E-14,-9.9937266147393019E-14,-9.9937266147393019E-14,-9.9937266147393019E-14,-9.9937266147393019E-14,-9.9937266147393019E-14,-9.9937266147393019E-14,-9.9937266147393019E-14,-9.9937266147393019E-14,-9.9937266147393019E-14,-9.9937266147393019E-14,37.015011535194098,107.52247001206348,183.69209801942404,261.45054428755213,337.01791737288306,407.51973305262339,471.19318173538505,{"$f":"$C653*((PI()/24*($C656+$C657*COS(AB662*PI()/180))*(COS(AB662*PI()/180)-COS($C646)))/(SIN($C646)-$C646*COS($C646)))","v":527.2714576242289},{"$f":"$C653*((PI()/24*($C656+$C657*COS(AC662*PI()/180))*(COS(AC662*PI()/180)-COS($C646)))/(SIN($C646)-$C646*COS($C646)))","v":575.7162242606579},616.93643639861648,651.56294724108011,680.29495505197713,703.80785257384844,722.70461229913076,737.49446692674576,748.58695192350478,756.29349609470034,760.83182048204071,762.33044020004559,760.83182048204071,756.29349609470034,748.58695192350478,737.49446692674576,722.70461229913076,703.80785257384844,680.29495505197713,651.56294724108011,616.93643639861648,575.7162242606579,527.2714576242289,471.19318173538505,407.51973305262339,337.01791737288306,261.45054428755213,183.69209801942404,107.52247001206348,37.015011535194098,-9.9937266147393019E-14,-9.9937266147393019E-14,-9.9937266147393019E-14,-9.9937266147393019E-14,-9.9937266147393019E-14,-9.9937266147393019E-14,-9.9937266147393019E-14,-9.9937266147393019E-14,-9.9937266147393019E-14,-9.9937266147393019E-14,-9.9937266147393019E-14,-9.9937266147393019E-14,-9.9937266147393019E-14,-9.9937266147393019E-14,-9.9937266147393019E-14,-9.9937266147393019E-14,-9.9937266147393019E-14,-9.9937266147393019E-14]
[null,"Radiacion H DIFUSA (distribucion Lui y Jordan)",{"$f":"$C655*$C653*((PI()/24*(COS(C662*PI()/180)-COS($C646)))/(SIN($C646)-$C646*COS($C646)))","v":-5.200618638961138E-14},{"$f":"$C655*$C653*((PI()/24*(COS(D662*PI()/180)-COS($C646)))/(SIN($C646)-$C646*COS($C646)))","v":-5.200618638961138E-14},-5.200618638961138E-14,-5.200618638961138E-14,-5.200618638961138E-14,-5.200618638961138E-14,-5.200618638961138E-14,-5.200618638961138E-14,-5.200618638961138E-14,-5.200618638961138E-14,-5.200618638961138E-14,-5.200618638961138E-14,-5.200618638961138E-14,-5.200618638961138E-14,-5.200618638961138E-14,-5.200618638961138E-14,-5.200618638961138E-14,-5.200618638961138E-14,18.369839067699157,49.479475327040319,79.061914948801487,106.22023011513953,130.40895265132224,151.4303619176855,169.35781308512438,184.43488120784113,196.98587899614853,207.35238125331438,215.8555776991777,222.77801684290739,228.35760703258771,232.78830968120181,236.22387164444874,238.78246177998301,240.55108125967521,241.58920963537065,241.93146533513814,241.58920963537065,240.55108125967521,238.78246177998301,236.22387164444874,232.78830968120181,228.35760703258771,222.77801684290739,215.8555776991777,207.35238125331438,196.98587899614853,184.43488120784113,169.35781308512438,151.4303619176855,130.40895265132224,106.22023011513953,79.061914948801487,49.479475327040319,18.369839067699157,-5.200618638961138E-14,-5.200618638961138E-14,-5.200618638961138E-14,-5.200618638961138E-14,-5.200618638961138E-14,-5.200618638961138E-14,-5.200618638961138E-14,-5.200618638961138E-14,-5.200618638961138E-14,-5.200618638961138E-14,{"$f":"$C655*$C653*((PI()/24*(COS(BP662*PI()/180)-COS($C646)))/(SIN($C646)-$C646*COS($C646)))","v":-5.200618638961138E-14},-5.200618638961138E-14,-5.200618638961138E-14,-5.200618638961138E-14,-5.200618638961138E-14,-5.200618638961138E-14,-5.200618638961138E-14,-5.200618638961138E-14]
[null,"Total Directa",{"$f":"C$54*IF((C665-C666)*C664<0,0,(C665-C666)*C664)","v":0},{"$f":"D$54*IF((D665-D666)*D664<0,0,(D665-D666)*D664)","v":0},0,0,0,0,0,0,0,0,0,0,0,0,0,0,0,0,0,0,0,248.22866009035235,314.5576478231356,376.84747356424703,433.0197307583307,482.08713107666,523.87027066083169,558.69211007570675,587.13109576183672,609.85248677714037,627.50697165923077,640.67703969724357,649.85329045274091,655.42763355862814,657.69489374522743,656.85773682329034,653.03208470659922,646.25159125185792,636.47062052091428,623.56576249466252,607.33644367730403,587.50582319340515,563.72409641443528,535.5777669355665,502.61060124758916,464.36493436648482,420.45538277292906,370.68931992919187,315.24584431192375,254.91022219132168,191.3247444289189,127.15722918995417,66.029059861418929,12.052541229161159,31.020467818740993,0,0,0,0,0,0,0,0,0,0,{"$f":"BP$54*IF((BP665-BP666)*BP664<0,0,(BP665-BP666)*BP664)","v":0},0,0,0,0,0,0,0]
[null,"Total Difusa (plano incl)",{"$f":"C$54*C666*(1+COS($E641))/2","v":0},{"$f":"D$54*D666*(1+COS($E641))/2","v":0},0,0,0,0,0,0,0,0,0,0,0,0,0,0,0,0,0,0,0,96.615374379401615,118.6168564046196,137.73742622498975,154.04380594505849,167.75754559372078,179.17363223595379,188.60275412257866,196.33705772132024,202.63354238121121,207.70860383113711,211.7386647215686,214.86356950592966,217.19080174370708,218.79949561473279,219.74375229317317,220.05505987112397,219.74375229317317,218.79949561473279,217.19080174370708,214.86356950592966,211.7386647215686,207.70860383113711,202.63354238121121,196.33705772132024,188.60275412257866,179.17363223595379,167.75754559372078,154.04380594505849,137.73742622498975,118.6168564046196,96.615374379401615,71.912822102257323,45.005344345766069,16.708765146632356,-4.7303580143167946E-14,-4.7303580143167946E-14,-4.7303580143167946E-14,0,0,0,0,0,0,0,{"$f":"BP$54*BP666*(1+COS($E641))/2","v":0},0,0,0,0,0,0,0]
[null,"Total Reflejada (plano incl)",{"$f":"C$54*C665*$C642*(1-COS($E641))/2","v":0},{"$f":"D$54*D665*$C642*(1-COS($E641))/2","v":0},0,0,0,0,0,0,0,0,0,0,0,0,0,0,0,0,0,0,0,0,0,0,0,0,0,0,0,0,0,0,0,0,0,0,0,0,0,0,0,0,0,0,0,0,0,0,0,0,0,0,0,0,0,0,0,0,0,0,0,0,0,0,0,{"$f":"BP$54*BP665*$C642*(1-COS($E641))/2","v":0},0,0,0,0,0,0,0]
[null,"TOTAL (W/m2)",{"$f":"C667+C668+C669","v":0},0,0,0,0,0,0,0,0,0,0,0,0,0,0,0,0,0,0,0,0,344.84403446975398,433.17450422775516,514.58489978923672,587.06353670338922,649.84467667038075,703.04390289678554,747.29486419828538,783.46815348315693,812.48602915835158,835.21557549036788,852.4157044188122,864.71685995867051,872.61843530233523,876.49438935996022,876.60148911646354,873.08714457772317,865.99534354503112,855.27011613564707,840.75656423836961,822.20001318323375,799.24448791497377,771.43270024557239,738.21130931677772,698.94765896890942,652.96768848906345,599.62901500888279,538.44686552291262,469.28965025698221,392.64764841631143,309.94160083353847,223.77260356935579,137.94188196367625,57.057885574927226,47.729232965373349,-4.7303580143167946E-14,-4.7303580143167946E-14,-4.7303580143167946E-14,0,0,0,0,0,0,{"$f":"BO667+BO668+BO669","v":0},0,0,0,0,0,0,0,0]
[null,"Radiación Directa recibida",{"$f":"C667*C637","v":0},{"$f":"D667*D637","v":0},0,0,0,0,0,0,0,0,0,0,0,0,0,0,0,0,0,0,0,248.22866009035235,314.5576478231356,376.84747356424703,433.0197307583307,482.08713107666,523.87027066083169,558.69211007570675,587.13109576183672,609.85248677714037,627.50697165923077,640.67703969724357,649.85329045274091,655.42763355862814,657.69489374522743,656.85773682329034,653.03208470659922,646.25159125185792,636.47062052091428,623.56576249466252,607.33644367730403,587.50582319340515,563.72409641443528,535.5777669355665,502.61060124758916,464.36493436648482,420.45538277292906,370.68931992919187,315.24584431192375,254.91022219132168,191.3247444289189,127.15722918995417,66.029059861418929,12.052541229161159,0,0,0,0,0,0,0,0,0,0,0,{"$f":"BP667*BP637","v":0},0,0,0,0,0,0,0]
[null,"Radiación Global recibida",{"$f":"C671+C669+C668","v":0},0,0,0,0,0,0,0,0,0,0,0,0,0,0,0,0,0,0,0,0,344.84403446975398,433.17450422775516,514.58489978923672,587.06353670338922,649.84467667038075,703.04390289678554,747.29486419828538,783.46815348315693,812.48602915835158,835.21557549036788,852.4157044188122,864.71685995867051,872.61843530233523,876.49438935996022,876.60148911646354,873.08714457772317,865.99534354503112,855.27011613564707,840.75656423836961,822.20001318323375,799.24448791497377,771.43270024557239,738.21130931677772,698.94765896890942,652.96768848906345,599.62901500888279,538.44686552291262,469.28965025698221,392.64764841631143,309.94160083353847,223.77260356935579,137.94188196367625,57.057885574927226,16.708765146632356,-4.7303580143167946E-14,-4.7303580143167946E-14,-4.7303580143167946E-14,0,0,0,0,0,0,{"$f":"BO671+BO669+BO668","v":0},0,0,0,0,0,0,0,0]
[null,"Total Directa recibida",{"$f":"SUM(C671:BW671)","v":15600.608241248237},"W/m2"]
[null,"Total Directa disponible",{"$f":"SUM(C667:BW667)","v":15631.628709066978},"W/m2"]
[null,"Obstruccion directa",{"$f":"IF(C673=0,1,1-(C673/C674))","v":1.984468054870514E-3}]
[null,"Total global recibida",{"$f":"SUM(C672:BW672)","v":21417.415998152228}]
[null,"Total global ",{"$f":"SUM(C670:BW670)","v":21448.436465970968},"W/m2","% difusa","Fd"]
[null,"Obstrucción global",{"$f":"1-(C676/C677)","v":1.4462810782480684E-3},null,{"$f":"1-(C674/C677)","v":0.27119961709715534},{"$f":"C655","v":0.34371547018839144}]
[]
[null,"OCTUBRE"]
[null,"Declinacion dia tipo",{"$f":"D681*180/PI()","v":-9.7831899812588397},{"$f":"C700","v":-0.17074887652108908}]
[null,"ocaso",{"$f":"-DEGREES(ACOS((SIN(D682*PI()/180)*SIN($E$182)-SIN($C$681*PI()/180))/(COS(D682*PI()/180)*COS($E$182))))","v":-77.107188336381228},0]
[null,"AZIMUT",-180,{"$f":"C683+5","v":-175},{"$f":"D683+5","v":-170},-165,-160,-155,-150,-145,-140,-135,-130,-125,-120,-115,-110,-105,-100,-95,-90,-85,-80,-75,-70,-65,-60,-55,-50,-45,-40,-35,-30,-25,-20,-15,-10,-5,0,5,10,15,20,25,30,35,40,45,50,55,60,65,70,75,80,85,90,95,100,105,110,115,120,125,130,135,140,145,{"$f":"BP683+5","v":150},155,160,165,170,175,180]
[null,"Az radianes",{"$f":"C683*PI()/180","v":-3.1415926535897931},{"$f":"D683*PI()/180","v":-3.0543261909900763},{"$f":"E683*PI()/180","v":-2.9670597283903604},{"$f":"F683*PI()/180","v":-2.8797932657906435},-2.7925268031909272,-2.7052603405912108,-2.6179938779914944,-2.5307274153917776,-2.4434609527920612,-2.3561944901923448,-2.2689280275926285,-2.1816615649929116,-2.0943951023931953,-2.0071286397934789,-1.9198621771937625,-1.8325957145940461,-1.7453292519943295,-1.6580627893946132,-1.5707963267948966,-1.4835298641951802,-1.3962634015954636,-1.3089969389957472,-1.2217304763960306,-1.1344640137963142,-1.0471975511965976,-0.95993108859688125,-0.87266462599716477,-0.78539816339744828,-0.69813170079773179,-0.6108652381980153,-0.52359877559829882,-0.43633231299858238,-0.3490658503988659,-0.26179938779914941,-0.17453292519943295,-8.7266462599716474E-2,0,8.7266462599716474E-2,0.17453292519943295,0.26179938779914941,0.3490658503988659,0.43633231299858238,0.52359877559829882,0.6108652381980153,0.69813170079773179,0.78539816339744828,0.87266462599716477,0.95993108859688125,1.0471975511965976,1.1344640137963142,1.2217304763960306,1.3089969389957472,1.3962634015954636,1.4835298641951802,1.5707963267948966,1.6580627893946132,1.7453292519943295,1.8325957145940461,1.9198621771937625,2.0071286397934789,2.0943951023931953,2.1816615649929116,2.2689280275926285,2.3561944901923448,2.4434609527920612,2.5307274153917776,2.6179938779914944,{"$f":"BR683*PI()/180","v":2.7052603405912108},2.7925268031909272,2.8797932657906435,2.9670597283903604,3.0543261909900763,3.1415926535897931]
[null,"a",{"$f":"SIN($E$182)^2+COS(C684)^2*COS($E$182)^2","v":1},{"$f":"SIN($E$182)^2+COS(D684)^2*COS($E$182)^2","v":0.99559469963002312},{"$f":"SIN($E$182)^2+COS(E684)^2*COS($E$182)^2","v":0.98251265134264432},0.96115134655524004,0.93215983770443378,0.89641901711624594,0.85501485153852075,0.80920538559081812,0.76038251671525159,0.71002970307704127,0.65967688943883074,0.61085402056326399,0.5650445546155618,0.5236403890378365,0.48789956844964866,0.4589080595988424,0.43754675481143818,0.42446470652405949,0.42005940615408255,0.42446470652405949,0.43754675481143818,0.45890805959884234,0.48789956844964866,0.52364038903783661,0.56504455461556202,0.61085402056326421,0.65967688943883074,0.71002970307704127,0.76038251671525181,0.80920538559081834,0.85501485153852075,0.89641901711624594,0.93215983770443389,0.96115134655524026,0.98251265134264432,0.99559469963002312,1,0.99559469963002312,0.98251265134264432,0.96115134655524026,0.93215983770443389,0.89641901711624594,0.85501485153852075,0.80920538559081834,0.76038251671525181,0.71002970307704127,0.65967688943883074,0.61085402056326421,0.56504455461556202,0.52364038903783661,0.48789956844964866,0.45890805959884234,0.43754675481143818,0.42446470652405949,0.42005940615408255,0.42446470652405949,0.43754675481143818,0.4589080595988424,0.48789956844964866,0.5236403890378365,0.5650445546155618,0.61085402056326399,0.65967688943883074,0.71002970307704127,0.76038251671525159,0.80920538559081812,{"$f":"SIN($E$182)^2+COS(BQ684)^2*COS($E$182)^2","v":0.85501485153852075},0.89641901711624594,0.93215983770443378,0.96115134655524004,0.98251265134264432,0.99559469963002312,1]
[null,"b",{"$f":"-2*SIN($E$182)*SIN($D681)","v":0.22025756344193012},{"$f":"-2*SIN($E$182)*SIN($D681)","v":0.22025756344193012},{"$f":"-2*SIN($E$182)*SIN($D681)","v":0.22025756344193012},0.22025756344193012,0.22025756344193012,0.22025756344193012,0.22025756344193012,0.22025756344193012,0.22025756344193012,0.22025756344193012,0.22025756344193012,0.22025756344193012,0.22025756344193012,0.22025756344193012,0.22025756344193012,0.22025756344193012,0.22025756344193012,0.22025756344193012,0.22025756344193012,0.22025756344193012,0.22025756344193012,0.22025756344193012,0.22025756344193012,0.22025756344193012,0.22025756344193012,0.22025756344193012,0.22025756344193012,0.22025756344193012,0.22025756344193012,0.22025756344193012,0.22025756344193012,0.22025756344193012,0.22025756344193012,0.22025756344193012,0.22025756344193012,0.22025756344193012,0.22025756344193012,0.22025756344193012,0.22025756344193012,0.22025756344193012,0.22025756344193012,0.22025756344193012,0.22025756344193012,0.22025756344193012,0.22025756344193012,0.22025756344193012,0.22025756344193012,0.22025756344193012,0.22025756344193012,0.22025756344193012,0.22025756344193012,0.22025756344193012,0.22025756344193012,0.22025756344193012,0.22025756344193012,0.22025756344193012,0.22025756344193012,0.22025756344193012,0.22025756344193012,0.22025756344193012,0.22025756344193012,0.22025756344193012,0.22025756344193012,0.22025756344193012,0.22025756344193012,0.22025756344193012,{"$f":"-2*SIN($E$182)*SIN($D681)","v":0.22025756344193012},0.22025756344193012,0.22025756344193012,0.22025756344193012,0.22025756344193012,0.22025756344193012,0.22025756344193012]
[null,"c",{"$f":"SIN($D681)^2-COS($E$182)^2*COS(C684)^2","v":-0.55106765733822938},{"$f":"SIN($D681)^2-COS($E$182)^2*COS(D684)^2","v":-0.54666235696825249},{"$f":"SIN($D681)^2-COS($E$182)^2*COS(E684)^2","v":-0.53358030868087369},-0.51221900389346942,-0.48322749504266321,-0.44748667445447537,-0.40608250887675013,-0.36027304292904755,-0.31145017405348102,-0.26109736041527065,-0.2107445467770602,-0.16192167790149345,-0.11611221195379118,-7.4708046376065929E-2,-3.8967225787878056E-2,-9.9757169370718116E-3,1.1385587850332432E-2,2.446763613771108E-2,2.8872936507688039E-2,2.446763613771109E-2,1.1385587850332411E-2,-9.9757169370717769E-3,-3.8967225787878097E-2,-7.4708046376065984E-2,-0.11611221195379137,-0.16192167790149367,-0.2107445467770602,-0.26109736041527076,-0.31145017405348119,-0.36027304292904777,-0.40608250887675013,-0.44748667445447537,-0.48322749504266332,-0.51221900389346964,-0.53358030868087369,-0.54666235696825249,-0.55106765733822938,-0.54666235696825249,-0.53358030868087369,-0.51221900389346964,-0.48322749504266332,-0.44748667445447537,-0.40608250887675013,-0.36027304292904777,-0.31145017405348119,-0.26109736041527076,-0.2107445467770602,-0.16192167790149367,-0.11611221195379137,-7.4708046376065984E-2,-3.8967225787878097E-2,-9.9757169370717769E-3,1.1385587850332411E-2,2.446763613771109E-2,2.8872936507688039E-2,2.446763613771108E-2,1.1385587850332432E-2,-9.9757169370718116E-3,-3.8967225787878056E-2,-7.4708046376065929E-2,-0.11611221195379118,-0.16192167790149345,-0.2107445467770602,-0.26109736041527065,-0.31145017405348102,-0.36027304292904755,{"$f":"SIN($D681)^2-COS($E$182)^2*COS(BQ684)^2","v":-0.40608250887675013},-0.44748667445447537,-0.48322749504266321,-0.51221900389346942,-0.53358030868087369,-0.54666235696825249,-0.55106765733822938]
[null,"alt solar",{"$f":"IF(C683<=$C$682,0,IF(C683>=-$C$682,0,DEGREES(ASIN(((-C686+(C686^2-4*C685*C687)^0.5)/(2*C685))))))","v":0},{"$f":"IF(D683<=$C$682,0,IF(D683>=-$C$682,0,DEGREES(ASIN(((-D686+(D686^2-4*D685*D687)^0.5)/(2*D685))))))","v":0},0,0,0,0,0,0,0,0,0,0,0,0,0,0,0,0,0,0,0,2.3883710862269281,7.8144838392619071,12.827019688609882,17.369533132430298,21.421127210992719,24.98677485473458,28.087710457208406,30.753630370913651,33.017127312723836,34.910092433620434,36.461590907144405,37.696730775596492,38.636146371570817,39.295828741108487,39.687126876534592,39.816810018741165,39.687126876534592,39.295828741108487,38.636146371570817,37.696730775596492,36.461590907144405,34.910092433620434,33.017127312723836,30.753630370913651,28.087710457208406,24.98677485473458,21.421127210992719,17.369533132430298,12.827019688609882,7.8144838392619071,2.3883710862269281,0,0,0,0,0,0,0,0,0,0,0,0,0,{"$f":"IF(BP683<=$C$682,0,IF(BP683>=-$C$682,0,DEGREES(ASIN(((-BP686+(BP686^2-4*BP685*BP687)^0.5)/(2*BP685))))))","v":0},0,0,0,0,0,0,0]
[]
[null,"obst. Inf.",{"$f":"IF($C$173>=C688,0,1)","v":0},{"$f":"IF($D$173>=D688,0,1)","v":0},{"$f":"IF($E$173>=E688,0,1)","v":0},{"$f":"IF($F$173>=F688,0,1)","v":0},{"$f":"IF($G$173>=G688,0,1)","v":0},{"$f":"IF($H$173>=H688,0,1)","v":0},{"$f":"IF($I$173>=I688,0,1)","v":0},{"$f":"IF($J$173>=J688,0,1)","v":0},{"$f":"IF($K$173>=K688,0,1)","v":0},{"$f":"IF($L$173>=L688,0,1)","v":0},{"$f":"IF($M$173>=M688,0,1)","v":0},{"$f":"IF($N$173>=N688,0,1)","v":0},{"$f":"IF($O$173>=O688,0,1)","v":0},{"$f":"IF($P$173>=P688,0,1)","v":0},{"$f":"IF($Q$173>=Q688,0,1)","v":0},{"$f":"IF($R$173>=R688,0,1)","v":0},{"$f":"IF($S$173>=S688,0,1)","v":0},{"$f":"IF($T$173>=T688,0,1)","v":0},{"$f":"IF($U$173>=U688,0,1)","v":0},{"$f":"IF($V$173>=V688,0,1)","v":0},{"$f":"IF($W$173>=W688,0,1)","v":0},{"$f":"IF($X$173>=X688,0,1)","v":0},{"$f":"IF($Y$173>=Y688,0,1)","v":1},{"$f":"IF($Z$173>=Z688,0,1)","v":1},{"$f":"IF($AA$173>=AA688,0,1)","v":1},{"$f":"IF($AB$173>=AB688,0,1)","v":1},{"$f":"IF($AC$173>=AC688,0,1)","v":1},{"$f":"IF($AD$173>=AD688,0,1)","v":1},{"$f":"IF($AE$173>=AE688,0,1)","v":1},{"$f":"IF($AF$173>=AF688,0,1)","v":1},{"$f":"IF($AG$173>=AG688,0,1)","v":1},{"$f":"IF($AH$173>=AH688,0,1)","v":1},{"$f":"IF($AI$173>=AI688,0,1)","v":1},{"$f":"IF($AJ$173>=AJ688,0,1)","v":1},{"$f":"IF($AK$173>=AK688,0,1)","v":1},{"$f":"IF($AL$173>=AL688,0,1)","v":1},{"$f":"IF($AM$173>=AM688,0,1)","v":1},{"$f":"IF($AN$173>=AN688,0,1)","v":1},{"$f":"IF($AO$173>=AO688,0,1)","v":1},{"$f":"IF($AP$173>=AP688,0,1)","v":1},{"$f":"IF($AQ$173>=AQ688,0,1)","v":1},{"$f":"IF($AR$173>=AR688,0,1)","v":1},{"$f":"IF($AS$173>=AS688,0,1)","v":1},{"$f":"IF($AT$173>=AT688,0,1)","v":1},{"$f":"IF($AU$173>=AU688,0,1)","v":1},{"$f":"IF($AV$173>=AV688,0,1)","v":1},{"$f":"IF($AW$173>=AW688,0,1)","v":1},{"$f":"IF($AX$173>=AX688,0,1)","v":1},{"$f":"IF($AY$173>=AY688,0,1)","v":1},{"$f":"IF($AZ$173>=AZ688,0,1)","v":1},{"$f":"IF($BA$173>=BA688,0,1)","v":1},{"$f":"IF($BB$173>=BB688,0,1)","v":0},{"$f":"IF($BC$173>=BC688,0,1)","v":0},{"$f":"IF($BD$173>=BD688,0,1)","v":0},{"$f":"IF($BE$173>=BE688,0,1)","v":0},{"$f":"IF($BF$173>=BF688,0,1)","v":0},{"$f":"IF($BG$173>=BG688,0,1)","v":0},{"$f":"IF($BH$173>=BH688,0,1)","v":0},{"$f":"IF($BI$173>=BI688,0,1)","v":0},{"$f":"IF($BJ$173>=BJ688,0,1)","v":0},{"$f":"IF($BK$173>=BK688,0,1)","v":0},{"$f":"IF($BL$173>=BL688,0,1)","v":0},{"$f":"IF($BM$173>=BM688,0,1)","v":0},{"$f":"IF($BN$173>=BN688,0,1)","v":0},{"$f":"IF($BO$173>=BO688,0,1)","v":0},{"$f":"IF($BP$173>=BP688,0,1)","v":0},{"$f":"IF($BQ$173>=BQ688,0,1)","v":0},{"$f":"IF($BR$173>=BR688,0,1)","v":0},{"$f":"IF($BS$173>=BS688,0,1)","v":0},{"$f":"IF($BT$173>=BT688,0,1)","v":0},{"$f":"IF($BU$173>=BU688,0,1)","v":0},{"$f":"IF($BV$173>=BV688,0,1)","v":0},{"$f":"IF($BW$173>=BW688,0,1)","v":0}]
[null,"obst. Sup",{"$f":"IF(C688>$C$176,0,1)","v":1},{"$f":"IF(D688>$D$176,0,1)","v":1},{"$f":"IF(E688>$E$176,0,1)","v":1},{"$f":"IF(F688>$F$176,0,1)","v":1},{"$f":"IF(G688>$G$176,0,1)","v":1},{"$f":"IF(H688>$H$176,0,1)","v":1},{"$f":"IF(I688>$I$176,0,1)","v":1},{"$f":"IF(J688>$J$176,0,1)","v":1},{"$f":"IF(K688>$K$176,0,1)","v":1},{"$f":"IF(L688>$L$176,0,1)","v":1},{"$f":"IF(M688>$M$176,0,1)","v":1},{"$f":"IF(N688>$N$176,0,1)","v":1},{"$f":"IF(O688>$O$176,0,1)","v":1},{"$f":"IF(P688>$P$176,0,1)","v":1},{"$f":"IF(Q688>$Q$176,0,1)","v":1},{"$f":"IF(R688>$R$176,0,1)","v":1},{"$f":"IF(S688>$S$176,0,1)","v":1},{"$f":"IF(T688>$T$176,0,1)","v":1},{"$f":"IF(U688>$U$176,0,1)","v":1},{"$f":"IF(V688>$V$176,0,1)","v":1},{"$f":"IF(W688>$W$176,0,1)","v":1},{"$f":"IF(X688>$X$176,0,1)","v":1},{"$f":"IF(Y688>$Y$176,0,1)","v":1},{"$f":"IF(Z688>$Z$176,0,1)","v":1},{"$f":"IF(AA688>$AA$176,0,1)","v":1},{"$f":"IF(AB688>$AB$176,0,1)","v":1},{"$f":"IF(AC688>$AC$176,0,1)","v":1},{"$f":"IF(AD688>$AD$176,0,1)","v":1},{"$f":"IF(AE688>$AE$176,0,1)","v":1},{"$f":"IF(AF688>$AF$176,0,1)","v":1},{"$f":"IF(AG688>$AG$176,0,1)","v":1},{"$f":"IF(AH688>$AH$176,0,1)","v":1},{"$f":"IF(AI688>$AI$176,0,1)","v":1},{"$f":"IF(AJ688>$AJ$176,0,1)","v":1},{"$f":"IF(AK688>$AK$176,0,1)","v":1},{"$f":"IF(AL688>$AL$176,0,1)","v":1},{"$f":"IF(AM688>$AM$176,0,1)","v":1},{"$f":"IF(AN688>$AN$176,0,1)","v":1},{"$f":"IF(AO688>$AO$176,0,1)","v":1},{"$f":"IF(AP688>$AP$176,0,1)","v":1},{"$f":"IF(AQ688>$AQ$176,0,1)","v":1},{"$f":"IF(AR688>$AR$176,0,1)","v":1},{"$f":"IF(AS688>$AS$176,0,1)","v":1},{"$f":"IF(AT688>$AT$176,0,1)","v":1},{"$f":"IF(AU688>$AU$176,0,1)","v":1},{"$f":"IF(AV688>$AV$176,0,1)","v":1},{"$f":"IF(AW688>$AW$176,0,1)","v":1},{"$f":"IF(AX688>$AX$176,0,1)","v":1},{"$f":"IF(AY688>$AY$176,0,1)","v":1},{"$f":"IF(AZ688>$AZ$176,0,1)","v":1},{"$f":"IF(BA688>$BA$176,0,1)","v":1},{"$f":"IF(BB688>$BB$176,0,1)","v":1},{"$f":"IF(BC688>$BC$176,0,1)","v":1},{"$f":"IF(BD688>$BD$176,0,1)","v":1},{"$f":"IF(BE688>$BE$176,0,1)","v":1},{"$f":"IF(BF688>$BF$176,0,1)","v":1},{"$f":"IF(BG688>$BG$176,0,1)","v":1},{"$f":"IF(BH688>$BH$176,0,1)","v":1},{"$f":"IF(BI688>$BI$176,0,1)","v":1},{"$f":"IF(BJ688>$BJ$176,0,1)","v":1},{"$f":"IF(BK688>$BK$176,0,1)","v":1},{"$f":"IF(BL688>$BL$176,0,1)","v":1},{"$f":"IF(BM688>$BM$176,0,1)","v":1},{"$f":"IF(BN688>$BN$176,0,1)","v":1},{"$f":"IF(BO688>$BO$176,0,1)","v":1},{"$f":"IF(BP688>$BP$176,0,1)","v":1},{"$f":"IF(BQ688>$BQ$176,0,1)","v":1},{"$f":"IF(BR688>$BR$176,0,1)","v":1},{"$f":"IF(BS688>$BS$176,0,1)","v":1},{"$f":"IF(BT688>$BT$176,0,1)","v":1},{"$f":"IF(BU688>$BU$176,0,1)","v":1},{"$f":"IF(BV688>$BV$176,0,1)","v":1},{"$f":"IF(BW688>$BW$176,0,1)","v":1}]
[null,"obst. TOTAL",{"$f":"C690*C691","v":0},{"$f":"D690*D691","v":0},0,0,0,0,0,0,0,0,0,0,0,0,0,0,0,0,0,0,0,0,1,1,1,1,1,1,1,1,1,1,1,1,1,1,1,1,1,1,1,1,1,1,1,1,1,1,1,1,1,0,0,0,0,0,0,0,0,0,0,0,0,0,0,{"$f":"BP690*BP691","v":0},0,0,0,0,0,0,0]
[]
[null,"Latitud",{"$f":"$C$182","v":40.4},null,{"$f":"PI()*(C694+D694/60)/180","v":0.70511301780570912}]
[null,"Azimut",{"$f":"$I$4","v":15},null,{"$f":"C695*PI()/180","v":0.26179938779914941}]
[null,"Inclinacion",{"$f":"$I$3","v":35},null,{"$f":"C696*PI()/180","v":0.6108652381980153}]
[null,"Coeficiente refexion",{"$f":"M498","v":0}]
[null,"Constante solar extraterrestre (Bo)",{"$f":"$G$182","v":1367},"W/m2"]
[null,"Dia del año",{"$f":"31+28+31+30+31+30+31+31+30+15.5","v":288.5}]
[null,"Declinacion . radianes",{"$f":"23.45*PI()/180*SIN(2*PI()*((C699+284)/365))","v":-0.17074887652108908}]
[null,"Ángulo puesta de sol. Radianes. Ws",{"$f":"ACOS(-TAN(C700)*TAN($E$199))","v":1.4235168429726577}]
[null,"Distancia sol - tierra. Bo",{"$f":"1+0.033*COS((2*PI()*C699/365)*PI()/180)","v":1.0328761111001858},"expresion Duffi y Beckman"]
[null,"Factor angulo solar",{"$f":"(SIN(C700)*C701*SIN(E694))+COS(E694)*COS(C700)*SIN(C701)","v":0.58556913847787628}]
[null,"Ho. Irradiacion Extraterreste sobre sup. Horizontal",{"$f":"+($C$203*24/PI())*C702*C703","v":6316.2061526180087}]
[null,"H1",{"$f":"+(3.6*C698*24/PI())*(1+0.033*COS(PI()/180*(360*C699/365)))","v":37906.835517168387}]
[null,"H2",{"$f":"COS(E694)*COS(C700)*SIN(C701)","v":0.74233931415372945}]
[null,"H3",{"$f":"+SIN(C700)*C701*SIN(E694)","v":-0.15677017567585311}]
[null,"H horizontal diaria (W/m2 dia) s/ localidad",{"$f":"L6","v":3565.1422222222222},"W/m2 dia"]
[null,"Indice de claridad Kt",{"$f":"C708/C704","v":0.56444361315605629}]
[null,"Fraccion difusa diaria promedio",{"$f":"0.775+0.347*(C701-(PI()/2))-(0.505+0.261*(C701-(PI()/2)))*COS(2*C709-1.8)","v":0.35851676700513174},"Correlacion Collares-Pereira "]
[null,"Factor A Lui y Jordan",{"$f":"0.409+0.5016*SIN(C701-60*PI()/180)","v":0.59333791022805649},"parametros 5 estaciones EEUU"]
[null,"Factor B Lui y Jordan",{"$f":"0.6609-0.4767*SIN(C701-60*PI()/180)","v":0.48571283531556114},"parametros 5 estaciones EEUU"]
[]
[null,"AZIMUT",-180,{"$f":"C714+5","v":-175},{"$f":"D714+5","v":-170},-165,-160,-155,-150,-145,-140,-135,-130,-125,-120,-115,-110,-105,-100,-95,-90,-85,-80,-75,-70,-65,-60,-55,-50,-45,-40,-35,-30,-25,-20,-15,-10,-5,0,5,10,15,20,25,30,35,40,45,50,55,60,65,70,75,80,85,90,95,100,105,110,115,120,125,130,135,140,145,{"$f":"BP714+5","v":150},155,160,165,170,175,180]
[null,"Az radianes",{"$f":"C714*PI()/180","v":-3.1415926535897931},{"$f":"D714*PI()/180","v":-3.0543261909900763},{"$f":"E714*PI()/180","v":-2.9670597283903604},{"$f":"F714*PI()/180","v":-2.8797932657906435},-2.7925268031909272,-2.7052603405912108,-2.6179938779914944,-2.5307274153917776,-2.4434609527920612,-2.3561944901923448,-2.2689280275926285,-2.1816615649929116,-2.0943951023931953,-2.0071286397934789,-1.9198621771937625,-1.8325957145940461,-1.7453292519943295,-1.6580627893946132,-1.5707963267948966,-1.4835298641951802,-1.3962634015954636,-1.3089969389957472,-1.2217304763960306,-1.1344640137963142,-1.0471975511965976,-0.95993108859688125,-0.87266462599716477,-0.78539816339744828,-0.69813170079773179,-0.6108652381980153,-0.52359877559829882,-0.43633231299858238,-0.3490658503988659,-0.26179938779914941,-0.17453292519943295,-8.7266462599716474E-2,0,8.7266462599716474E-2,0.17453292519943295,0.26179938779914941,0.3490658503988659,0.43633231299858238,0.52359877559829882,0.6108652381980153,0.69813170079773179,0.78539816339744828,0.87266462599716477,0.95993108859688125,1.0471975511965976,1.1344640137963142,1.2217304763960306,1.3089969389957472,1.3962634015954636,1.4835298641951802,1.5707963267948966,1.6580627893946132,1.7453292519943295,1.8325957145940461,1.9198621771937625,2.0071286397934789,2.0943951023931953,2.1816615649929116,2.2689280275926285,2.3561944901923448,2.4434609527920612,2.5307274153917776,2.6179938779914944,{"$f":"BR714*PI()/180","v":2.7052603405912108},2.7925268031909272,2.8797932657906435,2.9670597283903604,3.0543261909900763,3.1415926535897931]
[null,"alt solar (grados)",{"$f":"C688","v":0},{"$f":"D688","v":0},{"$f":"E688","v":0},0,0,0,0,0,0,0,0,0,0,0,0,0,0,0,0,0,0,2.3883710862269281,7.8144838392619071,12.827019688609882,17.369533132430298,21.421127210992719,24.98677485473458,28.087710457208406,30.753630370913651,33.017127312723836,34.910092433620434,36.461590907144405,37.696730775596492,38.636146371570817,39.295828741108487,39.687126876534592,39.816810018741165,39.687126876534592,39.295828741108487,38.636146371570817,37.696730775596492,36.461590907144405,34.910092433620434,33.017127312723836,30.753630370913651,28.087710457208406,24.98677485473458,21.421127210992719,17.369533132430298,12.827019688609882,7.8144838392619071,2.3883710862269281,0,0,0,0,0,0,0,0,0,0,0,0,0,0,{"$f":"BQ688","v":0},0,0,0,0,0,0]
[null,"ang horario (grados)",{"$f":"DEGREES(ACOS((SIN(C716*PI()/180)-(SIN($E694)*SIN($C700)))/(COS($E694)*COS($C700))))","v":81.561507168120428},{"$f":"DEGREES(ACOS((SIN(D716*PI()/180)-(SIN($E694)*SIN($C700)))/(COS($E694)*COS($C700))))","v":81.561507168120428},81.561507168120428,81.561507168120428,81.561507168120428,81.561507168120428,81.561507168120428,81.561507168120428,81.561507168120428,81.561507168120428,81.561507168120428,81.561507168120428,81.561507168120428,81.561507168120428,81.561507168120428,81.561507168120428,81.561507168120428,81.561507168120428,81.561507168120428,81.561507168120428,81.561507168120428,78.329850956345936,70.85720591530513,63.731659000288516,57.006353516069908,50.698085635451434,44.796679851757411,39.274398839291543,34.093603837774971,29.212200693954614,24.58710865646319,20.1762265762749,15.939363911311561,11.838506224574918,7.8376758327809046,3.9025582179580174,0,{"$f":"-DEGREES(ACOS((SIN(AN716*PI()/180)-(SIN($E694)*SIN($C700)))/(COS($E694)*COS($C700))))","v":-3.9025582179580174},{"$f":"-DEGREES(ACOS((SIN(AO716*PI()/180)-(SIN($E694)*SIN($C700)))/(COS($E694)*COS($C700))))","v":-7.8376758327809046},-11.838506224574918,-15.939363911311561,-20.1762265762749,-24.58710865646319,-29.212200693954614,-34.093603837774971,-39.274398839291543,-44.796679851757411,-50.698085635451434,-57.006353516069908,-63.731659000288516,-70.85720591530513,-78.329850956345936,-81.561507168120428,-81.561507168120428,-81.561507168120428,-81.561507168120428,-81.561507168120428,-81.561507168120428,-81.561507168120428,-81.561507168120428,-81.561507168120428,-81.561507168120428,-81.561507168120428,-81.561507168120428,-81.561507168120428,-81.561507168120428,-81.561507168120428,-81.561507168120428,-81.561507168120428,-81.561507168120428,-81.561507168120428,-81.561507168120428,-81.561507168120428]
[null,"Factor inclinación",{"$f":"-(IF(C716=0,0,(SIN($C700)*SIN($E694)*COS($E696)-SIN($C700)*COS($E694)*SIN($E696)*COS($E695)+COS($C700)*COS($E694)*COS($E696)*COS(C717*PI()/180)+COS($C700)*SIN($E694)*SIN($E696)*COS(C717*PI()/180)*COS($E695)+COS($C700)*SIN($E696)*SIN(C717*PI()/180)*SIN($E695))/(COS($C700)*COS($E694)*COS(C717*PI()/180)+SIN($C700)*SIN($E694))))","v":0},{"$f":"-(IF(D716=0,0,(SIN($C700)*SIN($E694)*COS($E696)-SIN($C700)*COS($E694)*SIN($E696)*COS($E695)+COS($C700)*COS($E694)*COS($E696)*COS(D717*PI()/180)+COS($C700)*SIN($E694)*SIN($E696)*COS(D717*PI()/180)*COS($E695)+COS($C700)*SIN($E696)*SIN(D717*PI()/180)*SIN($E695))/(COS($C700)*COS($E694)*COS(D717*PI()/180)+SIN($C700)*SIN($E694))))","v":0},0,0,0,0,0,0,0,0,0,0,0,0,0,0,0,0,0,0,0,-7.695066783094398,-3.2163301329845071,-2.4384026631630138,-2.1157745050880714,-1.939114719556382,-1.8273482167207962,-1.7499284193814213,-1.6927931499577744,-1.6485740924537053,-1.613040664549817,-1.5835911353549477,-1.5585364268143005,-1.5367298936861398,-1.5173625586905517,-1.4998433654390162,-1.4837256868981465,-1.4686601432669244,-1.4543628393325143,-1.440592691059926,-1.4271338269878402,-1.4137800983664039,-1.4003188498706707,-1.3865101398705217,-1.3720546665623059,-1.3565360350039501,-1.3393022616477082,-1.3191880384863404,-1.2937488040589473,-1.2565903441508124,-1.1834066119065494,-0.81915204428899191,0,0,0,0,0,0,0,0,0,0,0,0,0,{"$f":"-(IF(BP716=0,0,(SIN($C700)*SIN($E694)*COS($E696)-SIN($C700)*COS($E694)*SIN($E696)*COS($E695)+COS($C700)*COS($E694)*COS($E696)*COS(BP717*PI()/180)+COS($C700)*SIN($E694)*SIN($E696)*COS(BP717*PI()/180)*COS($E695)+COS($C700)*SIN($E696)*SIN(BP717*PI()/180)*SIN($E695))/(COS($C700)*COS($E694)*COS(BP717*PI()/180)+SIN($C700)*SIN($E694))))","v":0},0,0,0,0,0,0,0]
[null,"Correccion valores negativos",{"$f":"ABS(C718)","v":0},{"$f":"ABS(D718)","v":0},0,0,0,0,0,0,0,0,0,0,0,0,0,0,0,0,0,0,0,7.695066783094398,3.2163301329845071,2.4384026631630138,2.1157745050880714,1.939114719556382,1.8273482167207962,1.7499284193814213,1.6927931499577744,1.6485740924537053,1.613040664549817,1.5835911353549477,1.5585364268143005,1.5367298936861398,1.5173625586905517,1.4998433654390162,1.4837256868981465,1.4686601432669244,1.4543628393325143,1.440592691059926,1.4271338269878402,1.4137800983664039,1.4003188498706707,1.3865101398705217,1.3720546665623059,1.3565360350039501,1.3393022616477082,1.3191880384863404,1.2937488040589473,1.2565903441508124,1.1834066119065494,0.81915204428899191,0,0,0,0,0,0,0,0,0,0,0,0,0,{"$f":"ABS(BP718)","v":0},0,0,0,0,0,0,0]
[null,"Radiacion H GLOBAL (distribucion Lui y Jordan)",{"$f":"$C708*((PI()/24*($C711+$C712*COS(C717*PI()/180))*(COS(C717*PI()/180)-COS($C701)))/(SIN($C701)-$C701*COS($C701)))","v":0},{"$f":"$C708*((PI()/24*($C711+$C712*COS(D717*PI()/180))*(COS(D717*PI()/180)-COS($C701)))/(SIN($C701)-$C701*COS($C701)))","v":0},0,0,0,0,0,0,0,0,0,0,0,0,0,0,0,0,0,0,0,22.968741695093229,81.553074416859559,143.01467077776152,204.09475011131934,{"$f":"$C708*((PI()/24*($C711+$C712*COS(AB717*PI()/180))*(COS(AB717*PI()/180)-COS($C701)))/(SIN($C701)-$C701*COS($C701)))","v":262.24833420432532},{"$f":"$C708*((PI()/24*($C711+$C712*COS(AC717*PI()/180))*(COS(AC717*PI()/180)-COS($C701)))/(SIN($C701)-$C701*COS($C701)))","v":315.77362154653457},363.72282759361491,405.71805942678782,441.75869045544869,472.06163004792796,496.94500275635397,516.75060956024868,531.79570045641833,542.34477409965541,548.59408477996874,550.66373209056371,548.59408477996874,542.34477409965541,531.79570045641833,516.75060956024868,496.94500275635397,472.06163004792796,441.75869045544869,405.71805942678782,363.72282759361491,315.77362154653457,262.24833420432532,204.09475011131934,143.01467077776152,81.553074416859559,22.968741695093229,0,0,0,0,0,0,0,0,0,0,0,0,0,0,0,0,0,0,0,0,0]
[null,"Radiacion H DIFUSA (distribucion Lui y Jordan)",{"$f":"$C710*$C708*((PI()/24*(COS(C717*PI()/180)-COS($C701)))/(SIN($C701)-$C701*COS($C701)))","v":0},{"$f":"$C710*$C708*((PI()/24*(COS(D717*PI()/180)-COS($C701)))/(SIN($C701)-$C701*COS($C701)))","v":0},0,0,0,0,0,0,0,0,0,0,0,0,0,0,0,0,0,0,0,11.906940221888384,38.848760511836844,63.433118776688239,85.298150667723206,104.35215573544649,120.69242155195417,134.52535263444921,146.10428459210655,155.68809008479022,163.51710547489853,169.80116124059572,174.71507683959325,178.39823682456941,180.95604438361931,182.46192443921291,182.95912564948844,182.46192443921291,180.95604438361931,178.39823682456941,174.71507683959325,169.80116124059572,163.51710547489853,155.68809008479022,146.10428459210655,134.52535263444921,120.69242155195417,104.35215573544649,85.298150667723206,63.433118776688239,38.848760511836844,11.906940221888384,0,0,0,0,0,0,0,0,0,0,0,0,0,{"$f":"$C710*$C708*((PI()/24*(COS(BP717*PI()/180)-COS($C701)))/(SIN($C701)-$C701*COS($C701)))","v":0},0,0,0,0,0,0,0]
[null,"Total Directa",{"$f":"C$54*IF((C720-C721)*C719<0,0,(C720-C721)*C719)","v":0},{"$f":"D$54*IF((D720-D721)*D719<0,0,(D720-D721)*D719)","v":0},0,0,0,0,0,0,0,0,0,0,0,0,0,0,0,0,0,0,0,85.121301077643281,137.35117162115384,194.05186833806295,251.34681639392048,306.1788038307044,356.48128292584948,401.07917508150575,439.47241967482853,471.60858038374488,497.69486496048671,518.06208741031867,533.07483700997602,543.07644671592266,548.35772760385271,549.14089156093667,545.57276976739706,537.72371106068294,525.5903390525848,509.10180314715763,488.13047877745356,462.50945243811196,432.06071378399747,396.63978813276577,356.20429126578023,310.9146339140238,261.2726923576904,208.29474995884937,153.6929584564223,100.00140981708444,50.536567432136678,9.061297290294732,0,0,0,0,0,0,0,0,0,0,0,0,0,{"$f":"BP$54*IF((BP720-BP721)*BP719<0,0,(BP720-BP721)*BP719)","v":0},0,0,0,0,0,0,0]
[null,"Total Difusa (plano incl)",{"$f":"C$54*C721*(1+COS($E696))/2","v":0},{"$f":"D$54*D721*(1+COS($E696))/2","v":0},0,0,0,0,0,0,0,0,0,0,0,0,0,0,0,0,0,0,0,10.830267322937537,35.335901051600729,57.697243849119424,77.585152580629554,94.916218716050366,109.77893269821311,122.3610351268279,132.89295399755565,141.61015367459743,148.73123835044018,154.44706479673721,158.91664460042719,162.26675860848357,164.5932790334553,165.96299142424886,166.41523372329672,165.96299142424886,164.5932790334553,162.26675860848357,158.91664460042719,154.44706479673721,148.73123835044018,141.61015367459743,132.89295399755565,122.3610351268279,109.77893269821311,94.916218716050366,77.585152580629554,57.697243849119424,35.335901051600729,10.830267322937537,0,0,0,0,0,0,0,0,0,0,0,0,0,{"$f":"BP$54*BP721*(1+COS($E696))/2","v":0},0,0,0,0,0,0,0]
[null,"Total Reflejada (plano incl)",{"$f":"C$54*C720*$C697*(1-COS($E696))/2","v":0},{"$f":"D$54*D720*$C697*(1-COS($E696))/2","v":0},0,0,0,0,0,0,0,0,0,0,0,0,0,0,0,0,0,0,0,0,0,0,0,0,0,0,0,0,0,0,0,0,0,0,0,0,0,0,0,0,0,0,0,0,0,0,0,0,0,0,0,0,0,0,0,0,0,0,0,0,0,0,0,{"$f":"BP$54*BP720*$C697*(1-COS($E696))/2","v":0},0,0,0,0,0,0,0]
[null,"TOTAL (W/m2)",{"$f":"C722+C723+C724","v":0},0,0,0,0,0,0,0,0,0,0,0,0,0,0,0,0,0,0,0,0,95.951568400580811,172.68707267275457,251.74911218718236,328.93196897455005,401.09502254675476,466.2602156240626,523.44021020833361,572.36537367238418,613.21873405834231,646.42610331092692,672.50915220705588,691.99148161040318,705.3432053244062,712.95100663730796,715.10388298518546,711.98800349069381,703.68670248493186,690.18361808604004,671.36856175564117,647.04712337788078,616.95651723484912,580.79195213443768,538.24994180736326,489.09724526333588,433.27566904085171,371.05162505590351,303.21096867489973,231.27811103705187,157.69865366620385,85.872468483737407,19.891564613232269,0,0,0,0,0,0,0,0,0,0,0,0,{"$f":"BO722+BO723+BO724","v":0},0,0,0,0,0,0,0,0]
[null,"Radiación Directa recibida",{"$f":"C722*C692","v":0},{"$f":"D722*D692","v":0},0,0,0,0,0,0,0,0,0,0,0,0,0,0,0,0,0,0,0,0,137.35117162115384,194.05186833806295,251.34681639392048,306.1788038307044,356.48128292584948,401.07917508150575,439.47241967482853,471.60858038374488,497.69486496048671,518.06208741031867,533.07483700997602,543.07644671592266,548.35772760385271,549.14089156093667,545.57276976739706,537.72371106068294,525.5903390525848,509.10180314715763,488.13047877745356,462.50945243811196,432.06071378399747,396.63978813276577,356.20429126578023,310.9146339140238,261.2726923576904,208.29474995884937,153.6929584564223,100.00140981708444,50.536567432136678,0,0,0,0,0,0,0,0,0,0,0,0,0,0,{"$f":"BP722*BP692","v":0},0,0,0,0,0,0,0]
[null,"Radiación Global recibida",{"$f":"C726+C724+C723","v":0},0,0,0,0,0,0,0,0,0,0,0,0,0,0,0,0,0,0,0,0,10.830267322937537,172.68707267275457,251.74911218718236,328.93196897455005,401.09502254675476,466.2602156240626,523.44021020833361,572.36537367238418,613.21873405834231,646.42610331092692,672.50915220705588,691.99148161040318,705.3432053244062,712.95100663730796,715.10388298518546,711.98800349069381,703.68670248493186,690.18361808604004,671.36856175564117,647.04712337788078,616.95651723484912,580.79195213443768,538.24994180736326,489.09724526333588,433.27566904085171,371.05162505590351,303.21096867489973,231.27811103705187,157.69865366620385,85.872468483737407,10.830267322937537,0,0,0,0,0,0,0,0,0,0,0,0,{"$f":"BO726+BO724+BO723","v":0},0,0,0,0,0,0,0,0]
[null,"Total Directa recibida",{"$f":"SUM(C726:BW726)","v":11085.223332873404},"W/m2"]
[null,"Total Directa disponible",{"$f":"SUM(C722:BW722)","v":11179.405931241343},"W/m2"]
[null,"Obstruccion directa",{"$f":"IF(C728=0,1,1-(C728/C729))","v":8.4246514481365331E-3}]
[null,"Total global recibida",{"$f":"SUM(C727:BW727)","v":14727.490238259345}]
[null,"Total global ",{"$f":"SUM(C725:BW725)","v":14821.672836627284},"W/m2","% difusa","Fd"]
[null,"Obstrucción global",{"$f":"1-(C731/C732)","v":6.3543838408843811E-3},null,{"$f":"1-(C729/C732)","v":0.24573925936249108},{"$f":"C710","v":0.35851676700513174}]
[]
[null,"NOVIEMBRE"]
[null,"Declinacion dia tipo",{"$f":"D736*180/PI()","v":-19.147817306406729},{"$f":"C755","v":-0.33419245656714935}]
[null,"ocaso",{"$f":"-DEGREES(ACOS((SIN(D737*PI()/180)*SIN($E$182)-SIN($C$736*PI()/180))/(COS(D737*PI()/180)*COS($E$182))))","v":-64.487019065413321},0]
[null,"AZIMUT",-180,{"$f":"C738+5","v":-175},{"$f":"D738+5","v":-170},-165,-160,-155,-150,-145,-140,-135,-130,-125,-120,-115,-110,-105,-100,-95,-90,-85,-80,-75,-70,-65,-60,-55,-50,-45,-40,-35,-30,-25,-20,-15,-10,-5,0,5,10,15,20,25,30,35,40,45,50,55,60,65,70,75,80,85,90,95,100,105,110,115,120,125,130,135,140,145,{"$f":"BP738+5","v":150},155,160,165,170,175,180]
[null,"Az radianes",{"$f":"C738*PI()/180","v":-3.1415926535897931},{"$f":"D738*PI()/180","v":-3.0543261909900763},{"$f":"E738*PI()/180","v":-2.9670597283903604},{"$f":"F738*PI()/180","v":-2.8797932657906435},-2.7925268031909272,-2.7052603405912108,-2.6179938779914944,-2.5307274153917776,-2.4434609527920612,-2.3561944901923448,-2.2689280275926285,-2.1816615649929116,-2.0943951023931953,-2.0071286397934789,-1.9198621771937625,-1.8325957145940461,-1.7453292519943295,-1.6580627893946132,-1.5707963267948966,-1.4835298641951802,-1.3962634015954636,-1.3089969389957472,-1.2217304763960306,-1.1344640137963142,-1.0471975511965976,-0.95993108859688125,-0.87266462599716477,-0.78539816339744828,-0.69813170079773179,-0.6108652381980153,-0.52359877559829882,-0.43633231299858238,-0.3490658503988659,-0.26179938779914941,-0.17453292519943295,-8.7266462599716474E-2,0,8.7266462599716474E-2,0.17453292519943295,0.26179938779914941,0.3490658503988659,0.43633231299858238,0.52359877559829882,0.6108652381980153,0.69813170079773179,0.78539816339744828,0.87266462599716477,0.95993108859688125,1.0471975511965976,1.1344640137963142,1.2217304763960306,1.3089969389957472,1.3962634015954636,1.4835298641951802,1.5707963267948966,1.6580627893946132,1.7453292519943295,1.8325957145940461,1.9198621771937625,2.0071286397934789,2.0943951023931953,2.1816615649929116,2.2689280275926285,2.3561944901923448,2.4434609527920612,2.5307274153917776,2.6179938779914944,{"$f":"BR738*PI()/180","v":2.7052603405912108},2.7925268031909272,2.8797932657906435,2.9670597283903604,3.0543261909900763,3.1415926535897931]
[null,"a",{"$f":"SIN($E$182)^2+COS(C739)^2*COS($E$182)^2","v":1},{"$f":"SIN($E$182)^2+COS(D739)^2*COS($E$182)^2","v":0.99559469963002312},{"$f":"SIN($E$182)^2+COS(E739)^2*COS($E$182)^2","v":0.98251265134264432},0.96115134655524004,0.93215983770443378,0.89641901711624594,0.85501485153852075,0.80920538559081812,0.76038251671525159,0.71002970307704127,0.65967688943883074,0.61085402056326399,0.5650445546155618,0.5236403890378365,0.48789956844964866,0.4589080595988424,0.43754675481143818,0.42446470652405949,0.42005940615408255,0.42446470652405949,0.43754675481143818,0.45890805959884234,0.48789956844964866,0.52364038903783661,0.56504455461556202,0.61085402056326421,0.65967688943883074,0.71002970307704127,0.76038251671525181,0.80920538559081834,0.85501485153852075,0.89641901711624594,0.93215983770443389,0.96115134655524026,0.98251265134264432,0.99559469963002312,1,0.99559469963002312,0.98251265134264432,0.96115134655524026,0.93215983770443389,0.89641901711624594,0.85501485153852075,0.80920538559081834,0.76038251671525181,0.71002970307704127,0.65967688943883074,0.61085402056326421,0.56504455461556202,0.52364038903783661,0.48789956844964866,0.45890805959884234,0.43754675481143818,0.42446470652405949,0.42005940615408255,0.42446470652405949,0.43754675481143818,0.4589080595988424,0.48789956844964866,0.5236403890378365,0.5650445546155618,0.61085402056326399,0.65967688943883074,0.71002970307704127,0.76038251671525159,0.80920538559081812,{"$f":"SIN($E$182)^2+COS(BQ739)^2*COS($E$182)^2","v":0.85501485153852075},0.89641901711624594,0.93215983770443378,0.96115134655524004,0.98251265134264432,0.99559469963002312,1]
[null,"b",{"$f":"-2*SIN($E$182)*SIN($D736)","v":0.42517496453094594},{"$f":"-2*SIN($E$182)*SIN($D736)","v":0.42517496453094594},{"$f":"-2*SIN($E$182)*SIN($D736)","v":0.42517496453094594},0.42517496453094594,0.42517496453094594,0.42517496453094594,0.42517496453094594,0.42517496453094594,0.42517496453094594,0.42517496453094594,0.42517496453094594,0.42517496453094594,0.42517496453094594,0.42517496453094594,0.42517496453094594,0.42517496453094594,0.42517496453094594,0.42517496453094594,0.42517496453094594,0.42517496453094594,0.42517496453094594,0.42517496453094594,0.42517496453094594,0.42517496453094594,0.42517496453094594,0.42517496453094594,0.42517496453094594,0.42517496453094594,0.42517496453094594,0.42517496453094594,0.42517496453094594,0.42517496453094594,0.42517496453094594,0.42517496453094594,0.42517496453094594,0.42517496453094594,0.42517496453094594,0.42517496453094594,0.42517496453094594,0.42517496453094594,0.42517496453094594,0.42517496453094594,0.42517496453094594,0.42517496453094594,0.42517496453094594,0.42517496453094594,0.42517496453094594,0.42517496453094594,0.42517496453094594,0.42517496453094594,0.42517496453094594,0.42517496453094594,0.42517496453094594,0.42517496453094594,0.42517496453094594,0.42517496453094594,0.42517496453094594,0.42517496453094594,0.42517496453094594,0.42517496453094594,0.42517496453094594,0.42517496453094594,0.42517496453094594,0.42517496453094594,0.42517496453094594,0.42517496453094594,{"$f":"-2*SIN($E$182)*SIN($D736)","v":0.42517496453094594},0.42517496453094594,0.42517496453094594,0.42517496453094594,0.42517496453094594,0.42517496453094594,0.42517496453094594]
[null,"c",{"$f":"SIN($D736)^2-COS($E$182)^2*COS(C739)^2","v":-0.47235238857336292},{"$f":"SIN($D736)^2-COS($E$182)^2*COS(D739)^2","v":-0.46794708820338604},{"$f":"SIN($D736)^2-COS($E$182)^2*COS(E739)^2","v":-0.45486503991600724},-0.43350373512860296,-0.4045122262777967,-0.36877140568960887,-0.32736724011188362,-0.28155777416418104,-0.23273490528861451,-0.18238209165040414,-0.13202927801219372,-8.3206409136626969E-2,-3.7396943188924697E-2,4.0072223888005659E-3,3.9748042976988432E-2,6.8739551827794676E-2,9.0100856615198927E-2,0.10318290490257756,0.10758820527255453,0.10318290490257757,9.0100856615198899E-2,6.8739551827794704E-2,3.974804297698839E-2,4.0072223888005104E-3,-3.7396943188924892E-2,-8.3206409136627191E-2,-0.13202927801219372,-0.18238209165040425,-0.23273490528861468,-0.28155777416418126,-0.32736724011188362,-0.36877140568960887,-0.40451222627779682,-0.43350373512860318,-0.45486503991600724,-0.46794708820338604,-0.47235238857336292,-0.46794708820338604,-0.45486503991600724,-0.43350373512860318,-0.40451222627779682,-0.36877140568960887,-0.32736724011188362,-0.28155777416418126,-0.23273490528861468,-0.18238209165040425,-0.13202927801219372,-8.3206409136627191E-2,-3.7396943188924892E-2,4.0072223888005104E-3,3.974804297698839E-2,6.8739551827794704E-2,9.0100856615198899E-2,0.10318290490257757,0.10758820527255453,0.10318290490257756,9.0100856615198927E-2,6.8739551827794676E-2,3.9748042976988432E-2,4.0072223888005659E-3,-3.7396943188924697E-2,-8.3206409136626969E-2,-0.13202927801219372,-0.18238209165040414,-0.23273490528861451,-0.28155777416418104,{"$f":"SIN($D736)^2-COS($E$182)^2*COS(BQ739)^2","v":-0.32736724011188362},-0.36877140568960887,-0.4045122262777967,-0.43350373512860296,-0.45486503991600724,-0.46794708820338604,-0.47235238857336292]
[null,"alt solar",{"$f":"IF(C738<=$C$737,0,IF(C738>=-$C$737,0,DEGREES(ASIN(((-C741+(C741^2-4*C740*C742)^0.5)/(2*C740))))))","v":0},{"$f":"IF(D738<=$C$737,0,IF(D738>=-$C$737,0,DEGREES(ASIN(((-D741+(D741^2-4*D740*D742)^0.5)/(2*D740))))))","v":0},0,0,0,0,0,0,0,0,0,0,0,0,0,0,0,0,0,0,0,0,0,0,4.5625393272540764,9.1638995010345585,13.243877012334311,16.8127161611689,19.894665341529901,22.520478631082277,24.722351146022326,26.530771497977486,27.972716446318408,29.070708718208113,29.842388436320963,30.300362551457667,30.452182693593276,30.300362551457667,29.842388436320963,29.070708718208113,27.972716446318408,26.530771497977486,24.722351146022326,22.520478631082277,19.894665341529901,16.8127161611689,13.243877012334311,9.1638995010345585,4.5625393272540764,0,0,0,0,0,0,0,0,0,0,0,0,0,0,0,0,{"$f":"IF(BP738<=$C$737,0,IF(BP738>=-$C$737,0,DEGREES(ASIN(((-BP741+(BP741^2-4*BP740*BP742)^0.5)/(2*BP740))))))","v":0},0,0,0,0,0,0,0]
[]
[null,"obst. Inf.",{"$f":"IF($C$173>=C743,0,1)","v":0},{"$f":"IF($D$173>=D743,0,1)","v":0},{"$f":"IF($E$173>=E743,0,1)","v":0},{"$f":"IF($F$173>=F743,0,1)","v":0},{"$f":"IF($G$173>=G743,0,1)","v":0},{"$f":"IF($H$173>=H743,0,1)","v":0},{"$f":"IF($I$173>=I743,0,1)","v":0},{"$f":"IF($J$173>=J743,0,1)","v":0},{"$f":"IF($K$173>=K743,0,1)","v":0},{"$f":"IF($L$173>=L743,0,1)","v":0},{"$f":"IF($M$173>=M743,0,1)","v":0},{"$f":"IF($N$173>=N743,0,1)","v":0},{"$f":"IF($O$173>=O743,0,1)","v":0},{"$f":"IF($P$173>=P743,0,1)","v":0},{"$f":"IF($Q$173>=Q743,0,1)","v":0},{"$f":"IF($R$173>=R743,0,1)","v":0},{"$f":"IF($S$173>=S743,0,1)","v":0},{"$f":"IF($T$173>=T743,0,1)","v":0},{"$f":"IF($U$173>=U743,0,1)","v":0},{"$f":"IF($V$173>=V743,0,1)","v":0},{"$f":"IF($W$173>=W743,0,1)","v":0},{"$f":"IF($X$173>=X743,0,1)","v":0},{"$f":"IF($Y$173>=Y743,0,1)","v":0},{"$f":"IF($Z$173>=Z743,0,1)","v":0},{"$f":"IF($AA$173>=AA743,0,1)","v":0},{"$f":"IF($AB$173>=AB743,0,1)","v":1},{"$f":"IF($AC$173>=AC743,0,1)","v":1},{"$f":"IF($AD$173>=AD743,0,1)","v":1},{"$f":"IF($AE$173>=AE743,0,1)","v":1},{"$f":"IF($AF$173>=AF743,0,1)","v":1},{"$f":"IF($AG$173>=AG743,0,1)","v":1},{"$f":"IF($AH$173>=AH743,0,1)","v":0},{"$f":"IF($AI$173>=AI743,0,1)","v":0},{"$f":"IF($AJ$173>=AJ743,0,1)","v":0},{"$f":"IF($AK$173>=AK743,0,1)","v":0},{"$f":"IF($AL$173>=AL743,0,1)","v":0},{"$f":"IF($AM$173>=AM743,0,1)","v":0},{"$f":"IF($AN$173>=AN743,0,1)","v":0},{"$f":"IF($AO$173>=AO743,0,1)","v":0},{"$f":"IF($AP$173>=AP743,0,1)","v":0},{"$f":"IF($AQ$173>=AQ743,0,1)","v":0},{"$f":"IF($AR$173>=AR743,0,1)","v":0},{"$f":"IF($AS$173>=AS743,0,1)","v":1},{"$f":"IF($AT$173>=AT743,0,1)","v":1},{"$f":"IF($AU$173>=AU743,0,1)","v":1},{"$f":"IF($AV$173>=AV743,0,1)","v":1},{"$f":"IF($AW$173>=AW743,0,1)","v":1},{"$f":"IF($AX$173>=AX743,0,1)","v":1},{"$f":"IF($AY$173>=AY743,0,1)","v":0},{"$f":"IF($AZ$173>=AZ743,0,1)","v":0},{"$f":"IF($BA$173>=BA743,0,1)","v":0},{"$f":"IF($BB$173>=BB743,0,1)","v":0},{"$f":"IF($BC$173>=BC743,0,1)","v":0},{"$f":"IF($BD$173>=BD743,0,1)","v":0},{"$f":"IF($BE$173>=BE743,0,1)","v":0},{"$f":"IF($BF$173>=BF743,0,1)","v":0},{"$f":"IF($BG$173>=BG743,0,1)","v":0},{"$f":"IF($BH$173>=BH743,0,1)","v":0},{"$f":"IF($BI$173>=BI743,0,1)","v":0},{"$f":"IF($BJ$173>=BJ743,0,1)","v":0},{"$f":"IF($BK$173>=BK743,0,1)","v":0},{"$f":"IF($BL$173>=BL743,0,1)","v":0},{"$f":"IF($BM$173>=BM743,0,1)","v":0},{"$f":"IF($BN$173>=BN743,0,1)","v":0},{"$f":"IF($BO$173>=BO743,0,1)","v":0},{"$f":"IF($BP$173>=BP743,0,1)","v":0},{"$f":"IF($BQ$173>=BQ743,0,1)","v":0},{"$f":"IF($BR$173>=BR743,0,1)","v":0},{"$f":"IF($BS$173>=BS743,0,1)","v":0},{"$f":"IF($BT$173>=BT743,0,1)","v":0},{"$f":"IF($BU$173>=BU743,0,1)","v":0},{"$f":"IF($BV$173>=BV743,0,1)","v":0},{"$f":"IF($BW$173>=BW743,0,1)","v":0}]
[null,"obst. Sup",{"$f":"IF(C743>$C$176,0,1)","v":1},{"$f":"IF(D743>$D$176,0,1)","v":1},{"$f":"IF(E743>$E$176,0,1)","v":1},{"$f":"IF(F743>$F$176,0,1)","v":1},{"$f":"IF(G743>$G$176,0,1)","v":1},{"$f":"IF(H743>$H$176,0,1)","v":1},{"$f":"IF(I743>$I$176,0,1)","v":1},{"$f":"IF(J743>$J$176,0,1)","v":1},{"$f":"IF(K743>$K$176,0,1)","v":1},{"$f":"IF(L743>$L$176,0,1)","v":1},{"$f":"IF(M743>$M$176,0,1)","v":1},{"$f":"IF(N743>$N$176,0,1)","v":1},{"$f":"IF(O743>$O$176,0,1)","v":1},{"$f":"IF(P743>$P$176,0,1)","v":1},{"$f":"IF(Q743>$Q$176,0,1)","v":1},{"$f":"IF(R743>$R$176,0,1)","v":1},{"$f":"IF(S743>$S$176,0,1)","v":1},{"$f":"IF(T743>$T$176,0,1)","v":1},{"$f":"IF(U743>$U$176,0,1)","v":1},{"$f":"IF(V743>$V$176,0,1)","v":1},{"$f":"IF(W743>$W$176,0,1)","v":1},{"$f":"IF(X743>$X$176,0,1)","v":1},{"$f":"IF(Y743>$Y$176,0,1)","v":1},{"$f":"IF(Z743>$Z$176,0,1)","v":1},{"$f":"IF(AA743>$AA$176,0,1)","v":1},{"$f":"IF(AB743>$AB$176,0,1)","v":1},{"$f":"IF(AC743>$AC$176,0,1)","v":1},{"$f":"IF(AD743>$AD$176,0,1)","v":1},{"$f":"IF(AE743>$AE$176,0,1)","v":1},{"$f":"IF(AF743>$AF$176,0,1)","v":1},{"$f":"IF(AG743>$AG$176,0,1)","v":1},{"$f":"IF(AH743>$AH$176,0,1)","v":1},{"$f":"IF(AI743>$AI$176,0,1)","v":1},{"$f":"IF(AJ743>$AJ$176,0,1)","v":1},{"$f":"IF(AK743>$AK$176,0,1)","v":1},{"$f":"IF(AL743>$AL$176,0,1)","v":1},{"$f":"IF(AM743>$AM$176,0,1)","v":1},{"$f":"IF(AN743>$AN$176,0,1)","v":1},{"$f":"IF(AO743>$AO$176,0,1)","v":1},{"$f":"IF(AP743>$AP$176,0,1)","v":1},{"$f":"IF(AQ743>$AQ$176,0,1)","v":1},{"$f":"IF(AR743>$AR$176,0,1)","v":1},{"$f":"IF(AS743>$AS$176,0,1)","v":1},{"$f":"IF(AT743>$AT$176,0,1)","v":1},{"$f":"IF(AU743>$AU$176,0,1)","v":1},{"$f":"IF(AV743>$AV$176,0,1)","v":1},{"$f":"IF(AW743>$AW$176,0,1)","v":1},{"$f":"IF(AX743>$AX$176,0,1)","v":1},{"$f":"IF(AY743>$AY$176,0,1)","v":1},{"$f":"IF(AZ743>$AZ$176,0,1)","v":1},{"$f":"IF(BA743>$BA$176,0,1)","v":1},{"$f":"IF(BB743>$BB$176,0,1)","v":1},{"$f":"IF(BC743>$BC$176,0,1)","v":1},{"$f":"IF(BD743>$BD$176,0,1)","v":1},{"$f":"IF(BE743>$BE$176,0,1)","v":1},{"$f":"IF(BF743>$BF$176,0,1)","v":1},{"$f":"IF(BG743>$BG$176,0,1)","v":1},{"$f":"IF(BH743>$BH$176,0,1)","v":1},{"$f":"IF(BI743>$BI$176,0,1)","v":1},{"$f":"IF(BJ743>$BJ$176,0,1)","v":1},{"$f":"IF(BK743>$BK$176,0,1)","v":1},{"$f":"IF(BL743>$BL$176,0,1)","v":1},{"$f":"IF(BM743>$BM$176,0,1)","v":1},{"$f":"IF(BN743>$BN$176,0,1)","v":1},{"$f":"IF(BO743>$BO$176,0,1)","v":1},{"$f":"IF(BP743>$BP$176,0,1)","v":1},{"$f":"IF(BQ743>$BQ$176,0,1)","v":1},{"$f":"IF(BR743>$BR$176,0,1)","v":1},{"$f":"IF(BS743>$BS$176,0,1)","v":1},{"$f":"IF(BT743>$BT$176,0,1)","v":1},{"$f":"IF(BU743>$BU$176,0,1)","v":1},{"$f":"IF(BV743>$BV$176,0,1)","v":1},{"$f":"IF(BW743>$BW$176,0,1)","v":1}]
[null,"obst. TOTAL",{"$f":"C745*C746","v":0},{"$f":"D745*D746","v":0},0,0,0,0,0,0,0,0,0,0,0,0,0,0,0,0,0,0,0,0,0,0,0,1,1,1,1,1,1,0,0,0,0,0,0,0,0,0,0,0,1,1,1,1,1,1,0,0,0,0,0,0,0,0,0,0,0,0,0,0,0,0,0,{"$f":"BP745*BP746","v":0},0,0,0,0,0,0,0]
[]
[null,"Latitud",{"$f":"$C$182","v":40.4},null,{"$f":"PI()*(C749+D749/60)/180","v":0.70511301780570912}]
[null,"Azimut",{"$f":"$I$4","v":15},null,{"$f":"C750*PI()/180","v":0.26179938779914941}]
[null,"Inclinacion",{"$f":"$I$3","v":35},null,{"$f":"C751*PI()/180","v":0.6108652381980153}]
[null,"Coeficiente refexion",{"$f":"M553","v":0}]
[null,"Constante solar extraterrestre (Bo)",{"$f":"$G$182","v":1367},"W/m2"]
[null,"Dia del año",{"$f":"31+28+31+30+31+30+31+31+30+31+15","v":319}]
[null,"Declinacion . radianes",{"$f":"23.45*PI()/180*SIN(2*PI()*((C754+284)/365))","v":-0.33419245656714935}]
[null,"Ángulo puesta de sol. Radianes. Ws",{"$f":"ACOS(-TAN(C755)*TAN($E$199))","v":1.2708133485910726}]
[null,"Distancia sol - tierra. Bo",{"$f":"1+0.033*COS((2*PI()*C754/365)*PI()/180)","v":1.0328485526815891},"expresion Duffi y Beckman"]
[null,"Factor angulo solar",{"$f":"(SIN(C755)*C756*SIN(E749))+COS(E749)*COS(C755)*SIN(C756)","v":0.41711996413623026}]
[null,"Ho. Irradiacion Extraterreste sobre sup. Horizontal",{"$f":"+($C$203*24/PI())*C757*C758","v":4499.1192600822178}]
[null,"H1",{"$f":"+(3.6*C753*24/PI())*(1+0.033*COS(PI()/180*(360*C754/365)))","v":38466.783464422151}]
[null,"H2",{"$f":"COS(E749)*COS(C755)*SIN(C756)","v":0.68727897434256124}]
[null,"H3",{"$f":"+SIN(C755)*C756*SIN(E749)","v":-0.27015901020633099}]
[null,"H horizontal diaria (W/m2 dia) s/ localidad",{"$f":"M6","v":2433.5100000000002},"W/m2 dia"]
[null,"Indice de claridad Kt",{"$f":"C763/C759","v":0.54088586217106183}]
[null,"Fraccion difusa diaria promedio",{"$f":"0.775+0.347*(C756-(PI()/2))-(0.505+0.261*(C756-(PI()/2)))*COS(2*C764-1.8)","v":0.34960906909749367},"Correlacion Collares-Pereira "]
[null,"Factor A Lui y Jordan",{"$f":"0.409+0.5016*SIN(C756-60*PI()/180)","v":0.5202332290790681},"parametros 5 estaciones EEUU"]
[null,"Factor B Lui y Jordan",{"$f":"0.6609-0.4767*SIN(C756-60*PI()/180)","v":0.5551885161443546},"parametros 5 estaciones EEUU"]
[]
[null,"AZIMUT",-180,{"$f":"C769+5","v":-175},{"$f":"D769+5","v":-170},-165,-160,-155,-150,-145,-140,-135,-130,-125,-120,-115,-110,-105,-100,-95,-90,-85,-80,-75,-70,-65,-60,-55,-50,-45,-40,-35,-30,-25,-20,-15,-10,-5,0,5,10,15,20,25,30,35,40,45,50,55,60,65,70,75,80,85,90,95,100,105,110,115,120,125,130,135,140,145,{"$f":"BP769+5","v":150},155,160,165,170,175,180]
[null,"Az radianes",{"$f":"C769*PI()/180","v":-3.1415926535897931},{"$f":"D769*PI()/180","v":-3.0543261909900763},{"$f":"E769*PI()/180","v":-2.9670597283903604},{"$f":"F769*PI()/180","v":-2.8797932657906435},-2.7925268031909272,-2.7052603405912108,-2.6179938779914944,-2.5307274153917776,-2.4434609527920612,-2.3561944901923448,-2.2689280275926285,-2.1816615649929116,-2.0943951023931953,-2.0071286397934789,-1.9198621771937625,-1.8325957145940461,-1.7453292519943295,-1.6580627893946132,-1.5707963267948966,-1.4835298641951802,-1.3962634015954636,-1.3089969389957472,-1.2217304763960306,-1.1344640137963142,-1.0471975511965976,-0.95993108859688125,-0.87266462599716477,-0.78539816339744828,-0.69813170079773179,-0.6108652381980153,-0.52359877559829882,-0.43633231299858238,-0.3490658503988659,-0.26179938779914941,-0.17453292519943295,-8.7266462599716474E-2,0,8.7266462599716474E-2,0.17453292519943295,0.26179938779914941,0.3490658503988659,0.43633231299858238,0.52359877559829882,0.6108652381980153,0.69813170079773179,0.78539816339744828,0.87266462599716477,0.95993108859688125,1.0471975511965976,1.1344640137963142,1.2217304763960306,1.3089969389957472,1.3962634015954636,1.4835298641951802,1.5707963267948966,1.6580627893946132,1.7453292519943295,1.8325957145940461,1.9198621771937625,2.0071286397934789,2.0943951023931953,2.1816615649929116,2.2689280275926285,2.3561944901923448,2.4434609527920612,2.5307274153917776,2.6179938779914944,{"$f":"BR769*PI()/180","v":2.7052603405912108},2.7925268031909272,2.8797932657906435,2.9670597283903604,3.0543261909900763,3.1415926535897931]
[null,"alt solar (grados)",{"$f":"C743","v":0},{"$f":"D743","v":0},{"$f":"E743","v":0},0,0,0,0,0,0,0,0,0,0,0,0,0,0,0,0,0,0,0,0,0,4.5625393272540764,9.1638995010345585,13.243877012334311,16.8127161611689,19.894665341529901,22.520478631082277,24.722351146022326,26.530771497977486,27.972716446318408,29.070708718208113,29.842388436320963,30.300362551457667,30.452182693593276,30.300362551457667,29.842388436320963,29.070708718208113,27.972716446318408,26.530771497977486,24.722351146022326,22.520478631082277,19.894665341529901,16.8127161611689,13.243877012334311,9.1638995010345585,4.5625393272540764,0,0,0,0,0,0,0,0,0,0,0,0,0,0,0,0,0,{"$f":"BQ743","v":0},0,0,0,0,0,0]
[null,"ang horario (grados)",{"$f":"DEGREES(ACOS((SIN(C771*PI()/180)-(SIN($E749)*SIN($C755)))/(COS($E749)*COS($C755))))","v":72.812241423155925},{"$f":"DEGREES(ACOS((SIN(D771*PI()/180)-(SIN($E749)*SIN($C755)))/(COS($E749)*COS($C755))))","v":72.812241423155925},72.812241423155925,72.812241423155925,72.812241423155925,72.812241423155925,72.812241423155925,72.812241423155925,72.812241423155925,72.812241423155925,72.812241423155925,72.812241423155925,72.812241423155925,72.812241423155925,72.812241423155925,72.812241423155925,72.812241423155925,72.812241423155925,72.812241423155925,72.812241423155925,72.812241423155925,72.812241423155925,72.812241423155925,72.812241423155925,66.041345879178351,58.876818987826432,52.123913150491745,45.768154978524294,39.778686682840508,34.115758095624358,28.73576697288269,23.594331441645256,18.647953767572748,13.854747427964288,9.1745740649378398,4.5688251853716642,0,{"$f":"-DEGREES(ACOS((SIN(AN771*PI()/180)-(SIN($E749)*SIN($C755)))/(COS($E749)*COS($C755))))","v":-4.5688251853716642},{"$f":"-DEGREES(ACOS((SIN(AO771*PI()/180)-(SIN($E749)*SIN($C755)))/(COS($E749)*COS($C755))))","v":-9.1745740649378398},-13.854747427964288,-18.647953767572748,-23.594331441645256,-28.73576697288269,-34.115758095624358,-39.778686682840508,-45.768154978524294,-52.123913150491745,-58.876818987826432,-66.041345879178351,-72.812241423155925,-72.812241423155925,-72.812241423155925,-72.812241423155925,-72.812241423155925,-72.812241423155925,-72.812241423155925,-72.812241423155925,-72.812241423155925,-72.812241423155925,-72.812241423155925,-72.812241423155925,-72.812241423155925,-72.812241423155925,-72.812241423155925,-72.812241423155925,-72.812241423155925,-72.812241423155925,-72.812241423155925,-72.812241423155925,-72.812241423155925,-72.812241423155925,-72.812241423155925,-72.812241423155925]
[null,"Factor inclinación",{"$f":"-(IF(C771=0,0,(SIN($C755)*SIN($E749)*COS($E751)-SIN($C755)*COS($E749)*SIN($E751)*COS($E750)+COS($C755)*COS($E749)*COS($E751)*COS(C772*PI()/180)+COS($C755)*SIN($E749)*SIN($E751)*COS(C772*PI()/180)*COS($E750)+COS($C755)*SIN($E751)*SIN(C772*PI()/180)*SIN($E750))/(COS($C755)*COS($E749)*COS(C772*PI()/180)+SIN($C755)*SIN($E749))))","v":0},{"$f":"-(IF(D771=0,0,(SIN($C755)*SIN($E749)*COS($E751)-SIN($C755)*COS($E749)*SIN($E751)*COS($E750)+COS($C755)*COS($E749)*COS($E751)*COS(D772*PI()/180)+COS($C755)*SIN($E749)*SIN($E751)*COS(D772*PI()/180)*COS($E750)+COS($C755)*SIN($E751)*SIN(D772*PI()/180)*SIN($E750))/(COS($C755)*COS($E749)*COS(D772*PI()/180)+SIN($C755)*SIN($E749))))","v":0},0,0,0,0,0,0,0,0,0,0,0,0,0,0,0,0,0,0,0,0,0,0,-5.9016004541515237,-3.5428698355885277,-2.8154742144934004,-2.4630883284295839,-2.2556031901726588,-2.1190639349971141,-2.0224679317080532,-1.9505688790097626,-1.8950231136917506,-1.850906402244743,-1.8151525144474905,-1.7857843561067395,-1.7615097633896675,-1.7415018609410746,-1.7252831286301751,-1.7126775287439759,-1.7038204605943847,-1.6992381082320378,-1.700040411434576,-1.7083441466304576,-1.7282411429739755,-1.7682791004681564,-1.8490978416879449,-2.0352255472388143,-2.6794572757225037,0,0,0,0,0,0,0,0,0,0,0,0,0,0,0,0,{"$f":"-(IF(BP771=0,0,(SIN($C755)*SIN($E749)*COS($E751)-SIN($C755)*COS($E749)*SIN($E751)*COS($E750)+COS($C755)*COS($E749)*COS($E751)*COS(BP772*PI()/180)+COS($C755)*SIN($E749)*SIN($E751)*COS(BP772*PI()/180)*COS($E750)+COS($C755)*SIN($E751)*SIN(BP772*PI()/180)*SIN($E750))/(COS($C755)*COS($E749)*COS(BP772*PI()/180)+SIN($C755)*SIN($E749))))","v":0},0,0,0,0,0,0,0]
[null,"Correccion valores negativos",{"$f":"ABS(C773)","v":0},{"$f":"ABS(D773)","v":0},0,0,0,0,0,0,0,0,0,0,0,0,0,0,0,0,0,0,0,0,0,0,5.9016004541515237,3.5428698355885277,2.8154742144934004,2.4630883284295839,2.2556031901726588,2.1190639349971141,2.0224679317080532,1.9505688790097626,1.8950231136917506,1.850906402244743,1.8151525144474905,1.7857843561067395,1.7615097633896675,1.7415018609410746,1.7252831286301751,1.7126775287439759,1.7038204605943847,1.6992381082320378,1.700040411434576,1.7083441466304576,1.7282411429739755,1.7682791004681564,1.8490978416879449,2.0352255472388143,2.6794572757225037,0,0,0,0,0,0,0,0,0,0,0,0,0,0,0,0,{"$f":"ABS(BP773)","v":0},0,0,0,0,0,0,0]
[null,"Radiacion H GLOBAL (distribucion Lui y Jordan)",{"$f":"$C763*((PI()/24*($C766+$C767*COS(C772*PI()/180))*(COS(C772*PI()/180)-COS($C756)))/(SIN($C756)-$C756*COS($C756)))","v":0},{"$f":"$C763*((PI()/24*($C766+$C767*COS(D772*PI()/180))*(COS(D772*PI()/180)-COS($C756)))/(SIN($C756)-$C756*COS($C756)))","v":0},0,0,0,0,0,0,0,0,0,0,0,0,0,0,0,0,0,0,0,0,0,0,45.29911859837302,{"$f":"$C763*((PI()/24*($C766+$C767*COS(AB772*PI()/180))*(COS(AB772*PI()/180)-COS($C756)))/(SIN($C756)-$C756*COS($C756)))","v":98.173857734080656},{"$f":"$C763*((PI()/24*($C766+$C767*COS(AC772*PI()/180))*(COS(AC772*PI()/180)-COS($C756)))/(SIN($C756)-$C756*COS($C756)))","v":150.6536929363715},200.46018379623212,246.07649165707898,286.61351016014777,321.6379924595945,351.01446962454378,374.78029524117159,393.05542618829401,405.98130052081501,413.68162300031156,416.23881280022306,413.68162300031156,405.98130052081501,393.05542618829401,374.78029524117159,351.01446962454378,321.6379924595945,286.61351016014777,246.07649165707898,200.46018379623212,150.6536929363715,98.173857734080656,45.29911859837302,0,0,0,0,0,0,0,0,0,0,0,0,0,0,0,0,0,0,0,0,0,0,0,0]
[null,"Radiacion H DIFUSA (distribucion Lui y Jordan)",{"$f":"$C765*$C763*((PI()/24*(COS(C772*PI()/180)-COS($C756)))/(SIN($C756)-$C756*COS($C756)))","v":0},{"$f":"$C765*$C763*((PI()/24*(COS(D772*PI()/180)-COS($C756)))/(SIN($C756)-$C756*COS($C756)))","v":0},0,0,0,0,0,0,0,0,0,0,0,0,0,0,0,0,0,0,0,0,0,0,21.238233120105118,42.520462351480667,61.166225878935784,77.225054469907306,90.854244278320294,102.26044966614427,111.6605557976456,119.25824601080598,125.23150564710802,129.72694963726795,132.85798233125297,134.70481883200884,135.31515845915823,134.70481883200884,132.85798233125297,129.72694963726795,125.23150564710802,119.25824601080598,111.6605557976456,102.26044966614427,90.854244278320294,77.225054469907306,61.166225878935784,42.520462351480667,21.238233120105118,0,0,0,0,0,0,0,0,0,0,0,0,0,0,0,0,{"$f":"$C765*$C763*((PI()/24*(COS(BP772*PI()/180)-COS($C756)))/(SIN($C756)-$C756*COS($C756)))","v":0},0,0,0,0,0,0,0]
[null,"Total Directa",{"$f":"C$54*IF((C775-C776)*C774<0,0,(C775-C776)*C774)","v":0},{"$f":"D$54*IF((D775-D776)*D774<0,0,(D775-D776)*D774)","v":0},0,0,0,0,0,0,0,0,0,0,0,0,0,0,0,0,0,0,0,0,0,0,141.99773266583367,197.17273574909535,251.94965602053784,303.53900869618099,350.11979637329767,390.65592179918406,424.67263203105051,452.0564772977844,472.90072427454987,487.39636314164875,495.76047776602553,498.19241260040837,494.84975988888982,485.83862361849287,471.21505290794238,450.9967644673273,425.18633362692862,393.80900698440894,356.97012781475723,314.93847180834155,268.26147422485508,217.91410363123055,165.47108219402543,113.26721207325016,64.470114655070859,0,0,0,0,0,0,0,0,0,0,0,0,0,0,0,0,{"$f":"BP$54*IF((BP775-BP776)*BP774<0,0,(BP775-BP776)*BP774)","v":0},0,0,0,0,0,0,0]
[null,"Total Difusa (plano incl)",{"$f":"C$54*C776*(1+COS($E751))/2","v":0},{"$f":"D$54*D776*(1+COS($E751))/2","v":0},0,0,0,0,0,0,0,0,0,0,0,0,0,0,0,0,0,0,0,0,0,0,19.317787598762699,38.675593005404586,55.635332424554136,70.242057854630318,82.638842105618906,93.013653030038952,101.56376417286602,108.4744410144386,113.9075747536625,117.99652281600554,120.84443507900481,122.52427327691359,123.07942356713328,122.52427327691359,120.84443507900481,117.99652281600554,113.9075747536625,108.4744410144386,101.56376417286602,93.013653030038952,82.638842105618906,70.242057854630318,55.635332424554136,38.675593005404586,19.317787598762699,0,0,0,0,0,0,0,0,0,0,0,0,0,0,0,0,{"$f":"BP$54*BP776*(1+COS($E751))/2","v":0},0,0,0,0,0,0,0]
[null,"Total Reflejada (plano incl)",{"$f":"C$54*C775*$C752*(1-COS($E751))/2","v":0},{"$f":"D$54*D775*$C752*(1-COS($E751))/2","v":0},0,0,0,0,0,0,0,0,0,0,0,0,0,0,0,0,0,0,0,0,0,0,0,0,0,0,0,0,0,0,0,0,0,0,0,0,0,0,0,0,0,0,0,0,0,0,0,0,0,0,0,0,0,0,0,0,0,0,0,0,0,0,0,{"$f":"BP$54*BP775*$C752*(1-COS($E751))/2","v":0},0,0,0,0,0,0,0]
[null,"TOTAL (W/m2)",{"$f":"C777+C778+C779","v":0},0,0,0,0,0,0,0,0,0,0,0,0,0,0,0,0,0,0,0,0,0,0,0,161.31552026459636,235.84832875449993,307.58498844509199,373.78106655081132,432.75863847891657,483.669574829223,526.23639620391657,560.53091831222298,586.80829902821233,605.39288595765424,616.6049128450303,620.71668587732199,617.92918345602311,608.36289689540649,592.05948798694715,568.99328728333285,539.09390838059107,502.28344799884752,458.53389198762324,407.95212483838048,350.90031633047397,288.15616148586088,221.10641461857955,151.94280507865474,83.787902253833551,0,0,0,0,0,0,0,0,0,0,0,0,0,0,0,{"$f":"BO777+BO778+BO779","v":0},0,0,0,0,0,0,0,0]
[null,"Radiación Directa recibida",{"$f":"C777*C747","v":0},{"$f":"D777*D747","v":0},0,0,0,0,0,0,0,0,0,0,0,0,0,0,0,0,0,0,0,0,0,0,0,197.17273574909535,251.94965602053784,303.53900869618099,350.11979637329767,390.65592179918406,424.67263203105051,0,0,0,0,0,0,0,0,0,0,0,356.97012781475723,314.93847180834155,268.26147422485508,217.91410363123055,165.47108219402543,113.26721207325016,0,0,0,0,0,0,0,0,0,0,0,0,0,0,0,0,0,{"$f":"BP777*BP747","v":0},0,0,0,0,0,0,0]
[null,"Radiación Global recibida",{"$f":"C781+C779+C778","v":0},0,0,0,0,0,0,0,0,0,0,0,0,0,0,0,0,0,0,0,0,0,0,0,19.317787598762699,235.84832875449993,307.58498844509199,373.78106655081132,432.75863847891657,483.669574829223,526.23639620391657,108.4744410144386,113.9075747536625,117.99652281600554,120.84443507900481,122.52427327691359,123.07942356713328,122.52427327691359,120.84443507900481,117.99652281600554,113.9075747536625,108.4744410144386,458.53389198762324,407.95212483838048,350.90031633047397,288.15616148586088,221.10641461857955,151.94280507865474,19.317787598762699,0,0,0,0,0,0,0,0,0,0,0,0,0,0,0,{"$f":"BO781+BO779+BO778","v":0},0,0,0,0,0,0,0,0]
[null,"Total Directa recibida",{"$f":"SUM(C781:BW781)","v":3354.9322224158063},"W/m2"]
[null,"Total Directa disponible",{"$f":"SUM(C777:BW777)","v":8689.6020663111176},"W/m2"]
[null,"Obstruccion directa",{"$f":"IF(C783=0,1,1-(C783/C784))","v":0.61391417042874652}]
[null,"Total global recibida",{"$f":"SUM(C782:BW782)","v":5567.6802002467412}]
[null,"Total global ",{"$f":"SUM(C780:BW780)","v":10902.350044142049},"W/m2","% difusa","Fd"]
[null,"Obstrucción global",{"$f":"1-(C786/C787)","v":0.48931375550188683},null,{"$f":"1-(C784/C787)","v":0.20296064324405594},{"$f":"C765","v":0.34960906909749367}]
[]
[null,"DICIEMBRE"]
[null,"Declinacion dia tipo",{"$f":"D791*180/PI()","v":-23.354300459651345},{"$f":"C810","v":-0.40760943752094109}]
[null,"ocaso",{"$f":"-DEGREES(ACOS((SIN(D792*PI()/180)*SIN($E$182)-SIN($C$791*PI()/180))/(COS(D792*PI()/180)*COS($E$182))))","v":-58.631113545956651},0]
[null,"AZIMUT",-180,{"$f":"C793+5","v":-175},{"$f":"D793+5","v":-170},-165,-160,-155,-150,-145,-140,-135,-130,-125,-120,-115,-110,-105,-100,-95,-90,-85,-80,-75,-70,-65,-60,-55,-50,-45,-40,-35,-30,-25,-20,-15,-10,-5,0,5,10,15,20,25,30,35,40,45,50,55,60,65,70,75,80,85,90,95,100,105,110,115,120,125,130,135,140,145,{"$f":"BP793+5","v":150},155,160,165,170,175,180]
[null,"Az radianes",{"$f":"C793*PI()/180","v":-3.1415926535897931},{"$f":"D793*PI()/180","v":-3.0543261909900763},{"$f":"E793*PI()/180","v":-2.9670597283903604},{"$f":"F793*PI()/180","v":-2.8797932657906435},-2.7925268031909272,-2.7052603405912108,-2.6179938779914944,-2.5307274153917776,-2.4434609527920612,-2.3561944901923448,-2.2689280275926285,-2.1816615649929116,-2.0943951023931953,-2.0071286397934789,-1.9198621771937625,-1.8325957145940461,-1.7453292519943295,-1.6580627893946132,-1.5707963267948966,-1.4835298641951802,-1.3962634015954636,-1.3089969389957472,-1.2217304763960306,-1.1344640137963142,-1.0471975511965976,-0.95993108859688125,-0.87266462599716477,-0.78539816339744828,-0.69813170079773179,-0.6108652381980153,-0.52359877559829882,-0.43633231299858238,-0.3490658503988659,-0.26179938779914941,-0.17453292519943295,-8.7266462599716474E-2,0,8.7266462599716474E-2,0.17453292519943295,0.26179938779914941,0.3490658503988659,0.43633231299858238,0.52359877559829882,0.6108652381980153,0.69813170079773179,0.78539816339744828,0.87266462599716477,0.95993108859688125,1.0471975511965976,1.1344640137963142,1.2217304763960306,1.3089969389957472,1.3962634015954636,1.4835298641951802,1.5707963267948966,1.6580627893946132,1.7453292519943295,1.8325957145940461,1.9198621771937625,2.0071286397934789,2.0943951023931953,2.1816615649929116,2.2689280275926285,2.3561944901923448,2.4434609527920612,2.5307274153917776,2.6179938779914944,{"$f":"BR793*PI()/180","v":2.7052603405912108},2.7925268031909272,2.8797932657906435,2.9670597283903604,3.0543261909900763,3.1415926535897931]
[null,"a",{"$f":"SIN($E$182)^2+COS(C794)^2*COS($E$182)^2","v":1},{"$f":"SIN($E$182)^2+COS(D794)^2*COS($E$182)^2","v":0.99559469963002312},{"$f":"SIN($E$182)^2+COS(E794)^2*COS($E$182)^2","v":0.98251265134264432},0.96115134655524004,0.93215983770443378,0.89641901711624594,0.85501485153852075,0.80920538559081812,0.76038251671525159,0.71002970307704127,0.65967688943883074,0.61085402056326399,0.5650445546155618,0.5236403890378365,0.48789956844964866,0.4589080595988424,0.43754675481143818,0.42446470652405949,0.42005940615408255,0.42446470652405949,0.43754675481143818,0.45890805959884234,0.48789956844964866,0.52364038903783661,0.56504455461556202,0.61085402056326421,0.65967688943883074,0.71002970307704127,0.76038251671525181,0.80920538559081834,0.85501485153852075,0.89641901711624594,0.93215983770443389,0.96115134655524026,0.98251265134264432,0.99559469963002312,1,0.99559469963002312,0.98251265134264432,0.96115134655524026,0.93215983770443389,0.89641901711624594,0.85501485153852075,0.80920538559081834,0.76038251671525181,0.71002970307704127,0.65967688943883074,0.61085402056326421,0.56504455461556202,0.52364038903783661,0.48789956844964866,0.45890805959884234,0.43754675481143818,0.42446470652405949,0.42005940615408255,0.42446470652405949,0.43754675481143818,0.4589080595988424,0.48789956844964866,0.5236403890378365,0.5650445546155618,0.61085402056326399,0.65967688943883074,0.71002970307704127,0.76038251671525159,0.80920538559081812,{"$f":"SIN($E$182)^2+COS(BQ794)^2*COS($E$182)^2","v":0.85501485153852075},0.89641901711624594,0.93215983770443378,0.96115134655524004,0.98251265134264432,0.99559469963002312,1]
[null,"b",{"$f":"-2*SIN($E$182)*SIN($D791)","v":0.51384988171512513},{"$f":"-2*SIN($E$182)*SIN($D791)","v":0.51384988171512513},{"$f":"-2*SIN($E$182)*SIN($D791)","v":0.51384988171512513},0.51384988171512513,0.51384988171512513,0.51384988171512513,0.51384988171512513,0.51384988171512513,0.51384988171512513,0.51384988171512513,0.51384988171512513,0.51384988171512513,0.51384988171512513,0.51384988171512513,0.51384988171512513,0.51384988171512513,0.51384988171512513,0.51384988171512513,0.51384988171512513,0.51384988171512513,0.51384988171512513,0.51384988171512513,0.51384988171512513,0.51384988171512513,0.51384988171512513,0.51384988171512513,0.51384988171512513,0.51384988171512513,0.51384988171512513,0.51384988171512513,0.51384988171512513,0.51384988171512513,0.51384988171512513,0.51384988171512513,0.51384988171512513,0.51384988171512513,0.51384988171512513,0.51384988171512513,0.51384988171512513,0.51384988171512513,0.51384988171512513,0.51384988171512513,0.51384988171512513,0.51384988171512513,0.51384988171512513,0.51384988171512513,0.51384988171512513,0.51384988171512513,0.51384988171512513,0.51384988171512513,0.51384988171512513,0.51384988171512513,0.51384988171512513,0.51384988171512513,0.51384988171512513,0.51384988171512513,0.51384988171512513,0.51384988171512513,0.51384988171512513,0.51384988171512513,0.51384988171512513,0.51384988171512513,0.51384988171512513,0.51384988171512513,0.51384988171512513,0.51384988171512513,{"$f":"-2*SIN($E$182)*SIN($D791)","v":0.51384988171512513},0.51384988171512513,0.51384988171512513,0.51384988171512513,0.51384988171512513,0.51384988171512513,0.51384988171512513]
[null,"c",{"$f":"SIN($D791)^2-COS($E$182)^2*COS(C794)^2","v":-0.42279514187513445},{"$f":"SIN($D791)^2-COS($E$182)^2*COS(D794)^2","v":-0.41838984150515757},{"$f":"SIN($D791)^2-COS($E$182)^2*COS(E794)^2","v":-0.40530779321777877},-0.38394648843037449,-0.35495497957956823,-0.31921415899138039,-0.27780999341365514,-0.23200052746595257,-0.18317765859038604,-0.13282484495217567,-8.2472031313965244E-2,-3.3649162438398494E-2,1.2160303509303777E-2,5.356446908702904E-2,8.9305289675216906E-2,0.11829679852602315,0.1396581033134274,0.15274015160080603,0.157145451970783,0.15274015160080606,0.13965810331342737,0.11829679852602318,8.9305289675216865E-2,5.3564469087028985E-2,1.2160303509303583E-2,-3.3649162438398716E-2,-8.2472031313965244E-2,-0.13282484495217578,-0.18317765859038621,-0.23200052746595279,-0.27780999341365514,-0.31921415899138039,-0.35495497957956834,-0.38394648843037471,-0.40530779321777877,-0.41838984150515757,-0.42279514187513445,-0.41838984150515757,-0.40530779321777877,-0.38394648843037471,-0.35495497957956834,-0.31921415899138039,-0.27780999341365514,-0.23200052746595279,-0.18317765859038621,-0.13282484495217578,-8.2472031313965244E-2,-3.3649162438398716E-2,1.2160303509303583E-2,5.3564469087028985E-2,8.9305289675216865E-2,0.11829679852602318,0.13965810331342737,0.15274015160080606,0.157145451970783,0.15274015160080603,0.1396581033134274,0.11829679852602315,8.9305289675216906E-2,5.356446908702904E-2,1.2160303509303777E-2,-3.3649162438398494E-2,-8.2472031313965244E-2,-0.13282484495217567,-0.18317765859038604,-0.23200052746595257,{"$f":"SIN($D791)^2-COS($E$182)^2*COS(BQ794)^2","v":-0.27780999341365514},-0.31921415899138039,-0.35495497957956823,-0.38394648843037449,-0.40530779321777877,-0.41838984150515757,-0.42279514187513445]
[null,"alt solar",{"$f":"IF(C793<=$C$792,0,IF(C793>=-$C$792,0,DEGREES(ASIN(((-C796+(C796^2-4*C795*C797)^0.5)/(2*C795))))))","v":0},{"$f":"IF(D793<=$C$792,0,IF(D793>=-$C$792,0,DEGREES(ASIN(((-D796+(D796^2-4*D795*D797)^0.5)/(2*D795))))))","v":0},0,0,0,0,0,0,0,0,0,0,0,0,0,0,0,0,0,0,0,0,0,0,0,3.5002703153099768,7.8487217120029955,11.657964800758908,14.950786629885378,17.758162864398777,20.113377357305009,22.04835617535155,23.591550411161816,24.766815193610292,25.592883447938796,26.083164876020536,26.24569954034866,26.083164876020536,25.592883447938796,24.766815193610292,23.591550411161816,22.04835617535155,20.113377357305009,17.758162864398777,14.950786629885378,11.657964800758908,7.8487217120029955,3.5002703153099768,0,0,0,0,0,0,0,0,0,0,0,0,0,0,0,0,0,{"$f":"IF(BP793<=$C$792,0,IF(BP793>=-$C$792,0,DEGREES(ASIN(((-BP796+(BP796^2-4*BP795*BP797)^0.5)/(2*BP795))))))","v":0},0,0,0,0,0,0,0]
[]
[null,"obst. Inf.",{"$f":"IF($C$173>=C798,0,1)","v":0},{"$f":"IF($D$173>=D798,0,1)","v":0},{"$f":"IF($E$173>=E798,0,1)","v":0},{"$f":"IF($F$173>=F798,0,1)","v":0},{"$f":"IF($G$173>=G798,0,1)","v":0},{"$f":"IF($H$173>=H798,0,1)","v":0},{"$f":"IF($I$173>=I798,0,1)","v":0},{"$f":"IF($J$173>=J798,0,1)","v":0},{"$f":"IF($K$173>=K798,0,1)","v":0},{"$f":"IF($L$173>=L798,0,1)","v":0},{"$f":"IF($M$173>=M798,0,1)","v":0},{"$f":"IF($N$173>=N798,0,1)","v":0},{"$f":"IF($O$173>=O798,0,1)","v":0},{"$f":"IF($P$173>=P798,0,1)","v":0},{"$f":"IF($Q$173>=Q798,0,1)","v":0},{"$f":"IF($R$173>=R798,0,1)","v":0},{"$f":"IF($S$173>=S798,0,1)","v":0},{"$f":"IF($T$173>=T798,0,1)","v":0},{"$f":"IF($U$173>=U798,0,1)","v":0},{"$f":"IF($V$173>=V798,0,1)","v":0},{"$f":"IF($W$173>=W798,0,1)","v":0},{"$f":"IF($X$173>=X798,0,1)","v":0},{"$f":"IF($Y$173>=Y798,0,1)","v":0},{"$f":"IF($Z$173>=Z798,0,1)","v":0},{"$f":"IF($AA$173>=AA798,0,1)","v":0},{"$f":"IF($AB$173>=AB798,0,1)","v":0},{"$f":"IF($AC$173>=AC798,0,1)","v":1},{"$f":"IF($AD$173>=AD798,0,1)","v":1},{"$f":"IF($AE$173>=AE798,0,1)","v":1},{"$f":"IF($AF$173>=AF798,0,1)","v":1},{"$f":"IF($AG$173>=AG798,0,1)","v":1},{"$f":"IF($AH$173>=AH798,0,1)","v":0},{"$f":"IF($AI$173>=AI798,0,1)","v":0},{"$f":"IF($AJ$173>=AJ798,0,1)","v":0},{"$f":"IF($AK$173>=AK798,0,1)","v":0},{"$f":"IF($AL$173>=AL798,0,1)","v":0},{"$f":"IF($AM$173>=AM798,0,1)","v":0},{"$f":"IF($AN$173>=AN798,0,1)","v":0},{"$f":"IF($AO$173>=AO798,0,1)","v":0},{"$f":"IF($AP$173>=AP798,0,1)","v":0},{"$f":"IF($AQ$173>=AQ798,0,1)","v":0},{"$f":"IF($AR$173>=AR798,0,1)","v":0},{"$f":"IF($AS$173>=AS798,0,1)","v":1},{"$f":"IF($AT$173>=AT798,0,1)","v":1},{"$f":"IF($AU$173>=AU798,0,1)","v":1},{"$f":"IF($AV$173>=AV798,0,1)","v":1},{"$f":"IF($AW$173>=AW798,0,1)","v":1},{"$f":"IF($AX$173>=AX798,0,1)","v":0},{"$f":"IF($AY$173>=AY798,0,1)","v":0},{"$f":"IF($AZ$173>=AZ798,0,1)","v":0},{"$f":"IF($BA$173>=BA798,0,1)","v":0},{"$f":"IF($BB$173>=BB798,0,1)","v":0},{"$f":"IF($BC$173>=BC798,0,1)","v":0},{"$f":"IF($BD$173>=BD798,0,1)","v":0},{"$f":"IF($BE$173>=BE798,0,1)","v":0},{"$f":"IF($BF$173>=BF798,0,1)","v":0},{"$f":"IF($BG$173>=BG798,0,1)","v":0},{"$f":"IF($BH$173>=BH798,0,1)","v":0},{"$f":"IF($BI$173>=BI798,0,1)","v":0},{"$f":"IF($BJ$173>=BJ798,0,1)","v":0},{"$f":"IF($BK$173>=BK798,0,1)","v":0},{"$f":"IF($BL$173>=BL798,0,1)","v":0},{"$f":"IF($BM$173>=BM798,0,1)","v":0},{"$f":"IF($BN$173>=BN798,0,1)","v":0},{"$f":"IF($BO$173>=BO798,0,1)","v":0},{"$f":"IF($BP$173>=BP798,0,1)","v":0},{"$f":"IF($BQ$173>=BQ798,0,1)","v":0},{"$f":"IF($BR$173>=BR798,0,1)","v":0},{"$f":"IF($BS$173>=BS798,0,1)","v":0},{"$f":"IF($BT$173>=BT798,0,1)","v":0},{"$f":"IF($BU$173>=BU798,0,1)","v":0},{"$f":"IF($BV$173>=BV798,0,1)","v":0},{"$f":"IF($BW$173>=BW798,0,1)","v":0}]
[null,"obst. Sup",{"$f":"IF(C798>$C$176,0,1)","v":1},{"$f":"IF(D798>$D$176,0,1)","v":1},{"$f":"IF(E798>$E$176,0,1)","v":1},{"$f":"IF(F798>$F$176,0,1)","v":1},{"$f":"IF(G798>$G$176,0,1)","v":1},{"$f":"IF(H798>$H$176,0,1)","v":1},{"$f":"IF(I798>$I$176,0,1)","v":1},{"$f":"IF(J798>$J$176,0,1)","v":1},{"$f":"IF(K798>$K$176,0,1)","v":1},{"$f":"IF(L798>$L$176,0,1)","v":1},{"$f":"IF(M798>$M$176,0,1)","v":1},{"$f":"IF(N798>$N$176,0,1)","v":1},{"$f":"IF(O798>$O$176,0,1)","v":1},{"$f":"IF(P798>$P$176,0,1)","v":1},{"$f":"IF(Q798>$Q$176,0,1)","v":1},{"$f":"IF(R798>$R$176,0,1)","v":1},{"$f":"IF(S798>$S$176,0,1)","v":1},{"$f":"IF(T798>$T$176,0,1)","v":1},{"$f":"IF(U798>$U$176,0,1)","v":1},{"$f":"IF(V798>$V$176,0,1)","v":1},{"$f":"IF(W798>$W$176,0,1)","v":1},{"$f":"IF(X798>$X$176,0,1)","v":1},{"$f":"IF(Y798>$Y$176,0,1)","v":1},{"$f":"IF(Z798>$Z$176,0,1)","v":1},{"$f":"IF(AA798>$AA$176,0,1)","v":1},{"$f":"IF(AB798>$AB$176,0,1)","v":1},{"$f":"IF(AC798>$AC$176,0,1)","v":1},{"$f":"IF(AD798>$AD$176,0,1)","v":1},{"$f":"IF(AE798>$AE$176,0,1)","v":1},{"$f":"IF(AF798>$AF$176,0,1)","v":1},{"$f":"IF(AG798>$AG$176,0,1)","v":1},{"$f":"IF(AH798>$AH$176,0,1)","v":1},{"$f":"IF(AI798>$AI$176,0,1)","v":1},{"$f":"IF(AJ798>$AJ$176,0,1)","v":1},{"$f":"IF(AK798>$AK$176,0,1)","v":1},{"$f":"IF(AL798>$AL$176,0,1)","v":1},{"$f":"IF(AM798>$AM$176,0,1)","v":1},{"$f":"IF(AN798>$AN$176,0,1)","v":1},{"$f":"IF(AO798>$AO$176,0,1)","v":1},{"$f":"IF(AP798>$AP$176,0,1)","v":1},{"$f":"IF(AQ798>$AQ$176,0,1)","v":1},{"$f":"IF(AR798>$AR$176,0,1)","v":1},{"$f":"IF(AS798>$AS$176,0,1)","v":1},{"$f":"IF(AT798>$AT$176,0,1)","v":1},{"$f":"IF(AU798>$AU$176,0,1)","v":1},{"$f":"IF(AV798>$AV$176,0,1)","v":1},{"$f":"IF(AW798>$AW$176,0,1)","v":1},{"$f":"IF(AX798>$AX$176,0,1)","v":1},{"$f":"IF(AY798>$AY$176,0,1)","v":1},{"$f":"IF(AZ798>$AZ$176,0,1)","v":1},{"$f":"IF(BA798>$BA$176,0,1)","v":1},{"$f":"IF(BB798>$BB$176,0,1)","v":1},{"$f":"IF(BC798>$BC$176,0,1)","v":1},{"$f":"IF(BD798>$BD$176,0,1)","v":1},{"$f":"IF(BE798>$BE$176,0,1)","v":1},{"$f":"IF(BF798>$BF$176,0,1)","v":1},{"$f":"IF(BG798>$BG$176,0,1)","v":1},{"$f":"IF(BH798>$BH$176,0,1)","v":1},{"$f":"IF(BI798>$BI$176,0,1)","v":1},{"$f":"IF(BJ798>$BJ$176,0,1)","v":1},{"$f":"IF(BK798>$BK$176,0,1)","v":1},{"$f":"IF(BL798>$BL$176,0,1)","v":1},{"$f":"IF(BM798>$BM$176,0,1)","v":1},{"$f":"IF(BN798>$BN$176,0,1)","v":1},{"$f":"IF(BO798>$BO$176,0,1)","v":1},{"$f":"IF(BP798>$BP$176,0,1)","v":1},{"$f":"IF(BQ798>$BQ$176,0,1)","v":1},{"$f":"IF(BR798>$BR$176,0,1)","v":1},{"$f":"IF(BS798>$BS$176,0,1)","v":1},{"$f":"IF(BT798>$BT$176,0,1)","v":1},{"$f":"IF(BU798>$BU$176,0,1)","v":1},{"$f":"IF(BV798>$BV$176,0,1)","v":1},{"$f":"IF(BW798>$BW$176,0,1)","v":1}]
[null,"obst. TOTAL",{"$f":"C800*C801","v":0},{"$f":"D800*D801","v":0},0,0,0,0,0,0,0,0,0,0,0,0,0,0,0,0,0,0,0,0,0,0,0,0,1,1,1,1,1,0,0,0,0,0,0,0,0,0,0,0,1,1,1,1,1,0,0,0,0,0,0,0,0,0,0,0,0,0,0,0,0,0,0,{"$f":"BP800*BP801","v":0},0,0,0,0,0,0,0]
[]
[null,"Latitud",{"$f":"$C$182","v":40.4},null,{"$f":"PI()*(C804+D804/60)/180","v":0.70511301780570912}]
[null,"Azimut",{"$f":"$I$4","v":15},null,{"$f":"C805*PI()/180","v":0.26179938779914941}]
[null,"Inclinacion",{"$f":"$I$3","v":35},null,{"$f":"C806*PI()/180","v":0.6108652381980153}]
[null,"Coeficiente refexion",{"$f":"M608","v":0}]
[null,"Constante solar extraterrestre (Bo)",{"$f":"$G$182","v":1367},"W/m2"]
[null,"Dia del año",{"$f":"31+28+31+30+31+30+31+31+30+31+30+15.5","v":349.5}]
[null,"Declinacion . radianes",{"$f":"23.45*PI()/180*SIN(2*PI()*((C809+284)/365))","v":-0.40760943752094109}]
[null,"Ángulo puesta de sol. Radianes. Ws",{"$f":"ACOS(-TAN(C810)*TAN($E$199))","v":1.1944942661010405}]
[null,"Distancia sol - tierra. Bo",{"$f":"1+0.033*COS((2*PI()*C809/365)*PI()/180)","v":1.0328182359622153},"expresion Duffi y Beckman"]
[null,"Factor angulo solar",{"$f":"(SIN(C810)*C811*SIN(E804))+COS(E804)*COS(C810)*SIN(C811)","v":0.34333162390383465}]
[null,"Ho. Irradiacion Extraterreste sobre sup. Horizontal",{"$f":"+($C$203*24/PI())*C812*C813","v":3703.1183207463055}]
[null,"H1",{"$f":"+(3.6*C808*24/PI())*(1+0.033*COS(PI()/180*(360*C809/365)))","v":38791.939117766611}]
[null,"H2",{"$f":"COS(E804)*COS(C810)*SIN(C811)","v":0.65022699257654204}]
[null,"H3",{"$f":"+SIN(C810)*C811*SIN(E804)","v":-0.30689536867270739}]
[null,"H horizontal diaria (W/m2 dia) s/ localidad",{"$f":"N6","v":1872.701111111111},"W/m2 dia"]
[null,"Indice de claridad Kt",{"$f":"C818/C814","v":0.50570922906230487}]
[null,"Fraccion difusa diaria promedio",{"$f":"0.775+0.347*(C811-(PI()/2))-(0.505+0.261*(C811-(PI()/2)))*COS(2*C819-1.8)","v":0.35769976292846456},"Correlacion Collares-Pereira "]
[null,"Factor A Lui y Jordan",{"$f":"0.409+0.5016*SIN(C811-60*PI()/180)","v":0.48261715324696641},"parametros 5 estaciones EEUU"]
[null,"Factor B Lui y Jordan",{"$f":"0.6609-0.4767*SIN(C811-60*PI()/180)","v":0.59093728677665691},"parametros 5 estaciones EEUU"]
[]
[null,"AZIMUT",-180,{"$f":"C824+5","v":-175},{"$f":"D824+5","v":-170},-165,-160,-155,-150,-145,-140,-135,-130,-125,-120,-115,-110,-105,-100,-95,-90,-85,-80,-75,-70,-65,-60,-55,-50,-45,-40,-35,-30,-25,-20,-15,-10,-5,0,5,10,15,20,25,30,35,40,45,50,55,60,65,70,75,80,85,90,95,100,105,110,115,120,125,130,135,140,145,{"$f":"BP824+5","v":150},155,160,165,170,175,180]
[null,"Az radianes",{"$f":"C824*PI()/180","v":-3.1415926535897931},{"$f":"D824*PI()/180","v":-3.0543261909900763},{"$f":"E824*PI()/180","v":-2.9670597283903604},{"$f":"F824*PI()/180","v":-2.8797932657906435},-2.7925268031909272,-2.7052603405912108,-2.6179938779914944,-2.5307274153917776,-2.4434609527920612,-2.3561944901923448,-2.2689280275926285,-2.1816615649929116,-2.0943951023931953,-2.0071286397934789,-1.9198621771937625,-1.8325957145940461,-1.7453292519943295,-1.6580627893946132,-1.5707963267948966,-1.4835298641951802,-1.3962634015954636,-1.3089969389957472,-1.2217304763960306,-1.1344640137963142,-1.0471975511965976,-0.95993108859688125,-0.87266462599716477,-0.78539816339744828,-0.69813170079773179,-0.6108652381980153,-0.52359877559829882,-0.43633231299858238,-0.3490658503988659,-0.26179938779914941,-0.17453292519943295,-8.7266462599716474E-2,0,8.7266462599716474E-2,0.17453292519943295,0.26179938779914941,0.3490658503988659,0.43633231299858238,0.52359877559829882,0.6108652381980153,0.69813170079773179,0.78539816339744828,0.87266462599716477,0.95993108859688125,1.0471975511965976,1.1344640137963142,1.2217304763960306,1.3089969389957472,1.3962634015954636,1.4835298641951802,1.5707963267948966,1.6580627893946132,1.7453292519943295,1.8325957145940461,1.9198621771937625,2.0071286397934789,2.0943951023931953,2.1816615649929116,2.2689280275926285,2.3561944901923448,2.4434609527920612,2.5307274153917776,2.6179938779914944,{"$f":"BR824*PI()/180","v":2.7052603405912108},2.7925268031909272,2.8797932657906435,2.9670597283903604,3.0543261909900763,3.1415926535897931]
[null,"alt solar (grados)",{"$f":"C798","v":0},{"$f":"D798","v":0},{"$f":"E798","v":0},0,0,0,0,0,0,0,0,0,0,0,0,0,0,0,0,0,0,0,0,0,0,3.5002703153099768,7.8487217120029955,11.657964800758908,14.950786629885378,17.758162864398777,20.113377357305009,22.04835617535155,23.591550411161816,24.766815193610292,25.592883447938796,26.083164876020536,26.24569954034866,26.083164876020536,25.592883447938796,24.766815193610292,23.591550411161816,22.04835617535155,20.113377357305009,17.758162864398777,14.950786629885378,11.657964800758908,7.8487217120029955,3.5002703153099768,0,0,0,0,0,0,0,0,0,0,0,0,0,0,0,0,0,0,{"$f":"BQ798","v":0},0,0,0,0,0,0]
[null,"ang horario (grados)",{"$f":"DEGREES(ACOS((SIN(C826*PI()/180)-(SIN($E804)*SIN($C810)))/(COS($E804)*COS($C810))))","v":68.439480100166293},{"$f":"DEGREES(ACOS((SIN(D826*PI()/180)-(SIN($E804)*SIN($C810)))/(COS($E804)*COS($C810))))","v":68.439480100166293},68.439480100166293,68.439480100166293,68.439480100166293,68.439480100166293,68.439480100166293,68.439480100166293,68.439480100166293,68.439480100166293,68.439480100166293,68.439480100166293,68.439480100166293,68.439480100166293,68.439480100166293,68.439480100166293,68.439480100166293,68.439480100166293,68.439480100166293,68.439480100166293,68.439480100166293,68.439480100166293,68.439480100166293,68.439480100166293,68.439480100166293,62.947340204169315,55.750003905024641,48.966055781917731,42.56673594370141,36.512210082398141,30.757522685342188,25.256254607675661,19.962539710208517,14.831991606958345,9.8219437536724676,4.8912755257772575,0,{"$f":"-DEGREES(ACOS((SIN(AN826*PI()/180)-(SIN($E804)*SIN($C810)))/(COS($E804)*COS($C810))))","v":-4.8912755257772575},{"$f":"-DEGREES(ACOS((SIN(AO826*PI()/180)-(SIN($E804)*SIN($C810)))/(COS($E804)*COS($C810))))","v":-9.8219437536724676},-14.831991606958345,-19.962539710208517,-25.256254607675661,-30.757522685342188,-36.512210082398141,-42.56673594370141,-48.966055781917731,-55.750003905024641,-62.947340204169315,-68.439480100166293,-68.439480100166293,-68.439480100166293,-68.439480100166293,-68.439480100166293,-68.439480100166293,-68.439480100166293,-68.439480100166293,-68.439480100166293,-68.439480100166293,-68.439480100166293,-68.439480100166293,-68.439480100166293,-68.439480100166293,-68.439480100166293,-68.439480100166293,-68.439480100166293,-68.439480100166293,-68.439480100166293,-68.439480100166293,-68.439480100166293,-68.439480100166293,-68.439480100166293,-68.439480100166293,-68.439480100166293]
[null,"Factor inclinación",{"$f":"-(IF(C826=0,0,(SIN($C810)*SIN($E804)*COS($E806)-SIN($C810)*COS($E804)*SIN($E806)*COS($E805)+COS($C810)*COS($E804)*COS($E806)*COS(C827*PI()/180)+COS($C810)*SIN($E804)*SIN($E806)*COS(C827*PI()/180)*COS($E805)+COS($C810)*SIN($E806)*SIN(C827*PI()/180)*SIN($E805))/(COS($C810)*COS($E804)*COS(C827*PI()/180)+SIN($C810)*SIN($E804))))","v":0},{"$f":"-(IF(D826=0,0,(SIN($C810)*SIN($E804)*COS($E806)-SIN($C810)*COS($E804)*SIN($E806)*COS($E805)+COS($C810)*COS($E804)*COS($E806)*COS(D827*PI()/180)+COS($C810)*SIN($E804)*SIN($E806)*COS(D827*PI()/180)*COS($E805)+COS($C810)*SIN($E806)*SIN(D827*PI()/180)*SIN($E805))/(COS($C810)*COS($E804)*COS(D827*PI()/180)+SIN($C810)*SIN($E804))))","v":0},0,0,0,0,0,0,0,0,0,0,0,0,0,0,0,0,0,0,0,0,0,0,0,-8.0024778034694357,-4.2275557405774418,-3.2266725015817865,-2.7658963314514606,-2.5021165776016323,-2.3320218578556648,-2.2138457250473031,-2.1275467063997371,-2.0623757349332661,-2.0121231509293982,-1.9730379554461106,-1.9428310062252669,-1.9201771658181956,-1.9044810524929239,-1.89581534297358,-1.8950202096765931,-1.904031139452669,-1.9266496130570518,-1.9703675860802052,-2.0511911668572416,-2.2091346283865181,-2.5776212509260645,-4.026331637821114,0,0,0,0,0,0,0,0,0,0,0,0,0,0,0,0,0,{"$f":"-(IF(BP826=0,0,(SIN($C810)*SIN($E804)*COS($E806)-SIN($C810)*COS($E804)*SIN($E806)*COS($E805)+COS($C810)*COS($E804)*COS($E806)*COS(BP827*PI()/180)+COS($C810)*SIN($E804)*SIN($E806)*COS(BP827*PI()/180)*COS($E805)+COS($C810)*SIN($E806)*SIN(BP827*PI()/180)*SIN($E805))/(COS($C810)*COS($E804)*COS(BP827*PI()/180)+SIN($C810)*SIN($E804))))","v":0},0,0,0,0,0,0,0]
[null,"Correccion valores negativos",{"$f":"ABS(C828)","v":0},{"$f":"ABS(D828)","v":0},0,0,0,0,0,0,0,0,0,0,0,0,0,0,0,0,0,0,0,0,0,0,0,8.0024778034694357,4.2275557405774418,3.2266725015817865,2.7658963314514606,2.5021165776016323,2.3320218578556648,2.2138457250473031,2.1275467063997371,2.0623757349332661,2.0121231509293982,1.9730379554461106,1.9428310062252669,1.9201771658181956,1.9044810524929239,1.89581534297358,1.8950202096765931,1.904031139452669,1.9266496130570518,1.9703675860802052,2.0511911668572416,2.2091346283865181,2.5776212509260645,4.026331637821114,0,0,0,0,0,0,0,0,0,0,0,0,0,0,0,0,0,{"$f":"ABS(BP828)","v":0},0,0,0,0,0,0,0]
[null,"Radiacion H GLOBAL (distribucion Lui y Jordan)",{"$f":"$C818*((PI()/24*($C821+$C822*COS(C827*PI()/180))*(COS(C827*PI()/180)-COS($C811)))/(SIN($C811)-$C811*COS($C811)))","v":5.8173143867946321E-14},{"$f":"$C818*((PI()/24*($C821+$C822*COS(D827*PI()/180))*(COS(D827*PI()/180)-COS($C811)))/(SIN($C811)-$C811*COS($C811)))","v":5.8173143867946321E-14},5.8173143867946321E-14,5.8173143867946321E-14,5.8173143867946321E-14,5.8173143867946321E-14,5.8173143867946321E-14,5.8173143867946321E-14,5.8173143867946321E-14,5.8173143867946321E-14,5.8173143867946321E-14,5.8173143867946321E-14,5.8173143867946321E-14,5.8173143867946321E-14,5.8173143867946321E-14,5.8173143867946321E-14,5.8173143867946321E-14,5.8173143867946321E-14,5.8173143867946321E-14,5.8173143867946321E-14,5.8173143867946321E-14,5.8173143867946321E-14,5.8173143867946321E-14,5.8173143867946321E-14,5.8173143867946321E-14,{"$f":"$C818*((PI()/24*($C821+$C822*COS(AB827*PI()/180))*(COS(AB827*PI()/180)-COS($C811)))/(SIN($C811)-$C811*COS($C811)))","v":32.753838897750676},{"$f":"$C818*((PI()/24*($C821+$C822*COS(AC827*PI()/180))*(COS(AC827*PI()/180)-COS($C811)))/(SIN($C811)-$C811*COS($C811)))","v":79.483026397984901},125.60208275099195,169.06756111877661,208.52791179422479,243.17777355609832,272.59877798143953,296.62184280013105,315.22143603498131,328.44037826266202,336.33957226548341,338.96674408290386,336.33957226548341,328.44037826266202,315.22143603498131,296.62184280013105,272.59877798143953,243.17777355609832,208.52791179422479,169.06756111877661,125.60208275099195,79.483026397984901,32.753838897750676,5.8173143867946321E-14,5.8173143867946321E-14,5.8173143867946321E-14,5.8173143867946321E-14,5.8173143867946321E-14,5.8173143867946321E-14,5.8173143867946321E-14,5.8173143867946321E-14,5.8173143867946321E-14,5.8173143867946321E-14,5.8173143867946321E-14,5.8173143867946321E-14,5.8173143867946321E-14,5.8173143867946321E-14,5.8173143867946321E-14,5.8173143867946321E-14,5.8173143867946321E-14,5.8173143867946321E-14,5.8173143867946321E-14,5.8173143867946321E-14,5.8173143867946321E-14,5.8173143867946321E-14,5.8173143867946321E-14,5.8173143867946321E-14,5.8173143867946321E-14]
[null,"Radiacion H DIFUSA (distribucion Lui y Jordan)",{"$f":"$C820*$C818*((PI()/24*(COS(C827*PI()/180)-COS($C811)))/(SIN($C811)-$C811*COS($C811)))","v":2.9735928541106045E-14},{"$f":"$C820*$C818*((PI()/24*(COS(D827*PI()/180)-COS($C811)))/(SIN($C811)-$C811*COS($C811)))","v":2.9735928541106045E-14},2.9735928541106045E-14,2.9735928541106045E-14,2.9735928541106045E-14,2.9735928541106045E-14,2.9735928541106045E-14,2.9735928541106045E-14,2.9735928541106045E-14,2.9735928541106045E-14,2.9735928541106045E-14,2.9735928541106045E-14,2.9735928541106045E-14,2.9735928541106045E-14,2.9735928541106045E-14,2.9735928541106045E-14,2.9735928541106045E-14,2.9735928541106045E-14,2.9735928541106045E-14,2.9735928541106045E-14,2.9735928541106045E-14,2.9735928541106045E-14,2.9735928541106045E-14,2.9735928541106045E-14,2.9735928541106045E-14,15.592678391082593,34.876197068373429,51.607316115961801,65.889104862949949,77.895390436441375,87.824872532029474,95.8723697629989,102.21252110304691,106.99155745318797,110.32381760775252,112.29075386476673,112.94101116699788,112.29075386476673,110.32381760775252,106.99155745318797,102.21252110304691,95.8723697629989,87.824872532029474,77.895390436441375,65.889104862949949,51.607316115961801,34.876197068373429,15.592678391082593,2.9735928541106045E-14,2.9735928541106045E-14,2.9735928541106045E-14,2.9735928541106045E-14,2.9735928541106045E-14,2.9735928541106045E-14,2.9735928541106045E-14,2.9735928541106045E-14,2.9735928541106045E-14,2.9735928541106045E-14,2.9735928541106045E-14,2.9735928541106045E-14,2.9735928541106045E-14,2.9735928541106045E-14,2.9735928541106045E-14,2.9735928541106045E-14,2.9735928541106045E-14,{"$f":"$C820*$C818*((PI()/24*(COS(BP827*PI()/180)-COS($C811)))/(SIN($C811)-$C811*COS($C811)))","v":2.9735928541106045E-14},2.9735928541106045E-14,2.9735928541106045E-14,2.9735928541106045E-14,2.9735928541106045E-14,2.9735928541106045E-14,2.9735928541106045E-14,2.9735928541106045E-14]
[null,"Total Directa",{"$f":"C$54*IF((C830-C831)*C829<0,0,(C830-C831)*C829)","v":0},{"$f":"D$54*IF((D830-D831)*D829<0,0,(D830-D831)*D829)","v":0},0,0,0,0,0,0,0,0,0,0,0,0,0,0,0,0,0,0,0,0,0,0,0,137.33180603638763,188.57785740135716,238.75687876221323,285.38091364281598,326.85779726320919,362.28636086941623,391.24500333735932,413.61491207003826,429.44824887519081,438.87738129483972,442.05682257746702,439.12980211381301,430.21342512160379,415.39885700219872,394.76539868088946,368.40959356549263,336.49258441153501,299.3106066453127,257.39408577130655,211.63873808191795,163.46440129282445,114.97951121643858,69.096523489723921,0,0,0,0,0,0,0,0,0,0,0,0,0,0,0,0,0,{"$f":"BP$54*IF((BP830-BP831)*BP829<0,0,(BP830-BP831)*BP829)","v":0},0,0,0,0,0,0,0]
[null,"Total Difusa (plano incl)",{"$f":"C$54*C831*(1+COS($E806))/2","v":0},{"$f":"D$54*D831*(1+COS($E806))/2","v":0},0,0,0,0,0,0,0,0,0,0,0,0,0,0,0,0,0,0,0,2.7047087597192223E-14,2.7047087597192223E-14,2.7047087597192223E-14,2.7047087597192223E-14,14.182726385539345,31.722552596978634,46.940777306310075,59.931149903903581,70.851779376570761,79.883398203030779,87.203208722594795,92.970058358269753,97.316955231315006,100.34789916745443,102.13697722392121,102.72843567425502,102.13697722392121,100.34789916745443,97.316955231315006,92.970058358269753,87.203208722594795,79.883398203030779,70.851779376570761,59.931149903903581,46.940777306310075,31.722552596978634,14.182726385539345,2.7047087597192223E-14,2.7047087597192223E-14,2.7047087597192223E-14,2.7047087597192223E-14,2.7047087597192223E-14,2.7047087597192223E-14,2.7047087597192223E-14,2.7047087597192223E-14,2.7047087597192223E-14,2.7047087597192223E-14,0,0,0,0,0,0,0,{"$f":"BP$54*BP831*(1+COS($E806))/2","v":0},0,0,0,0,0,0,0]
[null,"Total Reflejada (plano incl)",{"$f":"C$54*C830*$C807*(1-COS($E806))/2","v":0},{"$f":"D$54*D830*$C807*(1-COS($E806))/2","v":0},0,0,0,0,0,0,0,0,0,0,0,0,0,0,0,0,0,0,0,0,0,0,0,0,0,0,0,0,0,0,0,0,0,0,0,0,0,0,0,0,0,0,0,0,0,0,0,0,0,0,0,0,0,0,0,0,0,0,0,0,0,0,0,{"$f":"BP$54*BP830*$C807*(1-COS($E806))/2","v":0},0,0,0,0,0,0,0]
[null,"TOTAL (W/m2)",{"$f":"C832+C833+C834","v":0},0,0,0,0,0,0,0,0,0,0,0,0,0,0,0,0,0,0,0,0,2.7047087597192223E-14,2.7047087597192223E-14,2.7047087597192223E-14,2.7047087597192223E-14,151.51453242192699,220.30040999833579,285.69765606852332,345.31206354671957,397.70957663977993,442.16975907244699,478.44821205995413,506.584970428308,526.76520410650585,539.22528046229411,544.1937998013882,541.85823778806798,532.35040234552503,515.74675616965317,492.08235391220444,461.37965192376237,423.69579313412981,379.19400484834347,328.24586514787734,271.56988798582154,210.40517859913453,146.70206381341723,83.279249875263261,2.7047087597192223E-14,2.7047087597192223E-14,2.7047087597192223E-14,2.7047087597192223E-14,2.7047087597192223E-14,2.7047087597192223E-14,2.7047087597192223E-14,2.7047087597192223E-14,2.7047087597192223E-14,2.7047087597192223E-14,0,0,0,0,0,0,{"$f":"BO832+BO833+BO834","v":0},0,0,0,0,0,0,0,0]
[null,"Radiación Directa recibida",{"$f":"C832*C802","v":0},{"$f":"D832*D802","v":0},0,0,0,0,0,0,0,0,0,0,0,0,0,0,0,0,0,0,0,0,0,0,0,0,188.57785740135716,238.75687876221323,285.38091364281598,326.85779726320919,362.28636086941623,0,0,0,0,0,0,0,0,0,0,0,299.3106066453127,257.39408577130655,211.63873808191795,163.46440129282445,114.97951121643858,0,0,0,0,0,0,0,0,0,0,0,0,0,0,0,0,0,0,{"$f":"BP832*BP802","v":0},0,0,0,0,0,0,0]
[null,"Radiación Global recibida",{"$f":"C836+C834+C833","v":0},0,0,0,0,0,0,0,0,0,0,0,0,0,0,0,0,0,0,0,0,2.7047087597192223E-14,2.7047087597192223E-14,2.7047087597192223E-14,2.7047087597192223E-14,14.182726385539345,220.30040999833579,285.69765606852332,345.31206354671957,397.70957663977993,442.16975907244699,87.203208722594795,92.970058358269753,97.316955231315006,100.34789916745443,102.13697722392121,102.72843567425502,102.13697722392121,100.34789916745443,97.316955231315006,92.970058358269753,87.203208722594795,379.19400484834347,328.24586514787734,271.56988798582154,210.40517859913453,146.70206381341723,14.182726385539345,2.7047087597192223E-14,2.7047087597192223E-14,2.7047087597192223E-14,2.7047087597192223E-14,2.7047087597192223E-14,2.7047087597192223E-14,2.7047087597192223E-14,2.7047087597192223E-14,2.7047087597192223E-14,2.7047087597192223E-14,0,0,0,0,0,0,{"$f":"BO836+BO834+BO833","v":0},0,0,0,0,0,0,0,0]
[null,"Total Directa recibida",{"$f":"SUM(C836:BW836)","v":2448.6471509468115},"W/m2"]
[null,"Total Directa disponible",{"$f":"SUM(C832:BW832)","v":7154.7275095233508},"W/m2"]
[null,"Obstruccion directa",{"$f":"IF(C838=0,1,1-(C838/C839))","v":0.65775815393562898}]
[null,"Total global recibida",{"$f":"SUM(C837:BW837)","v":4118.3505515728439}]
[null,"Total global ",{"$f":"SUM(C835:BW835)","v":8824.4309101493836},"W/m2","% difusa","Fd"]
[null,"Obstrucción global",{"$f":"1-(C841/C842)","v":0.53330128667717935},null,{"$f":"1-(C839/C842)","v":0.18921372013980298},{"$f":"C820","v":0.35769976292846456}]
[]
[null,"FACTORES SOLARES ANUALES"]
[]
[null,"Mes","Ene","Feb","Mar","Abr","May","Jun","Jul","Ago","Sep","Oct","Nov","Dic"]
[null,"Radiacion horizontal (W/m2 dia)",{"$f":"C6","v":2273.278888888889},{"$f":"D6","v":3254.6944444444443},4656.7166666666662,5758.3055555555557,6609.5333333333328,7751.1799999999994,8051.613333333331,7010.1111111111113,5477.9011111111113,3565.1422222222222,2433.5100000000002,1872.701111111111]
[null,"Total Directa recibida",{"$f":"C233","v":3265.3027692295796},{"$f":"C288","v":10294.525943229761},{"$f":"C343","v":13771.694198633266},{"$f":"C398","v":14440.835964264626},{"$f":"C453","v":14831.532322155614},{"$f":"C508","v":17642.224112513963},{"$f":"C563","v":19322.728691410441},{"$f":"C618","v":18008.598938157254},{"$f":"C673","v":15600.608241248237},{"$f":"C728","v":11085.223332873404},{"$f":"C783","v":3354.9322224158063},{"$f":"C838","v":2448.6471509468115}]
[null,"Total Directa disponible",{"$f":"C234","v":8647.1875977694381},{"$f":"C289","v":10991.747329343498},{"$f":"C344","v":13793.469234910162},{"$f":"C399","v":14487.64748721025},{"$f":"C454","v":14831.532322155614},{"$f":"C509","v":17642.224112513963},{"$f":"C564","v":19322.728691410441},{"$f":"C619","v":18073.502205532732},{"$f":"C674","v":15631.628709066978},{"$f":"C729","v":11179.405931241343},{"$f":"C784","v":8689.6020663111176},{"$f":"C839","v":7154.7275095233508}]
[null,"Obstruccion directa",0.62238557538963635,6.3431351287746462E-2,1.578648265063376E-3,3.2311334871274466E-3,0,0,0,3.5910730879601394E-3,1.984468054870514E-3,8.4246514481365331E-3,0.61391417042874652,0.65775815393562898]
[null,"Total global recibida",5339.2450433281401,13327.778271520689,18651.33405964862,21627.449697237837,23934.816221430472,27617.617494098064,28934.715886125403,26066.911232484257,21417.415998152228,14727.490238259345,5567.6802002467412,4118.3505515728439]
[null,"Total global ",10721.129871867999,14024.999657634422,18673.109095925516,21674.26122018346,23934.816221430472,27617.617494098064,28934.715886125403,26131.814499859734,21448.436465970968,14821.672836627284,10902.350044142049,8824.4309101493836]
[null,"Obstrucción global",0.50198858635802956,4.9712756016660919E-2,1.1661173383090695E-3,2.1597747886341612E-3,0,0,0,2.4836877429933457E-3,1.4462810782480684E-3,6.3543838408843811E-3,0.48931375550188683,0.53330128667717935]
[]
[null,null,"% obtruc","factor"]
[null,"Directa invierno",{"$f":"1-((C849+D849+E849+F849+G849+L849+M849+N849)/(C850+D850+E850+F850+G850+L850+M850+N850))","v":0.1813708452312639},{"$f":"1-C857","v":0.8186291547687361}]
[null,"Directa verano",{"$f":"1-((H849+I849+J849+K849)/(H850+I850+J850+K850))","v":1.3573457133045919E-3},{"$f":"1-C858","v":0.99864265428669541}]
[]
[null,"Global invierno",{"$f":"1-((C852+D852+E852+F852+G852+L852+M852+N852)/(C853+D853+E853+F853+G853+L853+M853+N853))","v":0.13176121688106257},{"$f":"1-C860","v":0.86823878311893743}]
[null,"Global verano",{"$f":"1-((H852+I852+J852+K852)/(H853+I853+J853+K853))","v":9.2116925548924034E-4},{"$f":"1-C861","v":0.99907883074451076}]
[]
[null,"Directa anual",{"$f":"SUM(C849:N849)/SUM(C850:N850)","v":0.8979182389550846},{"$f":"1-C863","v":0.1020817610449154}]
[null,"Global anual",{"$f":"SUM(C852:N852)/SUM(C853:N853)","v":0.92807256703545038},{"$f":"1-C864","v":7.192743296454962E-2}]
[]
[null,"Curva rendimiento"]
[]
[null,"K0",{"$f":"'Informe calculo'!E37","v":0.753},null,"Rango",40]
[null,"K1",{"$f":"'Informe calculo'!G37","v":2.8340000000000001},null,null,70]
[null,"K2",{"$f":"'Informe calculo'!I37","v":5.6000000000000001E-2}]
[null,null,"STC","Verano","Invierno"]
[null,"Tm-Ta",800,{"$f":"MAX(560:560,615:615,505:505)","v":949.13737561818584},{"$f":"MAX(835:835)","v":544.1937998013882}]
[null,0,{"$f":"IF($C$868-($C$869*B873/$C$872)-($C$870*((B873)^2)/$C$872)<0,\"\",$C$868-($C$869*B873/$C$872)-($C$870*((B873)^2)/$C$872))","v":0.753},{"$f":"IF($C$868-($C$869*B873/$D$872)-($C$870*((B873)^2)/$D$872)<0,\"\",$C$868-($C$869*B873/$D$872)-($C$870*((B873)^2)/$D$872))","v":0.753},{"$f":"IF($C$868-($C$869*B873/$E$872)-($C$870*((B873)^2)/$E$872)<0,\"\",$C$868-($C$869*B873/$E$872)-($C$870*((B873)^2)/$E$872))","v":0.753}]
[null,{"$f":"B873+5","v":5},{"$f":"IF($C$868-($C$869*B874/$C$872)-($C$870*((B874)^2)/$C$872)<0,\"\",$C$868-($C$869*B874/$C$872)-($C$870*((B874)^2)/$C$872))","v":0.73353749999999995},{"$f":"IF($C$868-($C$869*B874/$D$872)-($C$870*((B874)^2)/$D$872)<0,\"\",$C$868-($C$869*B874/$D$872)-($C$870*((B874)^2)/$D$872))","v":0.73659563072747081},{"$f":"IF($C$868-($C$869*B874/$E$872)-($C$870*((B874)^2)/$E$872)<0,\"\",$C$868-($C$869*B874/$E$872)-($C$870*((B874)^2)/$E$872))","v":0.72438886917549872}]
[null,{"$f":"B874+5","v":10},0.71057499999999996,0.71724121431537302,0.69063251251229452]
[null,15,0.68411250000000001,0.69493675076370676,0.6517309300103874]
[null,20,0.65415000000000001,0.66968224007247201,0.60768412166977748]
[null,25,0.62068750000000006,0.64147768224166857,0.55849208749046464,null,null,null,null,null,null,null,null,{"$f":"F868","v":40},0]
[null,30,0.58372500000000005,0.61032307727129687,0.504154827472449,null,null,null,null,null,null,null,null,{"$f":"N878","v":40},1]
[null,35,0.54326249999999998,0.57621842516135646,0.44467234161573044]
[null,40,0.49929999999999997,0.53916372591184758,0.38004462992030907,null,null,null,null,null,null,null,null,{"$f":"F869","v":70},0]
[null,45,0.45183749999999989,0.49915897952277027,0.31027169238618468,null,null,null,null,null,null,null,null,{"$f":"N881","v":70},1]
[null,50,0.40087499999999993,0.45620418599412438,0.23535352901335754]
[null,55,0.34641250000000001,0.41029934532590995,0.15529013980182749]
[null,60,0.28844999999999998,0.36144445751812704,7.0081524751594626E-2]
[null,65,0.22698749999999995,0.30963952257077554,""]
[null,70,0.16202500000000003,0.25488454048385562,""]
[null,75,9.3562499999999993E-2,0.19717951125736705,""]
[null,80,2.1599999999999953E-2,0.13652443489131005,""]
[null,85,"",7.2919311385684527E-2,""]
[null,90,"",6.3641407404904649E-3,""]
[null,95,"","",""]
[null,100,"","",""]

{"sheet":"Localidades","index":11,"n_rows":118,"n_cols":18,"rows_kept":118,"cut":false,"hidden":true,"merged":[[9,6,9,17],[1,6,1,17],[64,6,64,17],[5,6,5,17]]}
[]
["DT","Provincia (Pr)",{"$f":"'HE-4 SOLAR'!D6","v":"Madrid"},null,null,null,"Temperatura Agua s/ CTE HE4 2013"]
["B","Capital (Cp)",{"$f":"VLOOKUP($C$2,$B$12:$R$63,2,FALSE)","v":40.4},null,null,null,"Enero","Febrero","Marzo","Abril","Mayo","Junio","Julio","Agosto","Sept.","Oct.","Nov.","Dic."]
["B","Zona HE1",{"$f":"VLOOKUP($C$2,$B$12:$R$63,3,FALSE)","v":"D3"},null,null,null,{"$f":"VLOOKUP($C$2,$B$12:$R$63,G5,FALSE)","v":8},{"$f":"VLOOKUP($C$2,$B$12:$R$63,H5,FALSE)","v":8},10,12,14,17,20,19,17,13,10,8]
["B","Zona HE4",{"$f":"VLOOKUP($C$2,$B$12:$R$63,4,FALSE)","v":"IV"},null,null,null,6,7,8,9,10,11,12,13,14,15,16,17]
[null,null,null,null,null,null,"Temperatura median en horas diurnas"]
[null,null,null,null,null,null,"Enero","Febrero","Marzo","Abril","Mayo","Junio","Julio","Agosto","Sept.","Oct.","Nov.","Dic."]
[null,null,null,null,null,null,{"$f":"VLOOKUP($C$2,$B$67:$R$118,G5,FALSE)","v":6},{"$f":"VLOOKUP($C$2,$B$67:$R$118,H5,FALSE)","v":8},11,13,18,23,28,26,21,15,11,7]
[]
[null,null,null,null,null,null,"Temperatura Agua s/ CTE HE4 2013"]
[null,null,"Latitud","Zona Climática","Zona Solar","Altitud capital","Enero","Febrero","Marzo","Abril","Mayo","Junio","Julio","Agosto","Sept.","Oct.","Nov.","Dic."]
[null,"Albacete",39,"D3","V",686,7,8,9,11,14,17,19,19,17,13,9,7]
[null,"Alicante",38.4,"B4","V",7,11,12,13,14,16,18,20,20,19,16,13,12]
[null,"Almería",36.9,"A4","V",65,12,12,13,14,16,18,20,21,19,17,14,12]
[null,"Ávila",40.700000000000003,"E1","IV",1126,6,6,7,9,11,14,17,16,14,11,8,6]
[null,"Badajoz",38.9,"C4","V",186,9,10,11,13,15,18,20,20,18,15,12,9]
[null,"Barcelona",41.4,"C2","II",95,9,10,11,12,14,17,19,19,17,15,12,10]
[null,"Bilbao",43.3,"C1","I",32,9,10,10,11,13,15,17,17,16,14,11,10]
[null,"Burgos",42.3,"E1","II",929,5,6,7,9,11,13,16,16,14,11,7,6]
[null,"Cáceres",39.5,"C4","V",459,9,10,11,12,14,18,21,20,19,15,11,9]
[null,"Cádiz",36.5,"A3","IV",28,12,12,13,14,16,18,19,20,19,17,14,12]
[null,"Castellón",40,"B3","IV",27,10,11,12,13,15,18,19,20,18,16,12,11]
[null,"Ceuta",35.9,"B3","V",206,11,11,12,13,14,16,18,18,17,15,13,12]
[null,"Ciudad Real",39,"D3","IV",628,7,8,10,11,14,17,20,20,17,13,10,7]
[null,"Córdoba",37.9,"B4","IV",128,10,11,12,14,16,19,21,21,19,16,12,10]
[null,"Coruña, La",43.4,"C1","I",54,10,10,11,12,13,14,16,16,15,14,12,11]
[null,"Cuenca",40.1,"D2","III",949,6,7,8,10,13,16,18,18,16,12,9,7]
[null,"Gerona",42,"D2","III",95,8,9,10,11,14,16,19,18,17,14,10,9]
[null,"Granada",37.200000000000003,"C3","IV",775,8,9,10,12,14,17,20,19,17,14,11,8]
[null,"Guadalajara",40.6,"D3","IV",685,7,8,9,11,14,17,19,19,16,13,9,7]
[null,"Huelva",37.299999999999997,"A4","V",4,12,12,13,14,16,18,20,20,19,17,14,12]
[null,"Huesca",42.1,"D2","III",488,7,8,10,11,14,16,19,18,17,13,9,7]
[null,"Jaén",37.799999999999997,"C4","IV",586,9,10,11,13,16,19,21,21,19,15,12,9]
[null,"León",42.6,"E1","III",908,6,6,8,9,12,14,16,16,15,11,8,6]
[null,"Lleida",41.7,"D3","III",323,7,9,10,12,15,17,20,19,17,14,10,7]
[null,"Logroño",42.5,"D2","II",380,7,8,10,11,13,16,18,18,16,13,10,8]
[null,"Lugo",43,"D1","II",465,7,8,9,10,11,13,15,15,14,12,9,8]
[null,"Madrid",40.4,"D3","IV",667,8,8,10,12,14,17,20,19,17,13,10,8]
[null,"Málaga",36.700000000000003,"A3","IV",40,12,12,13,14,16,18,20,20,19,16,14,12]
[null,"Melilla",35.299999999999997,"A3","V",47,12,13,13,14,16,18,20,20,19,17,14,13]
[null,"Murcia",38,"B3","IV",42,11,11,12,13,15,17,19,20,18,16,13,11]
[null,"Orense",42.3,"D2","II",139,8,10,11,12,14,16,18,18,17,13,11,9]
[null,"Oviedo",43.4,"D1","I",232,9,9,10,10,12,14,15,16,15,13,10,9]
[null,"Palencia",42,"D1","II",734,6,7,8,10,12,15,17,17,15,12,9,6]
[null,"Palma de Mallorca",39.6,"B3","IV",28,11,11,12,13,15,18,20,20,19,17,14,12]
[null,"Pamplona",42.8,"D1","II",449,7,8,9,10,12,15,17,17,16,13,9,7]
[null,"Pontevedra",42.4,"C1","I",19,10,11,11,13,14,16,17,17,16,14,12,10]
[null,"Salamanca",41,"D2","III",803,6,7,8,10,12,15,17,17,15,12,8,6]
[null,"San Sebastian",43.3,"D1","I",181,9,9,10,11,12,14,16,16,15,14,11,9]
[null,"Santander",43.5,"C1","I",69,10,10,11,11,13,15,16,16,16,14,12,10]
[null,"Segovia",41,"D2","III",1002,6,7,8,10,12,15,18,18,15,12,8,6]
[null,"Sevilla",37.4,"B4","V",30,11,11,13,14,16,19,21,21,20,16,13,11]
[null,"Soria",41.8,"E1","III",1063,5,6,7,9,11,14,17,16,14,11,8,6]
[null,"Tarragona",41.1,"B3","III",60,10,11,12,14,16,18,20,20,19,16,12,11]
[null,"Teruel",40.4,"D2","III",915,6,7,8,10,12,15,18,17,15,12,8,6]
[null,"Toledo",39.9,"C4","IV",540,8,9,11,12,15,18,21,20,18,14,11,8]
[null,"Valencia",39.5,"B3","IV",10,10,11,12,13,15,17,19,20,18,16,13,11]
[null,"Valladolid",41.7,"D2","II",694,6,8,9,10,12,15,18,18,16,12,9,7]
[null,"Vitoria",42.9,"D1","I",542,7,7,8,10,12,14,16,16,14,12,8,7]
[null,"Zamora",41.5,"D2","III",649,6,8,9,10,13,16,18,18,16,12,9,7]
[null,"Zaragoza",41.7,"D3","IV",200,8,9,10,12,15,17,20,19,17,14,10,8]
[null,"Palmas de Gran Canarias",28.2,"alfa3","V",6,15,15,16,16,17,18,19,19,19,18,17,16]
[null,"Santa Cruz de Tenerife",28.5,"alfa3","V",37,15,15,16,16,17,18,20,20,20,18,17,16]
[]
[null,null,null,null,null,null,"Temperatura media diurna. Pliego IDAE para instalaciones térmicas baja temperatura"]
[null,null,null,null,null,null,"Enero","Febrero","Marzo","Abril","Mayo","Junio","Julio","Agosto","Sept.","Oct.","Nov.","Dic."]
[null,"Albacete",null,null,null,null,6,8,11,13,17,22,26,26,22,16,11,7]
[null,"Alicante",null,null,null,null,13,14,16,18,21,25,28,28,26,21,17,14]
[null,"Almería",null,null,null,null,15,15,16,18,21,24,27,28,26,22,18,16]
[null,"Ávila",null,null,null,null,4,5,8,11,14,18,22,22,18,13,8,5]
[null,"Badajoz",null,null,null,null,11,12,15,17,20,25,28,28,25,20,15,11]
[null,"Barcelona",null,null,null,null,11,12,14,17,20,24,26,26,24,20,16,12]
[null,"Bilbao",null,null,null,null,10,11,12,13,16,20,22,22,20,16,13,10]
[null,"Burgos",null,null,null,null,5,6,9,11,14,18,21,21,18,13,9,5]
[null,"Cáceres",null,null,null,null,10,11,14,16,19,25,28,28,25,19,14,10]
[null,"Cádiz",null,null,null,null,13,15,17,19,21,24,27,27,25,22,18,15]
[null,"Castellón",null,null,null,null,13,13,15,17,20,24,26,27,25,21,16,13]
[null,"Ceuta",null,null,null,null,15,15,16,17,19,23,25,26,24,21,18,16]
[null,"Ciudad Real",null,null,null,null,7,9,12,15,18,23,28,27,20,17,11,8]
[null,"Córdoba",null,null,null,null,11,13,16,18,21,26,30,30,26,21,16,12]
[null,"Coruña, La",null,null,null,null,12,12,14,14,16,19,20,21,20,17,14,12]
[null,"Cuenca",null,null,null,null,5,6,9,12,15,20,24,23,20,14,9,6]
[null,"Gerona",null,null,null,null,9,10,13,15,19,23,26,25,23,18,13,10]
[null,"Granada",null,null,null,null,9,10,13,16,18,24,27,27,24,18,13,9]
[null,"Guadalajara",null,null,null,null,7,8,12,14,18,22,26,26,22,16,10,8]
[null,"Huelva",null,null,null,null,13,14,16,20,21,24,27,27,25,21,17,14]
[null,"Huesca",null,null,null,null,7,8,12,15,18,22,25,25,21,16,11,7]
[null,"Jaén",null,null,null,null,11,11,14,17,21,26,30,29,25,19,15,10]
[null,"León",null,null,null,null,5,6,10,12,15,19,22,22,19,14,9,6]
[null,"Lleida",null,null,null,null,7,10,14,15,21,24,27,27,23,18,11,8]
[null,"Logroño",null,null,null,null,7,9,12,14,17,21,24,24,21,16,11,8]
[null,"Lugo",null,null,null,null,8,9,11,13,15,18,20,21,19,15,11,8]
[null,"Madrid",null,null,null,null,6,8,11,13,18,23,28,26,21,15,11,7]
[null,"Málaga",null,null,null,null,15,15,17,19,21,25,27,28,26,22,18,15]
[null,"Melilla",null,null,null,null,15,15,16,18,21,25,27,28,26,22,18,16]
[null,"Murcia",null,null,null,null,12,12,15,17,21,25,28,28,25,20,16,12]
[null,"Orense",null,null,null,null,9,9,13,15,18,21,24,23,21,16,12,9]
[null,"Oviedo",null,null,null,null,9,10,11,12,15,18,20,20,19,16,12,10]
[null,"Palencia",null,null,null,null,5,7,10,13,16,20,23,23,20,14,9,6]
[null,"Palma de Mallorca",null,null,null,null,12,13,14,17,19,23,26,27,25,20,16,14]
[null,"Pamplona",null,null,null,null,7,7,11,13,16,20,22,23,20,15,10,8]
[null,"Pontevedra",null,null,null,null,11,12,14,16,18,20,22,23,20,17,14,12]
[null,"Salamanca",null,null,null,null,6,7,10,13,16,20,24,23,20,14,9,6]
[null,"San Sebastian",null,null,null,null,10,10,13,14,16,19,21,21,20,17,13,10]
[null,"Santander",null,null,null,null,11,11,14,14,16,19,21,21,20,17,14,12]
[null,"Segovia",null,null,null,null,4,6,10,12,15,20,24,23,20,14,9,5]
[null,"Sevilla",null,null,null,null,11,13,14,17,21,25,29,29,24,20,16,12]
[null,"Soria",null,null,null,null,4,6,9,11,14,19,22,22,18,13,8,5]
[null,"Tarragona",null,null,null,null,11,12,14,16,19,22,25,26,23,20,15,12]
[null,"Teruel",null,null,null,null,5,6,9,12,16,20,23,24,19,14,9,6]
[null,"Toledo",null,null,null,null,8,9,13,15,19,24,28,27,23,17,12,8]
[null,"Valencia",null,null,null,null,12,13,15,17,20,23,26,27,24,20,16,13]
[null,"Valladolid",null,null,null,null,4,6,9,12,17,21,24,23,18,13,8,4]
[null,"Vitoria",null,null,null,null,7,7,11,12,15,19,21,21,19,15,10,7]
[null,"Zamora",null,null,null,null,6,7,11,13,16,21,24,23,20,15,10,6]
[null,"Zaragoza",null,null,null,null,8,10,13,16,19,23,26,26,23,17,12,9]
[null,"Palmas de Gran Canarias",null,null,null,null,20,20,21,22,23,24,25,25,26,25,23,21]
[null,"Santa Cruz de Tenerife",null,null,null,null,19,20,20,21,22,24,26,27,26,25,23,20]

{"sheet":"Datos SOLAR","index":12,"n_rows":119,"n_cols":15,"rows_kept":119,"cut":false,"hidden":true,"merged":[[1,1,1,13],[10,1,10,13],[65,1,65,13]]}
[]
[null,"DATOS RADIACIÓN SOLAR"]
[]
[null,"Localidad",{"$f":"'HE-4 SOLAR'!D6","v":"Madrid"},null,"Rad anual",{"$f":"VLOOKUP($C$4,$B$68:$O$119,14,FALSE)*3.6052","v":17.593375999999999}]
[null,null,2,3,4,5,6,7,8,9,10,11,12,13]
[null,null,"ENERO ","FEBRERO","MARZO","ABRIL","MAYO","JUNIO","JULIO","AGOSTO","SEPTIEMBRE","OCTUBRE","NOVIEMBRE","DICIEMBRE"]
[null,"Atlas Radiacion solar 2012 AEMET",{"$f":"VLOOKUP($C$4,$B$68:$N$119,C5,FALSE)*3.6052","v":8.1838040000000003},{"$f":"VLOOKUP($C$4,$B$68:$N$119,D5,FALSE)*3.6052","v":11.716899999999999},16.76418,20.729900000000001,23.794319999999999,27.904247999999999,28.985807999999995,25.2364,19.720444000000001,12.834512,8.7606359999999999,6.7417240000000005]
[null,"Pliego Instalaciones solar térmica IDAE",{"$f":"VLOOKUP($C$4,$B$13:$N$64,C5,FALSE)","v":6.7},{"$f":"VLOOKUP($C$4,$B$13:$N$64,D5,FALSE)","v":10.6},13.6,18.8,20.9,23.5,26,23.1,16.899999999999999,11.4,7.5,5.9]
[null,"Otra localidad (definida por usuario)"]
[]
[null,"Energía en megajulios que incide sobre un metro cuadrado de superficie horizontal en un día medio de cada mes. (Fuente: CENSOLAR)."]
[null,null," ENE  "," FEB  "," MAR  "," ABR  "," MAY  "," JUN  "," JUL  "," AGO  "," SEP  "," OCT  "," NOV  "," DIC  "]
[null,"Vitoria",4.5999999999999996,6.9,11.2,13,14.8,16.600000000000001,18.100000000000001,17.3,14.3,9.5,5.5,4.0999999999999996]
[null,"Albacete",6.7,10.5,15,19.2,21.2,25.1,26.7,23.2,18.8,12.4,8.4,6.4]
[null,"Alicante",8.5,12,16.3,18.899999999999999,23.1,24.8,25.8,22.5,18.3,13.6,9.8000000000000007,7.6]
[null,"Almería",8.9,12.2,16.399999999999999,19.600000000000001,23.1,24.6,25.3,22.5,18.5,13.9,10,8]
[null,"Oviedo",5.3,7.7,10.6,12.2,15,15.2,16.8,14.8,12.4,9.8000000000000007,5.9,4.5999999999999996]
[null,"Ávila",6,9.1,13.5,17.7,19.399999999999999,22.3,26.3,25.3,18.8,11.2,6.9,5.2]
[null,"Badajoz",6.5,10,13.6,18.7,21.8,24.6,25.9,23.8,17.899999999999999,12.3,8.1999999999999993,6.2]
[null,"Palma de Mallorca",7.2,10.7,14.4,16.2,21,22.7,24.2,20.6,16.399999999999999,12.1,8.5,6.5]
[null,"Barcelona",6.5,9.5,12.9,16.100000000000001,18.600000000000001,20.3,21.6,18.100000000000001,14.6,10.8,7.2,5.8]
[null,"Burgos",5.0999999999999996,7.9,12.4,16,18.7,21.5,23,20.7,16.7,10.1,6.5,4.5]
[null,"Cáceres",6.8,10,14.7,19.600000000000001,22.1,25.1,28.1,25.4,19.7,12.7,8.9,6.6]
[null,"Cádiz",8.1,11.5,15.7,18.5,22.2,23.8,25.9,23,18.100000000000001,14.2,10,7.4]
[null,"Santander",5,7.4,11,13,16.100000000000001,17,18.399999999999999,15.5,13,9.5,5.8,4.5]
[null,"Castellón",8,12.2,15.5,17.399999999999999,20.6,21.4,23.9,19.5,16.600000000000001,13.1,8.6,7.3]
[null,"Ceuta",8.9,13.1,18.600000000000001,21,24.3,26.7,26.8,24.3,19.100000000000001,14.2,11,8.6]
[null,"Ciudad Real",7,10.1,15,18.7,21.4,23.7,25.3,23.2,18.8,12.5,8.6999999999999993,6.5]
[null,"Córdoba",7.2,10.1,15.1,18.5,21.8,25.9,28.5,25.1,19.899999999999999,12.6,8.6,6.9]
[null,"Coruña, La",5.4,8,11.4,12.4,15.4,16.2,17.399999999999999,15.3,13.9,10.9,6.4,5.0999999999999996]
[null,"Cuenca",5.9,8.8000000000000007,12.9,17.399999999999999,18.7,22,25.6,22.3,17.5,11.2,7.2,5.5]
[null,"Gerona",7.1,10.5,14.2,15.9,18.7,19,22.3,18.5,14.9,11.7,7.8,6.6]
[null,"Granada",7.8,10.8,15.2,18.5,21.9,24.8,26.7,23.6,18.8,12.9,9.6,7.1]
[null,"Guadalajara",6.5,9.1999999999999993,14,17.899999999999999,19.399999999999999,22.7,25,23.2,17.8,11.7,7.8,5.6]
[null,"Bilbao",5.5,7.7,11.3,11.7,14.6,16.2,16.100000000000001,13.6,12.7,10.3,6.2,5]
[null,"Huelva",7.6,11.3,16,19.5,24.1,25.6,28.7,25.6,21.2,14.5,9.1999999999999993,7.5]
[null,"Huesca",6.1,9.6,14.3,18.7,20.3,22.1,23.1,20.9,16.899999999999999,11.3,7.2,5.0999999999999996]
[null,"Jaén",6.7,10.1,14.4,18,20.3,24.4,26.7,24.1,19.2,11.9,8.1,6.5]
[null,"Palmas de Gran Canarias",11.2,14.2,17.8,19.600000000000001,21.7,22.5,24.3,21.9,19.8,15.1,12.3,10.7]
[null,"León",5.8,8.6999999999999993,13.8,17.2,19.5,22.1,24.2,20.9,17.2,10.4,7,4.8]
[null,"Lleida",6,9.9,18,18.8,20.9,22.6,23.8,21.3,16.8,12.1,7.2,4.8]
[null,"Lugo",5.0999999999999996,7.6,11.7,15.2,17.100000000000001,19.5,20.2,18.399999999999999,15,9.9,6.2,4.5]
[null,"Madrid",6.7,10.6,13.6,18.8,20.9,23.5,26,23.1,16.899999999999999,11.4,7.5,5.9]
[null,"Málaga",8.3000000000000007,12,15.5,18.5,23.2,24.5,26.5,23.2,19,13.6,9.3000000000000007,8]
[null,"Melilla",9.4,12.6,17.2,20.3,23,24.8,24.8,22.6,18.3,14.2,10.9,8.6999999999999993]
[null,"Murcia",10.1,14.8,16.600000000000001,20.399999999999999,24.2,25.6,27.7,23.5,18.600000000000001,13.9,9.8000000000000007,8.1]
[null,"Pamplona",5,7.4,12.3,14.5,17.100000000000001,18.899999999999999,20.5,18.2,16.2,10.199999999999999,6,4.5]
[null,"Orense",4.7,7.3,11.3,14,16.2,17.600000000000001,18.3,16.600000000000001,14.3,9.4,5.6,4.3]
[null,"Palencia",5.3,9,13.2,17.5,19.7,21.8,24.1,21.6,17.100000000000001,10.9,6.6,4.5999999999999996]
[null,"Pontevedra",5.5,8.1999999999999993,13,15.7,17.5,20.399999999999999,22,18.899999999999999,15.1,11.3,6.8,5.5]
[null,"Logroño",5.6,8.8000000000000007,13.7,16.600000000000001,19.2,21.4,23.3,20.8,16.2,10.7,6.8,4.8]
[null,"Salamanca",6.1,9.5,13.5,17.100000000000001,19.7,22.8,24.6,22.6,17.5,11.3,7.4,5.2]
[null,"Segovia",5.7,8.8000000000000007,13.4,18.399999999999999,20.399999999999999,22.6,25.7,24.9,18.8,11.4,6.8,5.0999999999999996]
[null,"Sevilla",7.3,10.9,14.4,19.2,22.4,24.3,24.9,23,17.899999999999999,12.3,8.8000000000000007,6.9]
[null,"Soria",5.9,8.6999999999999993,12.8,17.100000000000001,19.7,21.8,24.1,22.3,17.5,11.1,7.6,5.6]
[null,"Santa Cruz de Tenerife",10.7,13.3,18.100000000000001,21.5,25.7,26.5,29.3,26.6,21.2,16.2,10.8,9.3000000000000007]
[null,"Tarragona",7.3,10.7,14.9,17.600000000000001,20.2,22.5,23.8,20.5,16.399999999999999,12.3,8.8000000000000007,6.3]
[null,"Teruel",6.1,8.8000000000000007,12.9,16.7,18.399999999999999,20.6,21.8,20.7,16.899999999999999,11,7.1,5.3]
[null,"Toledo",6.2,9.5,14,19.3,21,24.4,27.2,24.5,18.100000000000001,11.9,7.6,5.6]
[null,"Valencia",7.6,10.6,14.9,18.100000000000001,20.6,22.8,23.8,20.7,16.7,12,8.6999999999999993,6.6]
[null,"Valladolid",5.5,8.8000000000000007,13.9,17.2,19.899999999999999,22.6,25.1,23,18.3,11.2,6.9,4.2]
[null,"San Sebastian",5,7.1,10.8,12.7,15.5,16.7,17.899999999999999,15.7,13.1,9.3000000000000007,6,4.5999999999999996]
[null,"Zamora",5.4,8.9,13.2,17.3,22.2,21.6,23.5,22,17.2,11.1,6.7,4.5999999999999996]
[null,"Zaragoza",6.3,9.8000000000000007,15.2,18.3,21.8,24.2,25.1,23.4,18.3,12.1,7.4,5.7]
[]
[null,"Radiación global media diaria kWh/m2 dia.  Atlas  de radiación solaren España AEMET 2012.  Datos SAF 1983-2005"]
[null,null,"ENERO ","FEBRERO","MARZO","ABRIL","MAYO","JUNIO","JULIO","AGOSTO","SEPTIEMBRE","OCTUBRE","NOVIEMBRE","DICIEMBRE","anual"]
[null,"Albacete",2.4900000000000002,3.39,4.72,5.97,6.65,7.65,7.96,6.91,5.51,3.75,2.64,2.11,4.9800000000000004]
[null,"Alicante",2.61,3.49,4.7,6.13,6.92,7.65,7.96,6.91,5.51,3.75,2.64,2.11,5.05]
[null,"Almería",2.84,3.72,4.93,6.52,7.21,7.94,7.89,7.02,5.71,4.1500000000000004,3.02,2.46,5.29]
[null,"Ávila",2.13,3.06,4.4400000000000004,5.45,6.15,7.31,7.72,6.66,5.17,3.37,2.29,1.81,4.63]
[null,"Badajoz",2.4300000000000002,3.34,4.8,5.84,6.8,7.84,8.06,7.12,5.61,3.79,2.63,1.98,5.0199999999999996]
[null,"Barcelona",2.1800000000000002,3.14,4.34,5.69,6.47,7.1,7.33,6.12,4.78,3.33,2.31,1.91,4.5599999999999996]
[null,"Bilbao",1.56,2.23,3.43,4.3,5.17,5.55,5.49,4.87,4.08,2.72,1.7,1.38,3.54]
[null,"Burgos",1.69,2.5499999999999998,4.08,4.96,6.04,7.22,7.42,6.44,4.96,3.05,1.92,1.45,4.3099999999999996]
[null,"Cáceres",2.39,3.34,4.79,5.86,6.82,7.81,8.08,7.07,5.54,3.66,2.56,1.98,4.99]
[null,"Cádiz",2.77,3.71,5.03,6.37,7.29,7.9,7.96,7.11,5.8,4.13,2.96,2.38,5.28]
[null,"Castellón",2.4300000000000002,3.34,4.53,5.88,6.52,7.24,7.48,6.38,5.03,3.63,2.5499999999999998,2.08,4.76]
[null,"Ceuta",2.57,3.31,4.41,5.97,6.74,7.64,7.61,6.72,5.38,3.69,2.68,2.15,4.91]
[null,"Ciudad Real",2.36,3.39,4.8499999999999996,5.92,6.7,7.81,8.09,7.13,5.62,3.8,2.61,2.0099999999999998,5.03]
[null,"Córdoba",2.62,3.53,4.91,5.92,6.76,7.85,8.1199999999999992,7.19,5.7,3.88,2.79,2.23,5.12]
[null,"Coruña, La",1.6,2.34,3.62,4.62,5.64,6.36,6.3,5.71,4.3899999999999997,2.71,1.74,1.34,3.86]
[null,"Cuenca",2.2400000000000002,3.18,4.49,5.4,6.26,7.44,7.85,6.83,5.3,3.45,2.38,1.9,4.7300000000000004]
[null,"Gerona",2.14,3.04,4.2699999999999996,5.29,5.99,6.56,7.03,5.93,4.71,3.25,2.27,1.86,4.3600000000000003]
[null,"Granada",2.77,3.64,4.92,5.98,6.88,7.9,8.07,7.18,5.73,4.05,2.92,2.37,5.2]
[null,"Guadalajara",2.2000000000000002,3.17,4.58,5.66,6.54,7.7,7.95,6.96,5.41,3.52,2.34,1.85,4.82]
[null,"Huelva",2.69,3.63,4.97,6.12,7.01,7.92,8.07,7.2,5.78,4.04,2.92,2.2799999999999998,5.22]
[null,"Huesca",2.06,3.25,4.67,5.82,6.68,7.48,7.69,6.58,5.24,3.47,2.33,1.79,4.76]
[null,"Jaén",2.68,3.57,4.9400000000000004,6.06,6.86,7.95,8.1199999999999992,7.18,5.69,3.95,2.82,2.29,5.18]
[null,"León",1.86,2.86,4.28,5.35,6.21,7.39,7.58,6.57,4.99,3.13,2.09,1.56,4.49]
[null,"Lleida",1.98,3.25,4.7300000000000004,6.03,6.81,7.6,7.72,6.61,5.29,3.55,2.29,1.64,4.79]
[null,"Logroño",1.77,2.66,4.07,4.9800000000000004,5.85,6.8,7.05,6.13,4.76,3.07,1.97,1.54,4.22]
[null,"Lugo",1.65,2.37,3.64,4.49,5.32,6.27,6.33,5.71,4.3499999999999996,2.71,1.79,1.4,3.83]
[null,"Madrid",2.27,3.25,4.6500000000000004,5.75,6.6,7.74,8.0399999999999991,7,5.47,3.56,2.4300000000000002,1.87,4.88]
[null,"Málaga",2.78,3.6,4.8499999999999996,6.15,7,7.87,7.97,7.05,5.76,4.07,2.92,2.36,5.2]
[null,"Melilla",2.86,3.7,4.82,6.32,6.76,7.29,7.35,6.66,5.55,4.13,3.04,2.57,5.09]
[null,"Murcia",2.72,3.6,4.8,6.29,6.96,7.73,7.89,6.87,5.51,3.99,2.88,2.35,5.13]
[null,"Orense",1.74,2.56,3.82,4.72,5.69,6.8,6.96,6.18,4.66,2.87,1.84,1.44,4.1100000000000003]
[null,"Oviedo",1.77,2.4300000000000002,3.6,4.46,4.99,5.34,5.29,4.8,4.0999999999999996,2.74,1.87,1.49,3.57]
[null,"Palencia",1.89,2.96,4.4400000000000004,5.46,6.38,7.51,7.72,6.74,5.19,3.29,2.14,1.61,4.6100000000000003]
[null,"Palma de Mallorca",2.3199999999999998,3.13,4.46,5.86,6.68,7.51,7.58,6.63,4.9800000000000004,3.6,2.5,2.0499999999999998,4.7699999999999996]
[null,"Pamplona",1.62,2.4900000000000002,3.8,4.58,5.66,6.62,6.86,5.95,4.5999999999999996,2.96,1.87,1.47,4.04]
[null,"Pontevedra",1.74,2.5299999999999998,3.82,4.76,5.77,6.73,6.76,6.05,4.6399999999999997,2.9,1.88,1.44,4.08]
[null,"Salamanca",2.08,3.09,4.49,5.56,6.44,7.6,7.82,6.84,5.27,3.43,2.2799999999999998,1.78,4.72]
[null,"San Sebastian",1.53,2.2200000000000002,3.49,4.3899999999999997,5.18,5.62,5.59,4.93,4.1100000000000003,2.59,1.66,1.33,3.55]
[null,"Santander",1.6,2.34,3.6,4.5999999999999996,5.33,5.8,5.71,5.04,4.18,2.69,1.69,1.36,3.66]
[null,"Segovia",2,2.9,4.32,5.26,6.09,7.3,7.7,6.67,5.15,3.29,2.16,1.72,4.55]
[null,"Sevilla",2.72,3.66,5.03,6.14,6.99,7.88,8.1,7.2,5.78,4.0199999999999996,2.92,2.33,5.23]
[null,"Soria",1.96,2.92,4.33,5.27,6.12,7.15,7.48,6.43,4.9800000000000004,3.23,2.16,1.72,4.4800000000000004]
[null,"Tarragona",2.2599999999999998,3.25,4.46,5.76,6.51,7.26,7.44,7.14,4.87,3.42,2.41,1.98,4.6500000000000004]
[null,"Teruel",2.31,3.27,4.5599999999999996,5.63,6.39,7.27,7.59,6.54,5.22,3.57,2.44,1.93,4.7300000000000004]
[null,"Toledo",2.38,3.35,4.8099999999999996,5.94,6.71,7.85,8.09,7.08,5.57,3.72,2.5499999999999998,1.95,5]
[null,"Valencia",2.52,3.4,4.68,6.07,6.78,7.48,7.68,6.62,5.28,3.78,2.67,2.13,4.92]
[null,"Valladolid",1.92,3.01,4.47,5.53,6.48,7.55,7.75,6.79,5.26,3.36,2.1800000000000002,1.64,4.66]
[null,"Vitoria",1.56,2.3199999999999998,3.58,4.46,5.4,6.11,6.28,5.49,4.37,2.83,1.79,1.38,3.8]
[null,"Zamora",1.93,3.06,4.53,5.6,6.53,7.67,7.8,6.85,5.24,3.39,2.21,1.67,4.71]
[null,"Zaragoza",2.0499999999999998,3.21,4.66,5.82,6.75,7.56,7.76,6.64,5.25,3.52,2.35,1.79,4.78]
[null,"Palmas de Gran Canarias",3.5,4.1399999999999997,5.03,5.95,6.51,6.22,6.06,6.05,5.64,4.7,3.71,3.24,5.0599999999999996]
[null,"Santa Cruz de Tenerife",3.47,4.22,5.04,6.11,6.59,7.22,7.6,7.02,5.9,4.79,3.7,3.17,5.4]

{"sheet":"Datos CTE","index":13,"n_rows":65,"n_cols":12,"rows_kept":65,"cut":false,"hidden":true,"merged":[[58,1,58,3],[3,1,3,3],[27,1,27,3],[38,1,38,3],[44,1,44,3],[49,1,49,3]]}
[]
[null,"DATOS CTE  HE-4     CONTRIBUCIÓN SOLAR MÍNIMA"]
[]
[null,"Consumo acs a 60ºC   CTE HE4 2013 Tabla 3,1"]
[null,"Viviendas",28,"Nº de personas:","nº"]
[null,"Sin otros usos",0]
[null,"Hospitales y clinicas",55,"Nº de personas:","nº"]
[null,"Hoteles 5 ****",69,"Nº de personas:","nº"]
[null,"Hoteles 4 ****",55,"Nº de personas:","nº"]
[null,"Hotel 3 ***",41,"Nº de personas:","nº"]
[null,"Hotel / Hostal 2 **",34,"Nº de personas:","nº"]
[null,"Camping",21,"Nº de personas:","nº"]
[null,"Hostal / Pensión 1 *",28,"Nº de personas:","nº"]
[null,"Residencia publica",41,"Nº de personas:","nº"]
[null,"Centro penitenciario",28,"Nº de personas:","nº"]
[null,"Albergue",24,"Nº de personas:","nº"]
[null,"Vestuarios/duchas colectivas",21,"Nº de personas:","nº"]
[null,"Escuelas sin duchas",4,"Nº de personas:","nº"]
[null,"Escuelas con duchas",21,"Nº de personas:","nº"]
[null,"Cuarteles",28,"Nº de personas:","nº"]
[null,"Fábricas y talleres",21,"Nº de personas:","nº"]
[null,"Administrativos",2,"Nº de personas:","nº"]
[null,"Gimnasios",21,"Nº de personas:","nº"]
[null,"Restaurantes",8,"Nº de personas:","nº"]
[null,"Cafeterías",1,"Nº de personas:","nº"]
[null,"Otros (1 l/d por persona)",1,"Demanda de litros ACS/día a 60ºC","l/d"]
[]
[null,"Contribución solar mínima  CTE HE4 Tabla 2.1"]
[]
[null,"Zona climática",{"$f":"'HE-4 SOLAR'!D7","v":"IV"},null,"fila",{"$f":"MATCH(C31,B35:B37,1)","v":1}]
[null,"Vol. Acumulación",{"$f":"'HE-4 SOLAR'!L28","v":1612.8},null,"columna",{"$f":"MATCH(C30,$E$34:$I$34,1)","v":4}]
[null,"%min solar",{"$f":"INDEX($E$35:$I$37,$F$30,$F$31)","v":0.5}]
[]
[null,"min","max",null,"I","II","III","IV","V"]
[null,50,5000,null,0.3,0.3,0.4,0.5,0.6]
[null,5001,10000,null,0.3,0.4,0.5,0.6,0.7]
[null,10001,null,null,0.3,0.5,0.6,0.7,0.7]
[]
[null,"Pérdidas Límite   CTE HE4 Tabla 2.4"]
[null,null,null,"Orientación e inclinación","Sombras","Total"]
[1,"General",null,0.1,0.1,0.15]
[2,"Superposición",null,0.2,0.15,0.3]
[3,"Integración",null,0.4,0.2,0.5]
[]
[null,"Calculo de ocupación en uso residencial vivienda"]
[null,null,null,"nº Dormitorios",1,2,3,4,5,6,7,">7"]
[]
[null,null,null,"Nº Ocupantes (2013)",1.5,3,4,5,6,6,7,7]
[]
[null,"Factor de centralización"]
[null,null,null,null,"limites","factor"]
[null,"nº viviendas",{"$f":"SUM('HE-4 SOLAR'!J23:P23)","v":16},null,3,1]
[null,"fila",{"$f":"IF(C52=0,0,IF(C52<=3,1,MATCH(C52,$E$52:$E$58,1)+1))","v":3},null,10,0.95]
[null,"factor",{"$f":"IF(C52<=0,0,INDEX($E$52:$F$58,$C$53,2))","v":0.9},null,20,0.9]
[null,null,null,null,50,0.85]
[null,null,null,null,75,0.8]
[null,null,null,null,100,0.75]
[null,null,null,null,10000,0.7]
[null,"Zona radiación solar"]
[]
[null,"Radiación global anual",{"$f":"'Datos SOLAR'!F4","v":17.593375999999999},"MJ/m2 dia","I",0,13.6999999999999]
[null,"fila",{"$f":"MATCH($C$61,$G$61:$G$65,1)+1","v":4},null,"II",13.7,15.0999999999999]
[null,"Zona radiación",{"$f":"IF(C61<13.7,\"I\",INDEX(E61:E65,C62,1))","v":"IV"},null,"III",15.1,16.599999999999898]
[null,null,null,null,"IV",16.600000000000001,17.999999999999901]
[null,null,null,null,"V",18,100000]

{"sheet":"Factor K","index":14,"n_rows":238,"n_cols":23,"rows_kept":238,"cut":false,"hidden":true,"merged":[[2,2,2,22],[12,2,25,2],[27,2,40,2],[207,2,220,2],[117,2,130,2],[132,2,145,2],[147,2,160,2],[162,2,175,2],[177,2,190,2],[192,2,205,2],[42,2,55,2],[57,2,70,2],[72,2,85,2],[87,2,100,2],[102,2,115,2]]}
[]
[null,null,"Factor de corrección k para superficies inclinadas"]
[null,null,"Representa el cociente entre la energía total incidente en un día sobre una superficie orientada hacia el ecuador (sur en el hemisferio norte, norte en el hemisferio sur) e inclinada un determinado ángulo y y la energía total incidente en un día sobre una  superficie horizontal"]
[null,null,"Los valores están obtenidos del anexo X del Pliego de Condiciones Técnicas de Instalaciones de baja temperatura,  IDAE, 2002, tomados a su vez de CENSOLAR"]
[]
[null,null,"Provincia",{"$f":"'HE-4 SOLAR'!D6","v":"Madrid"},null,null,null,"Localizacion factor K"]
[null,null,"Latitud",{"$f":"'HE-4 SOLAR'!D9","v":40.4},null,null,null,null,"fila Enero",{"$f":"VLOOKUP($D$8,$A$225:$B$238,2,FALSE)","v":122}]
[null,null,"Latitud (Redond)",{"$f":"ROUND(D7,0)","v":40},null,null,null,null,"columna",{"$f":"MATCH($D$9,E13:W13,0)","v":8}]
[null,null,"Inclinación",{"$f":"MROUND('HE-4 SOLAR'!D39,5)","v":35},null,"Enero","Febrero","Marzo","Abril","Mayo","Junio","Julio","Agosto","Septiembre","Octubre","Noviembre","Diciembre"," "]
[null,null,"Factor K",null,null,{"$f":"INDEX($E$13:$W$221,$J$7,$J$8)","v":1.37},{"$f":"INDEX($E$13:$W$221,$J$7+1,$J$8)","v":1.28},{"$f":"INDEX($E$13:$W$221,$J$7+2,$J$8)","v":1.17},{"$f":"INDEX($E$13:$W$221,$J$7+3,$J$8)","v":1.06},{"$f":"INDEX($E$13:$W$221,$J$7+4,$J$8)","v":0.98},{"$f":"INDEX($E$13:$W$221,$J$7+5,$J$8)","v":0.95},{"$f":"INDEX($E$13:$W$221,$J$7+6,$J$8)","v":0.98},{"$f":"INDEX($E$13:$W$221,$J$7+7,$J$8)","v":1.07},{"$f":"INDEX($E$13:$W$221,$J$7+8,$J$8)","v":1.21},{"$f":"INDEX($E$13:$W$221,$J$7+9,$J$8)","v":1.37},{"$f":"INDEX($E$13:$W$221,$J$7+10,$J$8)","v":1.47},{"$f":"INDEX($E$13:$W$221,$J$7+11,$J$8)","v":1.45}]
[]
[28]
[null,1,28,"Inclinación",0,5,10,15,20,25,30,35,40,45,50,55,60,65,70,75,80,85,90]
[null,{"$f":"B13+1","v":2},null,"Enero",1,1.05,1.1000000000000001,1.1399999999999999,1.17,1.2,1.22,1.23,1.24,1.23,1.22,1.2,1.18,1.1399999999999999,1.1000000000000001,1.06,1,0.94,0.88]
[null,3,null,"Febrero",1,1.04,1.08,1.1100000000000001,1.1299999999999999,1.1499999999999999,1.1499999999999999,1.1599999999999999,1.1499999999999999,1.1399999999999999,1.1200000000000001,1.0900000000000001,1.05,1.01,0.97,0.91,0.86,0.79,0.72]
[null,4,null,"Marzo",1,1.03,1.05,1.07,1.08,1.08,1.07,1.06,1.04,1.01,0.98,0.94,0.9,0.85,0.79,0.73,0.66,0.59,0.52]
[null,5,null,"Abril",1,1.01,1.02,1.02,1.02,1,0.98,0.96,0.92,0.89,0.84,0.79,0.73,0.67,0.61,0.54,0.47,0.39,0.32]
[null,6,null,"Mayo",1,1,1,0.99,0.97,0.95,0.92,0.88,0.84,0.79,0.73,0.68,0.61,0.55000000000000004,0.48,0.4,0.33,0.25,0.17]
[null,7,null,"Junio",1,1,0.99,0.98,0.95,0.93,0.89,0.85,0.8,0.75,0.69,0.63,0.56999999999999995,0.5,0.42,0.35,0.27,0.19,0.11]
[null,8,null,"Julio",1," ",1,0.99,0.97,0.95,0.92,0.88,0.84,0.79,0.73,0.67,0.61,0.54,0.47,0.39,0.32,0.24,0.16]
[null,9,null,"Agosto",1,1.02,1.02,1.03,1.02,1.01,0.99,0.96,0.93,0.89,0.84,0.79,0.73,0.67,0.6,0.53,0.46,0.38,0.31]
[null,10,null,"Septiembre",1,1.03,1.06,1.08,1.0900000000000001,1.0900000000000001,1.0900000000000001,1.08,1.06,1.04,1,0.96,0.92,0.86,0.81,0.74,0.67,0.6,0.53]
[null,11,null,"Octubre",1,1.05,1.1000000000000001,1.1299999999999999,1.1599999999999999,1.19,1.2,1.21,1.21,1.2,1.18,1.1499999999999999,1.1200000000000001,1.08,1.03,0.97,0.91,0.84,0.77]
[null,12,null,"Noviembre",1,1.06,1.1200000000000001,1.17,1.21,1.25,1.27,1.29,1.3,1.3,1.3,1.28,1.26,1.22,1.18,1.1399999999999999,1.08,1.02,0.95]
[null,13,null,"Diciembre",1,1.06,1.1200000000000001,1.17,1.21,1.24,1.27,1.29,1.3,1.3,1.3,1.28,1.26,1.23,1.19,1.1499999999999999,1.1000000000000001,1.04,0.98]
[null,14,null,"Media anual",{"$f":"SUM(E14:E25)/12","v":1},{"$f":"SUM(F14:F25)/12","v":0.94583333333333341},1.0549999999999999,1.0733333333333333,1.0816666666666668,1.0866666666666667,1.0808333333333331,1.0708333333333331,1.0525,1.0275000000000001,0.99416666666666675,0.95499999999999974,0.91166666666666674,0.86,0.8041666666666667,0.74250000000000005,0.6775000000000001,0.60583333333333322,0.53500000000000003]
[29,{"$f":"B26+1","v":15}]
[null,16,29,{"$f":"$D$13","v":"Inclinación"},{"$f":"E$13","v":0},{"$f":"F$13","v":5},10,15,20,25,30,35,40,45,50,55,60,65,70,75,80,85,90]
[null,17,null,{"$f":"D$14","v":"Enero"},1,1.05,1.1000000000000001,1.1499999999999999,1.18,1.21,1.23,1.24,1.25,1.24,1.23,1.22,1.19,1.1599999999999999,1.1200000000000001,1.07,1.02,0.96,0.9]
[null,18,null,{"$f":"D$15","v":"Febrero"},1,1.04,1.08,1.1100000000000001,1.1399999999999999,1.1499999999999999,1.1599999999999999,1.17,1.1599999999999999,1.1499999999999999,1.1299999999999999,1.1000000000000001,1.07,1.03,0.98,0.93,0.87,0.81,0.74]
[null,19,null,{"$f":"D$16","v":"Marzo"},1,1.03,1.05,1.07,1.08,1.08,1.08,1.07,1.05,1.02,0.99,0.95,0.91,0.86,0.8,0.74,0.68,0.61,0.54]
[null,20,null,{"$f":"D$17","v":"Abril"},1,1.02,1.02,1.03,1.02,1.01,0.99,0.97,0.93,0.9,0.85,0.8,0.75,0.69,0.62,0.55000000000000004,0.48,0.41,0.33]
[null,21,null,{"$f":"D$18","v":"Mayo"},1,1,1,0.99,0.98,0.95,0.92,0.89,0.85,0.8,0.75,0.69,0.63,0.56000000000000005,0.49,0.42,0.34,0.26,0.18]
[null,22,null,{"$f":"D$19","v":"Junio"},1,1,0.99,0.98,0.96,0.93,0.9,0.86,0.81,0.76,0.71,0.64,0.57999999999999996,0.51,0.44,0.36,0.28000000000000003,0.21,0.13]
[null,23,null,{"$f":"D$20","v":"Julio"},1,1,1,0.99,0.98,0.95,0.92,0.89,0.85,0.8,0.74,0.68,0.62,0.55000000000000004,0.48,0.41,0.33,0.25,0.17]
[null,24,null,{"$f":"D$21","v":"Agosto"},1,1.02,1.03,1.03,1.03,1.01,1,0.97,0.94,0.9,0.85,0.8,0.75,0.69,0.62,0.55000000000000004,0.48,0.4,0.32]
[null,25,null,{"$f":"D$22","v":"Septiembre"},1,1.03,1.06,1.08,1.1000000000000001,1.1000000000000001,1.1000000000000001,1.0900000000000001,1.07,1.05,1.02,0.98,0.93,0.88,0.82,0.76,0.69,0.62,0.54]
[null,26,null,{"$f":"D$23","v":"Octubre"},1,1.05,1.1000000000000001,1.1399999999999999,1.17,1.2,1.21,1.22,1.22,1.21,1.19,1.17,1.1399999999999999,1.1000000000000001,1.05,0.99,0.93,0.87,0.79]
[null,27,null,{"$f":"D$24","v":"Noviembre"},1,1.07,1.1200000000000001,1.18,1.22,1.26,1.28,1.3,1.32,1.32,1.31,1.3,1.28,1.24,1.2,1.1599999999999999,1.1000000000000001,1.04,0.97]
[null,28,null,{"$f":"D$25","v":"Diciembre"},1,1.06,1.1200000000000001,1.17,1.22,1.25,1.28,1.3,1.31,1.32,1.31,1.3,1.28,1.25,1.22,1.17,1.1200000000000001,1.06,1]
[null,29,null,{"$f":"D$26","v":"Media anual"},{"$f":"SUM(E29:E40)/12","v":1},{"$f":"SUM(F29:F40)/12","v":1.0308333333333335},1.0558333333333334,1.0766666666666667,1.0900000000000001,1.0916666666666666,1.0891666666666664,1.0808333333333335,1.0633333333333332,1.0391666666666666,1.0066666666666666,0.96916666666666673,0.92749999999999988,0.87666666666666659,0.82000000000000017,0.75916666666666666,0.69333333333333336,0.625,0.5508333333333334]
[34,{"$f":"B41+1","v":30}]
[null,{"$f":"B42+1","v":31},34,{"$f":"$D$13","v":"Inclinación"},{"$f":"E$13","v":0},{"$f":"F$13","v":5},{"$f":"G$13","v":10},15,20,25,30,35,40,45,50,55,60,65,70,75,80,85,90]
[null,{"$f":"B43+1","v":32},null,{"$f":"D$14","v":"Enero"},1,1.06,1.1200000000000001,1.17,1.21,1.25,1.27,1.29,1.31,1.31,1.31,1.3,1.28,1.25,1.21,1.17,1.1200000000000001,1.06,1]
[null,33,null,{"$f":"D$15","v":"Febrero"},1,1.05,1.1000000000000001,1.1299999999999999,1.1599999999999999,1.19,1.2,1.21,1.21,1.21,1.19,1.17,1.1399999999999999,1.1100000000000001,1.06,1.01,0.96,0.9,0.83]
[null,34,null,{"$f":"D$16","v":"Marzo"},1,1.04,1.07,1.0900000000000001,1.1100000000000001,1.1200000000000001,1.1200000000000001,1.1100000000000001,1.1000000000000001,1.08,1.05,1.02,0.98,0.93,0.88,0.82,0.76,0.69,0.62]
[null,35,null,{"$f":"D$17","v":"Abril"},1,1.02,1.04,1.05,1.05,1.04,1.03,1.01,0.98,0.95,0.91,0.86,0.81,0.75,0.69,0.63,0.53,0.48,0.41]
[null,36,null,{"$f":"D$18","v":"Mayo"},1,1.01,1.01,1.01,1,0.98,0.96,0.93,0.89,0.85,0.8,0.75,0.69,0.63,0.56000000000000005,0.49,0.41,0.34,0.26]
[null,37,null,{"$f":"D$19","v":"Junio"},1,1.01,1.01,1,0.98,0.96,0.94,0.9,0.86,0.81,0.76,0.7,0.64,0.57999999999999996,0.51,0.43,0.36,0.28000000000000003,0.2]
[null,38,null,{"$f":"D$20","v":"Julio"},1,1.01,1.02,1.01,1,0.99,0.96,0.93,0.89,0.85,0.8,0.75,0.69,0.62,0.55000000000000004,0.48,0.41,0.33,0.25]
[null,39,null,{"$f":"D$21","v":"Agosto"},1,1.02,1.04,1.05,1.05,1.05,1.03,1.01,0.99,0.95,0.91,0.87,0.82,0.76,0.69,0.63,0.56000000000000005,0.48,0.4]
[null,40,null,{"$f":"D$22","v":"Septiembre"},1,1.04,1.08,1.1100000000000001,1.1299999999999999,1.1399999999999999,1.1399999999999999,1.1399999999999999,1.1299999999999999,1.1100000000000001,1.0900000000000001,1.05,1.01,0.96,0.91,0.85,0.78,0.71,0.64]
[null,41,null,{"$f":"D$23","v":"Octubre"},1,1.06,1.1200000000000001,1.17,1.21,1.24,1.27,1.28,1.29,1.29,1.28,1.26,1.23,1.2,1.1499999999999999,1.1000000000000001,1.04,0.98,0.91]
[null,42,null,{"$f":"D$24","v":"Noviembre"},1,1.08,1.1399999999999999,1.21,1.26,1.31,1.34,1.37,1.39,1.4,1.41,1.4,1.38,1.36,1.32,1.28,1.23,1.17,1.1000000000000001]
[null,43,null,{"$f":"D$25","v":"Diciembre"},1,1.07,1.1399999999999999,1.2,1.25,1.3,1.33,1.36,1.38,1.4,1.4,1.39,1.38,1.36,1.32,1.28,1.27,1.18,1.1200000000000001]
[null,44,null,{"$f":"D$26","v":"Media anual"},{"$f":"SUM(E44:E55)/12","v":1},{"$f":"SUM(F44:F55)/12","v":1.0391666666666666},1.0741666666666667,1.0999999999999999,1.1175000000000002,1.1308333333333336,1.1325000000000001,1.1283333333333332,1.1183333333333332,1.1008333333333331,1.0758333333333334,1.0433333333333334,1.0041666666666667,0.95916666666666661,0.90416666666666679,0.84749999999999981,0.78583333333333349,0.71666666666666667,0.64500000000000013]
[35,{"$f":"B56+1","v":45}]
[null,46,35,{"$f":"$D$13","v":"Inclinación"},{"$f":"E$13","v":0},{"$f":"F$13","v":5},10,15,20,25,30,35,40,45,50,55,60,65,70,75,80,85,90]
[null,47,null,{"$f":"D$14","v":"Enero"},1,1.06,1.1200000000000001,1.17,1.22,1.25,1.28,1.31,1.32,1.33,1.32,1.31,1.29,1.27,1.23,1.19,1.1399999999999999,1.0900000000000001,1.02]
[null,48,null,{"$f":"D$15","v":"Febrero"},1,1.05,1.1000000000000001,1.1399999999999999,1.17,1.2,1.21,1.22,1.23,1.22,1.21,1.19,1.1599999999999999,1.1200000000000001,1.08,1.03,0.98,0.92,0.85]
[null,49,null,{"$f":"D$16","v":"Marzo"},1,1.04,1.07,1.0900000000000001,1.1100000000000001,1.1200000000000001,1.1299999999999999,1.1200000000000001,1.1100000000000001,1.0900000000000001,1.07,1.03,0.99,0.95,0.9,0.84,0.78,0.71,0.64]
[null,50,null,{"$f":"D$17","v":"Abril"},1,1.02,1.04,1.05,1.05,1.05,1.04,1.02,0.99,0.96,0.92,0.87,0.82,0.77,0.71,0.64,0.56999999999999995,0.5,0.42]
[null,51,null,{"$f":"D$18","v":"Mayo"},1,1.01,1.02,1.02,1.01,0.99,0.97,0.94,0.9,0.86,0.81,0.76,0.7,0.64,0.56999999999999995,0.5,0.43,0.35,0.27]
[null,52,null,{"$f":"D$19","v":"Junio"},1,1.01,1.01,1,0.99,0.97,0.94,0.91,0.87,0.82,0.77,0.72,0.66,0.59,0.52,0.45,0.37,0.28999999999999998,0.21]
[null,53,null,{"$f":"D$20","v":"Julio"},1,1.01,1.02,1.02,1.01,0.99,0.97,0.94,0.9,0.86,0.81,0.76,0.7,0.64,0.56999999999999995,0.5,0.42,0.34,0.26]
[null,54,null,{"$f":"D$21","v":"Agosto"},1,1.03,1.04,1.05,1.06,1.05,1.04,1.02,1,0.97,0.93,0.88,0.83,0.77,0.71,0.64,0.56999999999999995,0.5,0.42]
[null,55,null,{"$f":"D$22","v":"Septiembre"},1,1.04,1.08,1.1100000000000001,1.1299999999999999,1.1499999999999999,1.1499999999999999,1.1499999999999999,1.1399999999999999,1.1299999999999999,1.1000000000000001,1.07,1.03,0.98,0.93,0.87,0.8,0.73,0.66]
[null,56,null,{"$f":"D$23","v":"Octubre"},1,1.06,1.1200000000000001,1.17,1.22,1.25,1.28,1.29,1.3,1.3,1.3,1.28,1.25,1.22,1.18,1.1299999999999999,1.07,1,0.93]
[null,57,null,{"$f":"D$24","v":"Noviembre"},1,1.08,1.1499999999999999,1.21,1.27,1.32,1.36,1.39,1.41,1.42,1.43,1.42,1.41,1.38,1.35,1.31,1.26,1.2,1.1299999999999999]
[null,58,null,{"$f":"D$25","v":"Diciembre"},1,1.07,1.1399999999999999,1.21,1.26,1.31,1.35,1.38,1.4,1.41,1.42,1.41,1.4,1.38,1.35,1.31,1.26,1.21,1.1499999999999999]
[null,59,null,{"$f":"D$26","v":"Media anual"},{"$f":"SUM(E59:E70)/12","v":1},{"$f":"SUM(F59:F70)/12","v":1.04},1.0758333333333332,1.1033333333333333,1.125,1.1375000000000002,1.1433333333333333,1.1408333333333331,1.1308333333333336,1.114166666666667,1.0908333333333333,1.0583333333333333,1.0200000000000002,0.97583333333333311,0.92499999999999993,0.86750000000000005,0.8041666666666667,0.73666666666666669,0.66333333333333322]
[36,{"$f":"B71+1","v":60}]
[null,{"$f":"B72+1","v":61},36,{"$f":"$D$13","v":"Inclinación"},{"$f":"E$13","v":0},{"$f":"F$13","v":5},{"$f":"G$13","v":10},15,20,25,30,35,40,45,50,55,60,65,70,75,80,85,90]
[null,62,null,{"$f":"D$14","v":"Enero"},1,1.07,1.1299999999999999,1.18,1.22,1.26,1.29,1.32,1.33,1.34,1.34,1.33,1.31,1.29,1.25,1.21,1.1599999999999999,1.1100000000000001,1.05]
[null,63,null,{"$f":"D$15","v":"Febrero"},1,1.05,1.1000000000000001,1.1399999999999999,1.18,1.2,1.22,1.23,1.24,1.23,1.22,1.2,1.17,1.1399999999999999,1.1000000000000001,1.05,1,0.94,0.87]
[null,64,null,{"$f":"D$16","v":"Marzo"},1,1.04,1.07,1.1000000000000001,1.1200000000000001,1.1299999999999999,1.1299999999999999,1.1299999999999999,1.1200000000000001,1.1000000000000001,1.08,1.05,1.01,0.96,0.91,0.85,0.79,0.73,0.65]
[null,65,null,{"$f":"D$17","v":"Abril"},1,1.02,1.04,1.05,1.06,1.05,1.04,1.02,1,0.97,0.93,0.89,0.84,0.78,0.72,0.66,0.59,0.52,0.44]
[null,66,null,{"$f":"D$18","v":"Mayo"},1,1.01,1.02,1.02,1.01,1,0.98,0.95,0.91,0.87,0.82,0.77,0.71,0.65,0.59,0.52,0.44,0.37,0.28999999999999998]
[null,67,null,{"$f":"D$19","v":"Junio"},1,1.01,1.01,1.01,0.99,0.98,0.95,0.92,0.88,0.84,0.78,0.73,0.67,0.6,0.53,0.46,0.39,0.31,0.23]
[null,68,null,{"$f":"D$20","v":"Julio"},1,1.01,1.02,1.02,1.01,1,0.98,0.95,0.91,0.87,0.82,0.77,0.71,0.65,0.57999999999999996,0.51,0.44,0.36,0.28000000000000003]
[null,69,null,{"$f":"D$21","v":"Agosto"},1,1.03,1.05,1.06,1.06,1.06,1.05,1.03,1.01,0.98,0.94,0.9,0.84,0.79,0.73,0.66,0.59,0.51,0.44]
[null,70,null,{"$f":"D$22","v":"Septiembre"},1,1.05,1.08,1.1200000000000001,1.1399999999999999,1.1599999999999999,1.1599999999999999,1.1599999999999999,1.1599999999999999,1.1399999999999999,1.1200000000000001,1.08,1.05,1,0.95,0.89,0.82,0.75,0.68]
[null,71,null,{"$f":"D$23","v":"Octubre"},1,1.07,1.1299999999999999,1.18,1.22,1.26,1.29,1.31,1.32,1.32,1.31,1.3,1.27,1.24,1.2,1.1499999999999999,1.0900000000000001,1.03,0.96]
[null,72,null,{"$f":"D$24","v":"Noviembre"},1,1.08,1.1499999999999999,1.22,1.28,1.33,1.37,1.4,1.43,1.44,1.45,1.44,1.43,1.41,1.37,1.33,1.28,1.23,1.1599999999999999]
[null,73,null,{"$f":"D$25","v":"Diciembre"},1,1.08,1.1499999999999999,1.21,1.27,1.32,1.36,1.39,1.41,1.43,1.44,1.43,1.42,1.4,1.37,1.33,1.29,1.23,1.17]
[null,74,null,{"$f":"D$26","v":"Media anual"},{"$f":"SUM(E74:E85)/12","v":1},1.0433333333333332,1.0791666666666666,1.1091666666666666,1.1300000000000001,1.1458333333333333,1.1516666666666666,1.1508333333333334,1.1433333333333333,1.1275000000000002,1.1041666666666667,1.0741666666666667,1.0358333333333334,0.99250000000000005,0.94166666666666676,0.8849999999999999,0.82333333333333325,0.75749999999999995,0.68499999999999994]
[37,{"$f":"B86+1","v":75}]
[null,76,37,{"$f":"$D$13","v":"Inclinación"},{"$f":"E$13","v":0},{"$f":"F$13","v":5},{"$f":"G$13","v":10},15,20,25,30,35,40,45,50,55,60,65,70,75,80,85,90]
[null,77,null,{"$f":"D$14","v":"Enero"},1,1.07,1.1299999999999999,1.18,1.23,1.27,1.3,1.33,1.35,1.35,1.35,1.35,1.33,1.31,1.27,1.23,1.19,1.1299999999999999,1.07]
[null,78,null,{"$f":"D$15","v":"Febrero"},1,10.6,1.1000000000000001,1.1499999999999999,1.18,1.21,1.23,1.24,1.25,1.25,1.24,1.22,1.19,1.1599999999999999,1.1200000000000001,1.07,1.02,0.96,0.89]
[null,79,null,{"$f":"D$16","v":"Marzo"},1,10.4,1.08,1.1000000000000001,1.1200000000000001,1.1399999999999999,1.1399999999999999,1.1399999999999999,1.1299999999999999,1.1100000000000001,1.0900000000000001,1.06,1.02,0.98,0.93,0.87,0.81,0.74,0.67]
[null,80,null,{"$f":"D$17","v":"Abril"},1,10.3,1.05,1.06,1.06,1.06,1.05,1.03,1.01,0.98,0.94,0.9,0.85,0.8,0.74,0.67,0.6,0.53,0.46]
[null,81,null,{"$f":"D$18","v":"Mayo"},1,1.01,1.02,1.02,1.02,1,0.98,0.96,0.92,0.88,0.84,0.78,0.73,0.67,0.6,0.53,0.46,0.38,0.3]
[null,82,null,{"$f":"D$19","v":"Junio"},1,1.01,1.01,1.01,1,0.98,0.96,0.93,0.89,0.85,0.8,0.74,0.68,0.62,0.55000000000000004,0.48,0.4,0.32,0.25]
[null,83,null,{"$f":"D$20","v":"Julio"},1,1.02,1.02,1.02,1.02,1,0.98,0.96,0.92,0.88,0.84,0.78,0.73,0.66,0.6,0.53,0.45,0.38,0.3]
[null,84,null,{"$f":"D$21","v":"Agosto"},1,1.03,1.05,1.06,1.07,1.07,1.06,1.04,1.02,0.99,0.95,0.91,0.86,0.8,0.74,0.68,0.6,0.53,0.45]
[null,85,null,{"$f":"D$22","v":"Septiembre"},1,1.05,1.0900000000000001,1.1200000000000001,1.1499999999999999,1.1599999999999999,1.17,1.17,1.17,1.1499999999999999,1.1299999999999999,1.1000000000000001,1.06,1.02,0.97,0.91,0.84,0.77,0.7]
[null,86,null,{"$f":"D$23","v":"Octubre"},1,1.07,1.1299999999999999,1.19,1.23,1.27,1.3,1.32,1.34,1.34,1.33,1.32,1.3,1.26,1.22,1.17,1.1200000000000001,1.05,0.98]
[null,87,null,{"$f":"D$24","v":"Noviembre"},1,1.08,1.1599999999999999,1.23,1.29,1.34,1.38,1.42,1.44,1.46,1.47,1.47,1.45,1.43,1.4,1.6,1.31,1.26,1.19]
[null,88,null,{"$f":"D$25","v":"Diciembre"},1,1.08,1.1499999999999999,1.22,1.28,1.33,1.37,1.41,1.43,1.45,1.46,1.45,1.44,1.42,1.4,1.36,1.31,1.26,1.2]
[null,89,null,{"$f":"D$26","v":"Media anual"},{"$f":"SUM(E89:E100)/12","v":1},{"$f":"SUM(F89:F100)/12","v":3.3933333333333331},1.0825,1.1133333333333333,1.1375,1.1525000000000001,1.1600000000000001,1.1624999999999999,1.1558333333333333,1.1408333333333331,1.1200000000000001,1.0900000000000001,1.0533333333333332,1.0108333333333333,0.96166666666666678,0.92499999999999993,0.84250000000000014,0.77583333333333337,0.70499999999999996]
[38,{"$f":"B101+1","v":90}]
[null,91,38,{"$f":"$D$13","v":"Inclinación"},0,5,10,15,20,25,30,35,40,45,50,55,60,65,70,75,80,85,90]
[null,92,null,{"$f":"D$14","v":"Enero"},1,1.07,1.1299999999999999,1.19,1.24,1.28,1.31,1.34,1.36,1.37,1.37,1.36,1.35,1.33,1.29,1.25,1.21,1.1499999999999999,1.0900000000000001]
[null,93,null,{"$f":"D$15","v":"Febrero"},1,1.06,1.1100000000000001,1.1499999999999999,1.19,1.22,1.24,1.25,1.26,1.26,1.25,1.23,1.21,1.18,1.1399999999999999,1.0900000000000001,1.04,0.98,0.91]
[null,94,null,{"$f":"D$16","v":"Marzo"},1,1.04,1.08,1.1100000000000001,1.1299999999999999,1.1399999999999999,1.1499999999999999,1.1499999999999999,1.1399999999999999,1.1299999999999999,1.1000000000000001,1.07,1.04,0.99,0.94,0.89,0.83,0.76,0.69]
[null,95,null,{"$f":"D$17","v":"Abril"},1,1.03,1.05,1.06,1.07,1.07,1.06,1.04,1.02,0.99,0.96,0.91,0.86,0.81,0.75,0.69,0.62,0.55000000000000004,0.47]
[null,96,null,{"$f":"D$18","v":"Mayo"},1,1.02,1.02,1.03,1.02,1.01,0.99,0.96,0.93,0.89,0.85,0.8,0.74,0.68,0.61,0.54,0.47,0.4,0.32]
[null,97,null,{"$f":"D$19","v":"Junio"},1,1.01,1.02,1.01,1.01,0.99,0.97,0.94,0.9,0.86,0.81,0.75,0.69,0.63,0.56000000000000005,0.49,0.42,0.34,0.26]
[null,98,null,{"$f":"D$20","v":"Julio"},1,1.02,1.03,1.03,1.02,1.01,0.99,0.97,0.93,0.89,0.85,0.8,0.74,0.68,0.61,0.54,0.47,0.39,0.31]
[null,99,null,{"$f":"D$21","v":"Agosto"},1,1.03,1.05,1.07,1.07,1.08,1.07,1.05,1.03,1,0.97,0.92,0.87,0.82,0.76,0.69,0.62,0.55000000000000004,0.47]
[null,100,null,{"$f":"D$22","v":"Septiembre"},1,1.05,1.0900000000000001,1.1299999999999999,1.1499999999999999,1.17,1.18,1.19,1.18,1.17,1.1499999999999999,1.1200000000000001,1.08,1.04,0.98,0.93,0.86,0.79,0.72]
[null,101,null,{"$f":"D$23","v":"Octubre"},1,1.07,1.1399999999999999,1.19,1.24,1.28,1.31,1.34,1.35,1.36,1.35,1.34,1.32,1.29,1.25,1.2,1.1399999999999999,1.08,1.01]
[null,102,null,{"$f":"D$24","v":"Noviembre"},1,1.08,1.1599999999999999,1.23,1.3,1.35,1.4,1.43,1.46,1.48,1.49,1.49,1.48,1.46,1.43,1.39,1.34,1.29,1.22]
[null,103,null,{"$f":"D$25","v":"Diciembre"},1,1.08,1.1599999999999999,1.22,1.29,1.34,1.38,1.42,1.45,1.47,1.48,1.48,1.47,1.45,1.42,1.39,1.34,1.29,1.23]
[null,104,null,{"$f":"D$26","v":"Media anual"},{"$f":"SUM(E104:E115)/12","v":1},{"$f":"SUM(F104:F115)/12","v":1.0466666666666666},1.0866666666666667,1.1183333333333334,1.1441666666666668,1.1616666666666666,1.1708333333333334,1.1733333333333331,1.1674999999999998,1.1558333333333335,1.1358333333333335,1.1058333333333334,1.0708333333333335,1.03,0.97833333333333317,0.92416666666666669,0.86333333333333329,0.79749999999999999,0.72499999999999998]
[39,{"$f":"B116+1","v":105}]
[null,106,39,{"$f":"$D$13","v":"Inclinación"},{"$f":"E$13","v":0},{"$f":"F$13","v":5},{"$f":"G$13","v":10},15,20,25,30,35,40,45,50,55,60,65,70,75,80,85,90]
[null,107,null,{"$f":"D$14","v":"Enero"},1,1.07,1.1399999999999999,1.19,1.25,1.29,1.33,1.35,1.37,1.38,1.39,1.38,1.37,1.35,1.32,1.28,1.23,1.18,1.1200000000000001]
[null,108,null,{"$f":"D$15","v":"Febrero"},1,1.06,1.1100000000000001,1.1599999999999999,1.2,1.23,1.25,1.27,1.27,1.27,1.26,1.25,1.22,1.19,1.1499999999999999,1.1100000000000001,1.06,1,0.93]
[null,109,null,{"$f":"D$16","v":"Marzo"},1,1.04,1.08,1.1100000000000001,1.1399999999999999,1.1499999999999999,1.1599999999999999,1.1599999999999999,1.1499999999999999,1.1399999999999999,1.1200000000000001,1.0900000000000001,1.05,1.01,0.96,0.91,0.84,0.78,0.71]
[null,110,null,{"$f":"D$17","v":"Abril"},1,1.03,1.05,1.07,1.07,1.07,1.07,1.05,1.03,1,0.97,0.93,0.88,0.83,0.77,0.7,0.64,0.56000000000000005,0.49]
[null,111,null,{"$f":"D$18","v":"Mayo"},1,1.02,1.03,1.03,1.03,1.02,1,0.97,0.94,0.9,0.86,0.81,0.75,0.69,0.63,0.56000000000000005,0.49,0.41,0.33]
[null,112,null,{"$f":"D$19","v":"Junio"},1,1.01,1.02,1.02,1.01,1,0.97,0.94,0.91,0.87,0.82,0.77,0.71,0.65,0.57999999999999996,0.51,0.43,0.35,0.28000000000000003]
[null,113,null,{"$f":"D$20","v":"Julio"},1,1.02,1.03,1.03,1.03,1.02,1,0.98,0.94,0.9,0.86,0.81,0.75,0.69,0.63,0.56000000000000005,0.48,0.41,0.33]
[null,114,null,{"$f":"D$21","v":"Agosto"},1,1.03,1.06,1.07,1.08,1.08,1.08,1.06,1.04,1.01,0.98,0.94,0.89,0.83,0.77,0.71,0.64,0.56000000000000005,0.49]
[null,115,null,{"$f":"D$22","v":"Septiembre"},1,1.05,1.1000000000000001,1.1299999999999999,1.1599999999999999,1.18,1.19,1.2,1.19,1.18,1.1599999999999999,1.1299999999999999,1.1000000000000001,1.05,1,0.95,0.88,0.81,0.74]
[null,116,null,{"$f":"D$23","v":"Octubre"},1,1.07,1.1399999999999999,1.2,1.25,1.29,1.33,1.35,1.37,1.37,1.37,1.36,1.34,1.31,1.27,1.23,1.17,1.1100000000000001,1.04]
[null,117,null,{"$f":"D$24","v":"Noviembre"},1,1.0900000000000001,1.17,1.24,1.31,1.36,1.41,1.45,1.48,1.5,1.51,1.51,1.51,1.49,1.46,1.42,1.37,1.32,1.25]
[null,118,null,{"$f":"D$25","v":"Diciembre"},1,1.08,1.1599999999999999,1.23,1.29,1.35,1.4,1.43,1.46,1.48,1.5,1.5,1.49,1.47,1.45,1.41,1.37,1.32,1.26]
[null,119,null,{"$f":"D$26","v":"Media anual"},{"$f":"SUM(E119:E130)/12","v":1},{"$f":"SUM(F119:F130)/12","v":1.0475000000000001},1.0908333333333333,1.1233333333333333,1.1516666666666666,1.1699999999999997,1.1824999999999999,1.1841666666666666,1.1791666666666665,1.1666666666666667,1.1500000000000001,1.1233333333333333,1.0883333333333332,1.0466666666666669,0.99916666666666654,0.94583333333333341,0.88333333333333341,0.8175,0.74750000000000005]
[40,{"$f":"B131+1","v":120}]
[null,121,40,{"$f":"$D$13","v":"Inclinación"},{"$f":"E$13","v":0},{"$f":"F$13","v":5},{"$f":"G$13","v":10},15,20,25,30,35,40,45,50,55,60,65,70,75,80,85,90]
[null,122,null,{"$f":"D$14","v":"Enero"},1,1.07,1.1399999999999999,1.2,1.25,1.1299999999999999,1.1339999999999999,1.37,1.39,1.4,1.41,1.4,1.39,1.37,1.034,1.3,1.25,1.2,1.1399999999999999]
[null,123,null,{"$f":"D$15","v":"Febrero"},1,1.06,1.1100000000000001,1.1599999999999999,1.2,1.23,1.26,1.28,1.29,1.29,1.28,1.27,1.24,1.21,1.17,1.1299999999999999,1.08,1.02,0.95]
[null,124,null,{"$f":"D$16","v":"Marzo"},1,1.05,1.08,1.1200000000000001,1.1399999999999999,1.1599999999999999,1.17,1.17,1.1599999999999999,1.1499999999999999,1.1299999999999999,1.1000000000000001,1.07,1.03,0.98,0.92,0.86,0.8,0.73]
[null,{"$f":"B136+1","v":125},null,{"$f":"D$17","v":"Abril"},1,1.03,1.05,1.07,1.08,1.08,1.07,1.06,1.04,1.01,0.98,0.94,0.89,0.84,0.78,0.72,0.65,0.57999999999999996,0.5]
[null,126,null,{"$f":"D$18","v":"Mayo"},1,1.02,1.03,1.03,1.03,1.02,1.01,0.98,0.95,0.91,0.87,0.82,0.77,0.71,0.64,0.56999999999999995,0.5,0.43,0.35]
[null,127,null,{"$f":"D$19","v":"Junio"},1,1.01,1.02,1.02,1.02,1,0.98,0.95,0.92,0.88,0.83,0.78,0.72,0.66,0.59,0.52,0.45,0.37,0.28999999999999998]
[null,128,null,{"$f":"D$20","v":"Julio"},1,1.02,1.03,1.04,1.03,1.02,1.01,0.98,0.95,0.92,0.87,0.82,0.77,0.71,0.64,0.56999999999999995,0.5,0.42,0.34]
[null,129,null,{"$f":"D$21","v":"Agosto"},1,1.03,1.06,1.08,1.0900000000000001,1.0900000000000001,1.0900000000000001,1.07,1.05,1.03,0.99,0.95,0.9,0.85,0.79,0.73,0.66,0.57999999999999996,0.5]
[null,130,null,{"$f":"D$22","v":"Septiembre"},1,1.05,1.1000000000000001,1.1399999999999999,1.17,1.19,1.2,1.21,1.21,1.2,1.18,1.1499999999999999,1.1200000000000001,1.07,1.02,0.97,0.9,0.84,0.76]
[null,131,null,{"$f":"D$23","v":"Octubre"},1,1.08,1.1399999999999999,1.21,1.26,1.3,1.34,1.37,1.39,1.39,1.39,1.38,1.36,1.34,1.3,1.25,1.2,1.1399999999999999,1.07]
[null,132,null,{"$f":"D$24","v":"Noviembre"},1,1.0900000000000001,1.17,1.25,1.32,1.38,1.43,1.47,1.5,1.52,1.54,1.54,1.53,1.51,1.49,1.45,1.41,1.35,1.29]
[null,133,null,{"$f":"D$25","v":"Diciembre"},1,1.0900000000000001,1.1599999999999999,1.24,1.3,1.36,1.41,1.45,1.48,1.5,1.52,1.52,1.51,1.5,1.47,1.44,1.4,1.35,1.29]
[null,134,null,{"$f":"D$26","v":"Media anual"},{"$f":"SUM(E134:E145)/12","v":1},{"$f":"SUM(F134:F145)/12","v":1.05},{"$f":"SUM(G134:G145)/12","v":1.0908333333333333},1.1300000000000001,1.1575000000000002,1.1633333333333331,1.1753333333333333,1.1966666666666668,1.1941666666666668,1.1833333333333333,1.1658333333333333,1.1391666666666664,1.1058333333333332,1.0666666666666667,0.99199999999999999,0.96416666666666651,0.90500000000000014,0.83999999999999986,0.76750000000000007]
[41,{"$f":"B146+1","v":135}]
[null,136,41,{"$f":"$D$13","v":"Inclinación"},{"$f":"E$13","v":0},{"$f":"F$13","v":5},{"$f":"G$13","v":10},15,20,25,30,35,40,45,50,55,60,65,70,75,80,85,90]
[null,137,null,{"$f":"D$14","v":"Enero"},1,1.07,1.1140000000000001,1.21,1.26,1.31,1.35,1.38,1.4,1.42,1.42,1.42,1.41,1.39,1.36,1.32,1.28,1.23,1.17]
[null,138,null,{"$f":"D$15","v":"Febrero"},1,1.06,1.1200000000000001,1.17,1.21,1.24,1.27,1.2,1.3,1.3,1.3,1.28,1.26,1.23,1.19,1.1499999999999999,1.1000000000000001,1.04,0.98]
[null,139,null,{"$f":"D$16","v":"Marzo"},1,1.05,1.0900000000000001,1.1200000000000001,1.1499999999999999,1.17,1.18,1.18,1.18,1.1599999999999999,1.1399999999999999,1.1200000000000001,1.08,1.04,0.99,0.94,0.88,0.82,0.74]
[null,140,null,{"$f":"D$17","v":"Abril"},1,1.03,1.06,1.07,1.08,1.0900000000000001,1.08,1.07,1.05,1.03,0.99,0.95,0.91,0.85,0.8,0.73,0.67,0.6,0.52]
[null,141,null,{"$f":"D$18","v":"Mayo"},1,1.02,1.03,1.04,1.04,1.03,1.01,0.99,0.96,0.93,0.88,0.83,0.78,0.72,0.66,0.59,0.52,0.44,0.36]
[null,142,null,{"$f":"D$19","v":"Junio"},1,1.02,1.02,1.03,1.02,1.01,0.99,0.96,0.93,0.89,0.84,0.79,0.73,0.67,0.61,0.54,0.46,0.39,0.31]
[null,143,null,{"$f":"D$20","v":"Julio"},1,1.02,1.03,1.04,1.04,1.03,1.02,0.99,0.96,0.93,0.88,0.84,0.78,0.72,0.66,0.59,0.52,0.44,0.36]
[null,144,null,{"$f":"D$21","v":"Agosto"},1,1.03,1.06,1.08,1.0900000000000001,1.1000000000000001,1.0900000000000001,1.08,1.06,1.04,1.01,0.97,0.92,0.87,0.81,0.74,0.67,0.6,0.52]
[null,145,null,{"$f":"D$22","v":"Septiembre"},1,1.05,1.1000000000000001,1.1399999999999999,1.17,1.2,1.21,1.22,1.22,1.21,1.19,1.17,1.1399999999999999,1.0900000000000001,1.04,0.99,0.93,0.86,0.78]
[null,146,null,{"$f":"D$23","v":"Octubre"},1,1.08,1.1499999999999999,1.21,1.27,1.32,1.35,1.38,1.4,1.41,1.41,1.41,1.39,1.36,1.32,1.28,1.23,1.1599999999999999,1.0900000000000001]
[null,147,null,{"$f":"D$24","v":"Noviembre"},1,1.0900000000000001,1.18,1.26,1.33,1.39,1.44,1.49,1.52,1.55,1.56,1.57,1.56,1.54,1.52,1.48,1.44,1.38,1.32]
[null,148,null,{"$f":"D$25","v":"Diciembre"},1,1.0900000000000001,1.17,1.24,1.31,1.37,1.42,1.47,1.5,1.52,1.54,1.54,1.54,1.53,1.5,1.47,1.43,1.38,1.32]
[null,149,null,{"$f":"D$26","v":"Media anual"},{"$f":"SUM(E149:E160)/12","v":1},{"$f":"SUM(F149:F160)/12","v":1.0508333333333333},{"$f":"SUM(G149:G160)/12","v":1.0936666666666668},1.134166666666667,1.1641666666666668,1.1883333333333335,1.2008333333333332,1.2008333333333336,1.2066666666666668,1.1991666666666667,1.18,1.1575,1.125,1.0841666666666667,1.0383333333333333,0.98499999999999999,0.92749999999999988,{"$f":"SUM(V149:V160)/12","v":0.86166666666666669},0.78916666666666657]
[42,{"$f":"B161+1","v":150}]
[null,151,42,{"$f":"$D$13","v":"Inclinación"},{"$f":"E$13","v":0},{"$f":"F$13","v":5},{"$f":"G$13","v":10},15,20,25,30,35,40,45,50,55,60,65,70,75,80,85,90]
[null,152,null,{"$f":"D$14","v":"Enero"},1,1.08,1.1499999999999999,1.21,1.27,1.32,1.36,1.39,1.42,1.43,1.44,1.44,1.43,1.41,1.38,1.35,1.3,1.25,1.19]
[null,153,null,{"$f":"D$15","v":"Febrero"},1,1.06,1.1200000000000001,1.17,1.21,1.25,1.28,1.3,1.31,1.32,1.31,1.3,1.28,1.25,1.21,1.17,1.1200000000000001,1.06,1]
[null,154,null,{"$f":"D$16","v":"Marzo"},1,1.05,1.0900000000000001,1.1299999999999999,1.1499999999999999,1.17,1.19,1.19,1.19,1.18,1.1599999999999999,1.1299999999999999,1.1000000000000001,1.06,1.1000000000000001,0.96,0.9,0.83,0.76]
[null,155,null,{"$f":"D$17","v":"Abril"},1,1.03,1.06,1.08,1.0900000000000001,1.0900000000000001,1.0900000000000001,1.08,1.06,1.04,1,0.97,0.92,0.87,0.81,0.75,0.68,0.61,0.54]
[null,156,null,{"$f":"D$18","v":"Mayo"},1,1.02,1.04,1.04,1.04,1.04,1.02,1,0.97,0.94,0.89,0.85,0.79,0.74,0.67,0.6,0.53,0.46,0.38]
[null,157,null,{"$f":"D$19","v":"Junio"},1,1.02,1.03,1.03,1.03,1.01,1,0.97,0.94,0.9,0.86,0.8,0.75,0.69,0.62,0.55000000000000004,0.48,0.4,0.32]
[null,158,null,{"$f":"D$20","v":"Julio"},1,1.02,1.04,1.04,1.05,1.04,1.02,1,0.97,0.94,0.9,0.85,0.8,0.74,0.67,0.6,0.53,0.46,0.38]
[null,159,null,{"$f":"D$21","v":"Agosto"},1,1.04,1.06,1.0900000000000001,1.1000000000000001,1.1000000000000001,1.1000000000000001,1.0900000000000001,1.08,1.05,1.02,0.98,0.93,0.88,0.82,0.76,0.69,0.62,0.54]
[null,160,null,{"$f":"D$22","v":"Septiembre"},1,1.06,1.1100000000000001,1.1499999999999999,1.18,1.21,1.23,1.23,1.24,1.23,1.21,1.19,1.1499999999999999,1.1100000000000001,1.07,1.01,0.95,0.88,0.81]
[null,161,null,{"$f":"D$23","v":"Octubre"},1,1.08,1.1499999999999999,1.22,1.28,1.33,1.37,1.4,1.42,1.43,1.44,1.43,1.41,1.39,1.35,1.31,1.25,1.19,1.1200000000000001]
[null,162,null,{"$f":"D$24","v":"Noviembre"},1,1.0900000000000001,1.18,1.26,1.34,1.4,1.46,1.51,1.54,1.57,1.59,1.59,1.59,1.57,1.55,1.52,1.47,1.42,1.36]
[null,163,null,{"$f":"D$25","v":"Diciembre"},1,1.0900000000000001,1.17,1.25,1.32,1.38,1.44,1.48,1.52,1.54,1.56,1.57,1.57,1.55,1.53,1.5,1.46,1.41,1.35]
[null,164,null,{"$f":"D$26","v":"Media anual"},{"$f":"SUM(E164:E175)/12","v":1},{"$f":"SUM(F164:F175)/12","v":1.0533333333333335},1.0999999999999999,1.1391666666666669,1.1716666666666666,1.1950000000000001,1.2133333333333334,1.22,1.2216666666666667,1.2141666666666666,1.1983333333333333,1.1749999999999998,1.1433333333333333,1.1050000000000002,1.0649999999999999,1.0066666666666666,0.94666666666666666,0.88249999999999995,{"$f":"SUM(W164:W175)/12","v":0.8125}]
[43,{"$f":"B176+1","v":165}]
[null,166,43,{"$f":"$D$13","v":"Inclinación"},{"$f":"E$13","v":0},{"$f":"F$13","v":5},10,15,20,25,30,35,40,45,50,55,60,65,70,75,80,85,90]
[null,167,null,{"$f":"D$14","v":"Enero"},1,1.08,1.1499999999999999,1.22,1.28,1.33,1.37,1.41,1.43,1.45,1.46,1.46,1.45,1.43,1.41,1.7,1.33,1.28,1.22]
[null,168,null,{"$f":"D$15","v":"Febrero"},1,1.07,1.1200000000000001,1.18,1.22,1.26,1.29,1.31,1.33,1.33,1.33,1.32,1.3,1.27,1.23,1.19,1.1399999999999999,1.08,1.02]
[null,169,null,{"$f":"D$16","v":"Marzo"},1,1.05,1.0900000000000001,1.1299999999999999,1.1599999999999999,1.18,1.2,1.2,1.2,1.19,1.17,1.1499999999999999,1.1200000000000001,1.08,1.03,0.89,0.92,0.85,0.78]
[null,170,null,{"$f":"D$17","v":"Abril"},1,1.03,1.06,1.08,1.0900000000000001,1.1000000000000001,1.1000000000000001,1.0900000000000001,1.07,1.05,1.02,0.98,0.94,0.89,0.83,0.77,0.7,0.63,0.56000000000000005]
[null,171,null,{"$f":"D$18","v":"Mayo"},1,1.02,1.04,1.05,1.05,1.04,1.03,1.01,0.98,0.95,0.91,0.86,0.81,0.75,0.69,0.62,0.55000000000000004,0.47,0.4]
[null,172,null,{"$f":"D$19","v":"Junio"},1,1.02,1.03,1.03,1.03,1.02,1,0.98,0.95,0.91,0.87,0.82,0.76,0.7,0.64,0.56999999999999995,0.49,0.42,0.34]
[null,173,null,{"$f":"D$20","v":"Julio"},1,1.02,1.04,1.05,1.05,1.04,1.03,1.01,0.98,0.95,0.91,0.86,0.81,0.75,0.69,0.62,0.55000000000000004,0.47,0.39]
[null,174,null,{"$f":"D$21","v":"Agosto"},1,1.04,1.07,1.0900000000000001,1.1000000000000001,1.1100000000000001,1.1100000000000001,1.1000000000000001,1.0900000000000001,1.06,1.03,1,0.95,0.9,0.84,0.78,0.71,0.64,0.56000000000000005]
[null,175,null,{"$f":"D$22","v":"Septiembre"},1,1.06,1.1100000000000001,1.1499999999999999,1.19,1.22,1.24,1.25,1.25,1.24,1.23,1.21,1.17,1.3,1.0900000000000001,1.03,0.97,0.9,0.83]
[null,176,null,{"$f":"D$23","v":"Octubre"},1,1.08,1.1599999999999999,1.23,1.29,1.34,1.35,1.42,1.44,1.45,1.46,1.45,1.44,1.41,1.38,1.34,1.28,1.22,1.1599999999999999]
[null,177,null,{"$f":"D$24","v":"Noviembre"},1,1.1000000000000001,1.19,1.27,1.35,1.42,1.48,1.52,1.56,1.59,1.61,1.62,1.62,1.61,1.58,1.55,1.51,1.45,1.39]
[null,178,null,{"$f":"D$25","v":"Diciembre"},1,1.0900000000000001,1.18,1.26,1.33,1.4,1.45,1.5,1.54,1.57,1.58,1.59,1.59,1.58,1.56,1.53,1.49,1.44,1.38]
[null,179,null,{"$f":"D$26","v":"Media anual"},{"$f":"SUM(E179:E190)/12","v":1},{"$f":"SUM(F179:F190)/12","v":1.0549999999999999},1.1033333333333333,1.145,1.1783333333333335,1.2050000000000001,1.2208333333333334,1.2333333333333332,1.2350000000000001,1.2283333333333333,1.2150000000000001,1.1933333333333334,1.1633333333333333,1.1391666666666667,1.0808333333333333,1.0491666666666666,0.96999999999999986,0.90416666666666667,{"$f":"SUM(W179:W190)/12","v":0.83583333333333343}]
[44,{"$f":"B191+1","v":180}]
[null,181,44,{"$f":"$D$13","v":"Inclinación"},{"$f":"E$13","v":0},{"$f":"F$13","v":5},{"$f":"G$13","v":10},15,20,25,30,35,40,45,50,55,60,65,70,75,80,85,90]
[null,182,null,{"$f":"D$14","v":"Enero"},1,1.08,1.1599999999999999,1.22,1.28,1.34,1.38,1.42,1.45,1.47,1.48,1.48,1.47,1.46,1.43,1.4,1.36,1.31,1.25]
[null,183,null,{"$f":"D$15","v":"Febrero"},1,1.07,1.1299999999999999,1.18,1.23,1.27,1.3,1.32,1.34,1.35,1.34,1.33,1.32,1.29,1.26,1.21,1.1599999999999999,1.1100000000000001,1.04]
[null,184,null,{"$f":"D$16","v":"Marzo"},1,1.05,1.1000000000000001,1.1299999999999999,1.17,1.19,1.2,1.21,1.21,1.2,1.19,1.1599999999999999,1.1299999999999999,1.0900000000000001,1.05,1,0.94,0.87,0.8]
[null,185,null,{"$f":"D$17","v":"Abril"},1,1.04,1.06,1.0900000000000001,1.1000000000000001,1.1100000000000001,1.1100000000000001,1.1000000000000001,1.08,1.06,1.03,0.99,0.95,0.9,0.85,0.78,0.72,0.65,0.56999999999999995]
[null,186,null,{"$f":"D$18","v":"Mayo"},1,1.02,1.04,1.05,1.05,1.05,1.04,1.02,0.99,0.96,0.92,0.87,0.82,0.76,0.7,0.64,0.56000000000000005,0.49,0.41]
[null,187,null,{"$f":"D$19","v":"Junio"},1,1.02,1.03,1.04,1.04,1.03,1.01,0.99,0.96,0.92,0.88,0.83,0.78,0.72,0.65,0.57999999999999996,0.51,0.43,0.35]
[null,188,null,{"$f":"D$20","v":"Julio"},1,1.02,1.04,1.05,1.06,1.05,1.04,1.02,1,0.96,0.92,0.88,0.82,0.77,0.7,0.64,0.56000000000000005,0.49,0.41]
[null,{"$f":"B200+1","v":189},null,{"$f":"D$21","v":"Agosto"},1,1.04,1.07,1.0900000000000001,1.1100000000000001,1.1200000000000001,1.1200000000000001,1.1100000000000001,1.1000000000000001,1.08,1.05,1.01,0.97,0.92,0.86,0.8,0.73,0.66,0.57999999999999996]
[null,190,null,{"$f":"D$22","v":"Septiembre"},1,1.06,1.1100000000000001,1.1599999999999999,1.2,1.23,1.25,1.26,1.26,1.26,1.25,1.22,1.19,1.1599999999999999,1.1100000000000001,1.06,0.99,0.93,0.85]
[null,191,null,{"$f":"D$23","v":"Octubre"},1,1.0900000000000001,1.1599999999999999,1.23,1.3,1.35,1.4,1.43,1.46,1.48,1.48,1.48,1.47,1.44,1.41,1.37,1.32,1.26,1.19]
[null,192,null,{"$f":"D$24","v":"Noviembre"},1,1.1000000000000001,1.19,1.28,1.36,1.43,1.49,1.54,1.59,1.62,1.64,1.65,1.65,1.64,1.62,1.59,1.54,1.49,1.43]
[null,193,null,{"$f":"D$25","v":"Diciembre"},1,1.1000000000000001,1.18,1.27,1.34,1.41,1.47,1.52,1.56,1.59,1.61,1.62,1.62,1.61,1.59,1.56,1.52,1.48,1.42]
[null,194,null,{"$f":"D$26","v":"Media anual"},{"$f":"SUM(E194:E205)/12","v":1},1.0574999999999999,1.1058333333333332,1.1491666666666667,1.1866666666666665,1.2150000000000001,1.2341666666666666,1.2449999999999999,1.2500000000000002,1.2458333333333333,1.2325000000000002,1.2100000000000002,1.1825000000000001,1.1466666666666667,1.1025,1.0525,0.99250000000000005,0.93083333333333329,0.85833333333333328]
[45,{"$f":"B206+1","v":195}]
[null,196,45,{"$f":"$D$13","v":"Inclinación"},{"$f":"E$13","v":0},{"$f":"F$13","v":5},{"$f":"G$13","v":10},15,20,25,30,35,40,45,50,55,60,65,70,75,80,85,90]
[null,197,null,{"$f":"D$14","v":"Enero"},1,1.08,1.1599999999999999,1.23,1.29,1.35,1.4,1.43,1.46,1.49,1.5,1.5,1.5,1.48,1.46,1.43,1.38,1.33,1.28]
[null,198,null,{"$f":"D$15","v":"Febrero"},1,1.07,1.1299999999999999,1.19,1.24,1.28,1.31,1.34,1.35,1.36,1.36,1.35,1.34,1.31,1.28,1.24,1.19,1.1299999999999999,1.07]
[null,199,null,{"$f":"D$16","v":"Marzo"},1,1.05,1.1000000000000001,1.1399999999999999,1.17,1.2,1.21,1.22,1.22,1.22,1.2,1.18,1.1499999999999999,1.1100000000000001,1.07,1.02,0.96,0.89,0.82]
[null,200,null,{"$f":"D$17","v":"Abril"},1,1.04,1.07,1.0900000000000001,1.1100000000000001,1.1100000000000001,1.1200000000000001,1.1100000000000001,1.0900000000000001,1.07,1.04,1.01,0.97,0.92,0.86,0.8,0.74,0.66,0.59]
[null,201,null,{"$f":"D$18","v":"Mayo"},1,1.03,1.04,1.05,1.06,1.06,1.04,1.03,1,0.97,0.93,0.89,0.84,0.78,0.72,0.65,0.57999999999999996,0.51,0.43]
[null,202,null,{"$f":"D$19","v":"Junio"},1,1.02,1.04,1.04,1.04,1.03,1.02,1,0.97,0.93,0.89,0.84,0.79,0.73,0.67,0.6,0.53,0.45,0.37]
[null,203,null,{"$f":"D$20","v":"Julio"},1,1.03,1.05,1.06,1.06,1.06,1.05,1.03,1.01,0.97,0.94,0.89,0.84,0.78,0.72,0.65,0.57999999999999996,0.51,0.43]
[null,204,null,{"$f":"D$21","v":"Agosto"},1,1.04,1.07,1.1000000000000001,1.1200000000000001,1.1299999999999999,1.1299999999999999,1.1200000000000001,1.1100000000000001,1.0900000000000001,1.06,1.03,0.98,0.93,0.88,0.82,0.75,0.67,0.6]
[null,205,null,{"$f":"D$22","v":"Septiembre"},1,1.06,1.1200000000000001,1.17,1.21,1.24,1.26,1.27,1.28,1.28,1.26,1.24,1.21,1.18,1.1299999999999999,1.08,1.02,0.95,0.88]
[null,206,null,{"$f":"D$23","v":"Octubre"},1,1.0900000000000001,1.17,1.24,1.31,1.36,1.41,1.45,1.48,1.5,1.51,1.5,1.49,1.47,1.44,1.4,1.35,1.29,1.22]
[null,207,null,{"$f":"D$24","v":"Noviembre"},1,1.1000000000000001,1.2,1.29,1.37,1.45,1.51,1.56,1.61,1.64,1.67,1.68,1.68,1.67,1.65,1.62,1.58,1.53,1.47]
[null,208,null,{"$f":"D$25","v":"Diciembre"},1,1.1000000000000001,1.19,1.27,1.35,1.42,1.48,1.53,1.58,1.61,1.63,1.65,1.65,1.64,1.62,1.6,1.56,1.51,1.45]
[null,209,null,{"$f":"D$26","v":"Media anual"},{"$f":"SUM(E209:E220)/12","v":1},1.0591666666666668,1.1116666666666666,1.155833333333333,1.1941666666666666,1.2241666666666664,1.2450000000000001,1.2575000000000001,1.2633333333333332,1.2608333333333333,1.2491666666666665,1.23,1.2033333333333334,1.1666666666666667,1.125,1.0758333333333334,1.0183333333333333,0.95250000000000001,0.88416666666666643]
[]
["Fila de Enero según Latitud"]
["latitud","fila"]
[28,2]
[29,{"$f":"B225+15","v":17}]
[34,{"$f":"B226+15","v":32}]
[{"$f":"A227+1","v":35},47]
[{"$f":"A228+1","v":36},62]
[37,77]
[38,92]
[39,107]
[40,122]
[41,137]
[42,152]
[43,167]
[44,182]
[45,197]